Workbook

Sheet Suvestinė
B1: 2024
B2: Rodiklis | C2: Reikšmė
B3: Premjerų skaičius | C3: 258
B4: Lietuviškų filmų premjerų skaičius | C4: 24
B5: Bendras filmų skaičius | C5: 394
B6: Bendros pajamos | C6: 23536721
B7: Bendras žiūrovų skaičius | C7: 3641423
B9: Filmų dalis rinkoje, %
B10: Kategorija | C10: Pajamos | D10: Žiūrovų skaičius | E10: Pajamos % | F10: Žiūrovų skaičius % | G10: Filmų skaičius
B11: Lietuva | C11: 5198196.7 | D11: 748157 | E11: 20.546 | F11: 22.085 | G11: 36
B12: Europa | C12: 2507847.7 | D12: 441314 | E12: 12.119 | F12: 10.655 | G12: 177
B13: JAV | C13: 15226179 | D13: 2348328 | E13: 64.489 | F13: 64.691 | G13: 151
B14: Kita | C14: 604497.92 | D14: 103624 | E14: 2.846 | F14: 2.568 | G14: 30
B15: Total | C15: =SUBTOTAL(109,Table1[Pajamos]) -> 23536721 | D15: =SUBTOTAL(109,Table1[Žiūrovų skaičius]) -> 3641423 | E15: =SUBTOTAL(109,Table1[Pajamos %]) -> 100 | F15: =SUBTOTAL(109,Table1[Žiūrovų skaičius %]) -> 99.999 | G15: =SUBTOTAL(109,Table1[Filmų skaičius]) -> 394
B46: Pasiskirstymas pagal platintojus
A47: Eil. nr | B47: Platintojas | C47: Pajamos | D47: Žiūrovų skaičius | E47: Filmų skaičius | F47: Pajamos % | G47: Žiūrovų skaičius %
A48: =IF(B48<>"",ROWS($B$48:B48),"") -> 1 | B48: Theatrical Film Distribution / WDSMPI | C48: 3940092.7 | D48: 616614 | E48: 14 | F48: 16.74 | G48: 16.933
A49: =IF(B49<>"",ROWS($B$48:B49),"") -> 2 | B49: Dukine Film Distribution / Universal Pictures International | C49: 3228748.5 | D49: 555270 | E49: 23 | F49: 13.718 | G49: 15.249
A50: =IF(B50<>"",ROWS($B$48:B50),"") -> 3 | B50: ACME Film / SONY | C50: 2632035.1 | D50: 392035 | E50: 17 | F50: 11.183 | G50: 10.766
A51: =IF(B51<>"",ROWS($B$48:B51),"") -> 4 | B51: ACME Film / WB | C51: 2531333.4 | D51: 357568 | E51: 17 | F51: 10.755 | G51: 9.819
A52: =IF(B52<>"",ROWS($B$48:B52),"") -> 5 | B52: Vabalo filmai | C52: 2347131 | D52: 325155 | E52: 3 | F52: 9.972 | G52: 8.929
A53: =IF(B53<>"",ROWS($B$48:B53),"") -> 6 | B53: ACME Film | C53: 2257797.8 | D53: 376755 | E53: 53 | F53: 9.593 | G53: 10.346
A54: =IF(B54<>"",ROWS($B$48:B54),"") -> 7 | B54: Dukine Film Distribution / Paramount Pictures | C54: 1474572.4 | D54: 207493 | E54: 11 | F54: 6.265 | G54: 5.698
A55: =IF(B55<>"",ROWS($B$48:B55),"") -> 8 | B55: Valujavičiaus kelionės | C55: 1319613.6 | D55: 195397 | E55: 1 | F55: 5.607 | G55: 5.366
A56: =IF(B56<>"",ROWS($B$48:B56),"") -> 9 | B56: Cinema Ads | C56: 844943.79 | D56: 118879 | E56: 3 | F56: 3.59 | G56: 3.265
A57: =IF(B57<>"",ROWS($B$48:B57),"") -> 10 | B57: Adastra Cinema | C57: 732302.99 | D57: 124249 | E57: 23 | F57: 3.111 | G57: 3.412
A58: =IF(B58<>"",ROWS($B$48:B58),"") -> 11 | B58: Garsų pasaulio įrašai | C58: 481003.4 | D58: 85949 | E58: 25 | F58: 2.044 | G58: 2.36
A59: =IF(B59<>"",ROWS($B$48:B59),"") -> 12 | B59: Europos kinas | C59: 448071.58 | D59: 66228 | E59: 48 | F59: 1.904 | G59: 1.819
... A84: =IF(B84<>"",ROWS($B$48:B84),"") -> 37 | B84: M-Films | C84: 1237 | D84: 232 | E84: 2 | F84: 0.005 | G84: 0.006
A85: Total | C85: =SUBTOTAL(109,Table18[Pajamos]) -> 23536721 | D85: =SUBTOTAL(109,Table18[Žiūrovų skaičius]) -> 3641423 | E85: =SUBTOTAL(109,Table18[Filmų skaičius]) -> 394 | F85: =SUBTOTAL(109,Table18[Pajamos %]) -> 100.001 | G85: =SUBTOTAL(109,Table18[Žiūrovų skaičius %]) -> 99.997
A88: LT TOP
A89: Eil. Nr. | B89: Filmo pavadinimas | C89: Pajamos | D89: Žiūrovų skaičius | E89: Premjeros data | F89: Platintojas
A90: 1 | B90: Milijonieriaus palikimas | C90: 1373699 | D90: 194237 | E90: 45289 | F90: Vabalo filmai
A91: 2 | B91: Irklais per Atlantą | C91: 1319613.6 | D91: 195397 | E91: 45310 | F91: Valujavičiaus kelionės
A92: 3 | B92: Draugų lažybos | C92: 697613.15 | D92: 94900 | E92: 45338 | F92: Cinema Ads
A93: 4 | B93: Kaimynai | C93: 541192 | D93: 76212 | E93: 45597 | F93: Vabalo filmai
A94: 5 | B94: Reemigrantai 2 | C94: 432240 | D94: 54706 | E94: 45646 | F94: Vabalo filmai
A95: 6 | B95: Sesės | C95: 292423.93 | D95: 42681 | E95: 45555 | F95: Po mokyklos
A96: 7 | B96: Tikri farai | C96: 82435.04 | D96: 11920 | E96: 45576 | F96: All screens
A97: 8 | B97: Gardutė | C97: 80317.18 | D97: 12369 | E97: 45625 | F97: ACME Film
A98: 9 | B98: Prezidentas | C98: 78800.97 | D98: 13245 | E98: 45394 | F98: Cinema Ads
A99: 10 | B99: 10 pasimatymų | C99: 68529.67 | D99: 10734 | E99: 45506 | F99: Cinema Ads

Sheet Platintojų pasiskirstymas
A1: Platintojas | B1: Filmo pavadinimas | C1: Pajamos | D1: Žiūrovų skaičius | E1: Pajamos % | F1: Žiūrovų skaičius % | G1: Premjeros data
A2: Theatrical Film Distribution / WDSMPI | B2: Išvirkščias pasaulis 2 (Inside Out 2) | C2: 1308627.7 | D2: 226591 | E2: =_xlfn.PERCENTOF(C2,_2024[[#Totals],[Pajamos]]) -> 0.055599404 | F2: =_xlfn.PERCENTOF(D2,_2024[[#Totals],[Žiūrovų skaičius]]) -> 0.062225948 | G2: 45457
B3: Vajana 2 (Moana 2) | C3: 891792.4 | D3: 144119 | E3: =_xlfn.PERCENTOF(C3,_2024[[#Totals],[Pajamos]]) -> 0.037889407 | F3: =_xlfn.PERCENTOF(D3,_2024[[#Totals],[Žiūrovų skaičius]]) -> 0.03957766 | G3: 45625
B4: Deadpool ir Ernis (Deadpool & Wolverine) | C4: 766286.09 | D4: 99701 | E4: =_xlfn.PERCENTOF(C4,_2024[[#Totals],[Pajamos]]) -> 0.032557045 | F4: =_xlfn.PERCENTOF(D4,_2024[[#Totals],[Žiūrovų skaičius]]) -> 0.027379681 | G4: 45499
B5: Prasti reikalai (Poor Things) | C5: 362814.87 | D5: 52027 | E5: =_xlfn.PERCENTOF(C5,_2024[[#Totals],[Pajamos]]) -> 0.015414843 | F5: =_xlfn.PERCENTOF(D5,_2024[[#Totals],[Žiūrovų skaičius]]) -> 0.014287546 | G5: 45310
B6: Mufasa. Liūtas karalius (Mufasa: The Lion King) | C6: 191709.73 | D6: 30474 | E6: =_xlfn.PERCENTOF(C6,_2024[[#Totals],[Pajamos]]) -> 0.0081451332 | F6: =_xlfn.PERCENTOF(D6,_2024[[#Totals],[Žiūrovų skaičius]]) -> 0.0083687064 | G6: 45646
B7: Svetimas: Romulas (Alien: Romulus) | C7: 142024.56 | D7: 20080 | E7: =_xlfn.PERCENTOF(C7,_2024[[#Totals],[Pajamos]]) -> 0.0060341693 | F7: =_xlfn.PERCENTOF(D7,_2024[[#Totals],[Žiūrovų skaičius]]) -> 0.0055143278 | G7: 45520
B8: Beždžionių planetos karalystė (Kingdom of the Planet of the Apes ) | C8: 121991.32 | D8: 17653 | E8: =_xlfn.PERCENTOF(C8,_2024[[#Totals],[Pajamos]]) -> 0.005183021 | F8: =_xlfn.PERCENTOF(D8,_2024[[#Totals],[Žiūrovų skaičius]]) -> 0.0048478301 | G8: 45422
B9: Noras (Wish) | C9: 62395.58 | D9: 11938 | E9: =_xlfn.PERCENTOF(C9,_2024[[#Totals],[Pajamos]]) -> 0.0026509886 | F9: =_xlfn.PERCENTOF(D9,_2024[[#Totals],[Žiūrovų skaičius]]) -> 0.0032783887 | G9: 45254
B10: Malonės rūšys (Kinds of Kindness) | C10: 55185.46 | D10: 8376 | E10: =_xlfn.PERCENTOF(C10,_2024[[#Totals],[Pajamos]]) -> 0.0023446537 | F10: =_xlfn.PERCENTOF(D10,_2024[[#Totals],[Žiūrovų skaičius]]) -> 0.0023001997 | G10: 45478
B11: Pirmasis ženklas (The First Omen) | C11: 29170.77 | D11: 4058 | E11: =_xlfn.PERCENTOF(C11,_2024[[#Totals],[Pajamos]]) -> 0.0012393727 | F11: =_xlfn.PERCENTOF(D11,_2024[[#Totals],[Žiūrovų skaičius]]) -> 0.0011143995 | G11: 45387
B12: Tikslas – įvartis (Next Goal Wins) | C12: 4984.13 | D12: 817 | E12: =_xlfn.PERCENTOF(C12,_2024[[#Totals],[Pajamos]]) -> 0.00021175974 | F12: =_xlfn.PERCENTOF(D12,_2024[[#Totals],[Žiūrovų skaičius]]) -> 0.00022436284 | G12: 45303
B13: Lukas (Luca) | C13: 1389.39 | D13: 423 | E13: =_xlfn.PERCENTOF(C13,_2024[[#Totals],[Pajamos]]) -> 5.9030737e-05 | F13: =_xlfn.PERCENTOF(D13,_2024[[#Totals],[Žiūrovų skaičius]]) -> 0.00011616338 | G13: 44400
B14: Visi mes svetimi (All of Us Strangers) | C14: 1057.64 | D14: 223 | E14: =_xlfn.PERCENTOF(C14,_2024[[#Totals],[Pajamos]]) -> 4.4935741e-05 | F14: =_xlfn.PERCENTOF(D14,_2024[[#Totals],[Žiūrovų skaičius]]) -> 6.1239796e-05 | G14: 45408
B15: Undinėlė (Little Mermaid) | C15: 663.1 | D15: 134 | E15: =_xlfn.PERCENTOF(C15,_2024[[#Totals],[Pajamos]]) -> 2.8172998e-05 | F15: =_xlfn.PERCENTOF(D15,_2024[[#Totals],[Žiūrovų skaičius]]) -> 3.6798801e-05 | G15: 45072
A16: Theatrical Film Distribution / WDSMPI Total | B16: =COUNTA(B2:B15) -> 14 | C16: 3940092.7 | D16: 616614 | E16: =_xlfn.PERCENTOF(C16,_2024[[#Totals],[Pajamos]]) -> 0.16740194 | F16: =_xlfn.PERCENTOF(D16,_2024[[#Totals],[Žiūrovų skaičius]]) -> 0.16933325 | G16: 45646
A17: Dukine Film Distribution / Universal Pictures International | B17: Bjaurusis aš 4 (Despicable Me 4) | C17: 1201417.2 | D17: 208807 | E17: =_xlfn.PERCENTOF(C17,_2024[[#Totals],[Pajamos]]) -> 0.051044373 | F17: =_xlfn.PERCENTOF(D17,_2024[[#Totals],[Žiūrovų skaičius]]) -> 0.057342143 | G17: 45478
B18: Kung Fu Panda 4 (Kung Fu Panda 4) | C18: 872564.59 | D18: 151283 | E18: =_xlfn.PERCENTOF(C18,_2024[[#Totals],[Pajamos]]) -> 0.037072479 | F18: =_xlfn.PERCENTOF(D18,_2024[[#Totals],[Žiūrovų skaičius]]) -> 0.041545022 | G18: 45359
B19: Didžioji ančių kelionė (Migration) | C19: 306117.82 | D19: 58309 | E19: =_xlfn.PERCENTOF(C19,_2024[[#Totals],[Pajamos]]) -> 0.013005967 | F19: =_xlfn.PERCENTOF(D19,_2024[[#Totals],[Žiūrovų skaičius]]) -> 0.016012696 | G19: 45282
B20: Laukinukė Roz (Wild Robot) | C20: 276885.59 | D20: 49991 | E20: =_xlfn.PERCENTOF(C20,_2024[[#Totals],[Pajamos]]) -> 0.011763983 | F20: =_xlfn.PERCENTOF(D20,_2024[[#Totals],[Žiūrovų skaičius]]) -> 0.013728424 | G20: 45590
B21: Piktoji (Wicked) | C21: 159871.27 | D21: 24563 | E21: =_xlfn.PERCENTOF(C21,_2024[[#Totals],[Pajamos]]) -> 0.0067924189 | F21: =_xlfn.PERCENTOF(D21,_2024[[#Totals],[Žiūrovų skaičius]]) -> 0.0067454399 | G21: 45632
B22: Kaskadininkas (The Fall Guy) | C22: 103805.87 | D22: 14906 | E22: =_xlfn.PERCENTOF(C22,_2024[[#Totals],[Pajamos]]) -> 0.0044103794 | F22: =_xlfn.PERCENTOF(D22,_2024[[#Totals],[Žiūrovų skaičius]]) -> 0.0040934547 | G22: 45408
B23: Back To Black (Back To Black) | C23: 78277.69 | D23: 11525 | E23: =_xlfn.PERCENTOF(C23,_2024[[#Totals],[Pajamos]]) -> 0.0033257687 | F23: =_xlfn.PERCENTOF(D23,_2024[[#Totals],[Žiūrovų skaičius]]) -> 0.0031649715 | G23: 45394
B24: Nekalbėk apie blogį (Speak No Evil) | C24: 64506.47 | D24: 8839 | E24: =_xlfn.PERCENTOF(C24,_2024[[#Totals],[Pajamos]]) -> 0.0027406736 | F24: =_xlfn.PERCENTOF(D24,_2024[[#Totals],[Žiūrovų skaičius]]) -> 0.0024273478 | G24: 45548
B25: Argailas (Argylle) | C25: 45354.5 | D25: 6506 | E25: =_xlfn.PERCENTOF(C25,_2024[[#Totals],[Pajamos]]) -> 0.0019269676 | F25: =_xlfn.PERCENTOF(D25,_2024[[#Totals],[Žiūrovų skaičius]]) -> 0.0017866642 | G25: 45324
B26: Abigailė (Abigail) | C26: 33544.29 | D26: 5215 | E26: =_xlfn.PERCENTOF(C26,_2024[[#Totals],[Pajamos]]) -> 0.0014251896 | F26: =_xlfn.PERCENTOF(D26,_2024[[#Totals],[Žiūrovų skaičius]]) -> 0.0014321324 | G26: 45401
B27: Šešėlių vanduo (Night Swim) | C27: 27547.94 | D27: 4063 | E27: =_xlfn.PERCENTOF(C27,_2024[[#Totals],[Pajamos]]) -> 0.0011704239 | F27: =_xlfn.PERCENTOF(D27,_2024[[#Totals],[Žiūrovų skaičius]]) -> 0.0011157726 | G27: 45296
B28: Baikeriai (Bikeriders) | C28: 22270.72 | D28: 3457 | E28: =_xlfn.PERCENTOF(C28,_2024[[#Totals],[Pajamos]]) -> 0.00094621166 | F28: =_xlfn.PERCENTOF(D28,_2024[[#Totals],[Žiūrovų skaičius]]) -> 0.00094935414 | G28: 45485
B29: MaXXXine (MaXXXine) | C29: 9381.16 | D29: 1448 | E29: =_xlfn.PERCENTOF(C29,_2024[[#Totals],[Pajamos]]) -> 0.00039857548 | F29: =_xlfn.PERCENTOF(D29,_2024[[#Totals],[Žiūrovų skaičius]]) -> 0.00039764674 | G29: 45506
... B39: Pakalikai (Minions) | C39: 400 | D39: 80 | E39: =_xlfn.PERCENTOF(C39,_2024[[#Totals],[Pajamos]]) -> 1.6994721e-05 | F39: =_xlfn.PERCENTOF(D39,_2024[[#Totals],[Žiūrovų skaičius]]) -> 2.1969433e-05 | G39: 42188
A40: Dukine Film Distribution / Universal Pictures International Total | B40: =COUNTA(B17:B39) -> 23 | C40: 3228748.5 | D40: 555270 | E40: =_xlfn.PERCENTOF(C40,_2024[[#Totals],[Pajamos]]) -> 0.13717919 | F40: =_xlfn.PERCENTOF(D40,_2024[[#Totals],[Žiūrovų skaičius]]) -> 0.15248709 | G40: 45632
A41: ACME Film / SONY | B41: Mes dedame tašką (It Ends With Us) | C41: 856146.09 | D41: 118875 | E41: =_xlfn.PERCENTOF(C41,_2024[[#Totals],[Pajamos]]) -> 0.036374909 | F41: =_xlfn.PERCENTOF(D41,_2024[[#Totals],[Žiūrovų skaičius]]) -> 0.032645205 | G41: 45513
B42: Garfildas (The Garfield Movie) | C42: 531311.11 | D42: 98478 | E42: =_xlfn.PERCENTOF(C42,_2024[[#Totals],[Pajamos]]) -> 0.02257371 | F42: =_xlfn.PERCENTOF(D42,_2024[[#Totals],[Žiūrovų skaičius]]) -> 0.027043823 | G42: 45436
B43: Venomas 3 (Venom: The Last Dance) | C43: 436514.68 | D43: 55916 | E43: =_xlfn.PERCENTOF(C43,_2024[[#Totals],[Pajamos]]) -> 0.018546113 | F43: =_xlfn.PERCENTOF(D43,_2024[[#Totals],[Žiūrovų skaičius]]) -> 0.015355535 | G43: 45590
B44: Pašėlę vyrukai: viskas arba nieko (Bad Boys: Ride Or Die) | C44: 237660.23 | D44: 32151 | E44: =_xlfn.PERCENTOF(C44,_2024[[#Totals],[Pajamos]]) -> 0.010097423 | F44: =_xlfn.PERCENTOF(D44,_2024[[#Totals],[Žiūrovų skaičius]]) -> 0.0088292407 | G44: 45450
B45: Tik ne tu (Anyone But You) | C45: 140820.03 | D45: 21147 | E45: =_xlfn.PERCENTOF(C45,_2024[[#Totals],[Pajamos]]) -> 0.0059829927 | F45: =_xlfn.PERCENTOF(D45,_2024[[#Totals],[Žiūrovų skaičius]]) -> 0.0058073451 | G45: 45296
B46: Mirties korta (Tarot) | C46: 95429.92 | D46: 13875 | E46: =_xlfn.PERCENTOF(C46,_2024[[#Totals],[Pajamos]]) -> 0.0040545121 | F46: =_xlfn.PERCENTOF(D46,_2024[[#Totals],[Žiūrovų skaičius]]) -> 0.0038103236 | G46: 45422
B47: Vaiduoklių medžiotojai: sustingę iš baimės (Ghostbusters Frozen Empire) | C47: 89050.95 | D47: 14132 | E47: =_xlfn.PERCENTOF(C47,_2024[[#Totals],[Pajamos]]) -> 0.00378349 | F47: =_xlfn.PERCENTOF(D47,_2024[[#Totals],[Žiūrovų skaičius]]) -> 0.0038809004 | G47: 45373
B48: Napoleonas (Napoleon) | C48: 81387.02 | D48: 11491 | E48: =_xlfn.PERCENTOF(C48,_2024[[#Totals],[Pajamos]]) -> 0.0034578742 | F48: =_xlfn.PERCENTOF(D48,_2024[[#Totals],[Žiūrovų skaičius]]) -> 0.0031556345 | G48: 45261
B49: Medžiotojas Kreivenas (Kraven the Hunter) | C49: 37805.63 | D49: 4965 | E49: =_xlfn.PERCENTOF(C49,_2024[[#Totals],[Pajamos]]) -> 0.0016062403 | F49: =_xlfn.PERCENTOF(D49,_2024[[#Totals],[Žiūrovų skaičius]]) -> 0.001363478 | G49: 45639
B50: Nuskraidink mane į mėnulį (Fly Me to the Moon) | C50: 36842.24 | D50: 6030 | E50: =_xlfn.PERCENTOF(C50,_2024[[#Totals],[Pajamos]]) -> 0.0015653089 | F50: =_xlfn.PERCENTOF(D50,_2024[[#Totals],[Žiūrovų skaičius]]) -> 0.001655946 | G50: 45485
B51: Madam Web (Madame Web) | C51: 34188.53 | D51: 5219 | E51: =_xlfn.PERCENTOF(C51,_2024[[#Totals],[Pajamos]]) -> 0.0014525613 | F51: =_xlfn.PERCENTOF(D51,_2024[[#Totals],[Žiūrovų skaičius]]) -> 0.0014332309 | G51: 45345
B52: Haroldas ir magiškoji kreidelė (Harold & The Purple Crayon) | C52: 32072.66 | D52: 6250 | E52: =_xlfn.PERCENTOF(C52,_2024[[#Totals],[Pajamos]]) -> 0.0013626647 | F52: =_xlfn.PERCENTOF(D52,_2024[[#Totals],[Žiūrovų skaičius]]) -> 0.001716362 | G52: 45506
B53: Baimė (Afraid ) | C53: 16516.29 | D53: 2473 | E53: =_xlfn.PERCENTOF(C53,_2024[[#Totals],[Pajamos]]) -> 0.00070172433 | F53: =_xlfn.PERCENTOF(D53,_2024[[#Totals],[Žiūrovų skaičius]]) -> 0.00067913011 | G53: 45576
... B57: Lilas, Lilas, Krokodilas (Lyle Lyle Crocodile) | C57: 120 | D57: 48 | E57: =_xlfn.PERCENTOF(C57,_2024[[#Totals],[Pajamos]]) -> 5.0984162e-06 | F57: =_xlfn.PERCENTOF(D57,_2024[[#Totals],[Žiūrovų skaičius]]) -> 1.318166e-05 | G57: 44869
A58: ACME Film / SONY Total | B58: =COUNTA(B41:B57) -> 17 | C58: 2632035.1 | D58: 392035 | E58: =_xlfn.PERCENTOF(C58,_2024[[#Totals],[Pajamos]]) -> 0.11182675 | F58: =_xlfn.PERCENTOF(D58,_2024[[#Totals],[Žiūrovų skaičius]]) -> 0.10765984 | G58: 45639
A59: ACME Film / WB | B59: Kopa: antra dalis (Dune: Part II) | C59: 815729.43 | D59: 102575 | E59: =_xlfn.PERCENTOF(C59,_2024[[#Totals],[Pajamos]]) -> 0.034657734 | F59: =_xlfn.PERCENTOF(D59,_2024[[#Totals],[Žiūrovų skaičius]]) -> 0.028168933 | G59: 45352
B60: Vonka (Wonka) | C60: 279504.17 | D60: 48592 | E60: =_xlfn.PERCENTOF(C60,_2024[[#Totals],[Pajamos]]) -> 0.011875238 | F60: =_xlfn.PERCENTOF(D60,_2024[[#Totals],[Žiūrovų skaičius]]) -> 0.013344234 | G60: 45275
B61: Džokeris: Folie A Deux (Joker: Folie a Deux) | C61: 271467.61 | D61: 35008 | E61: =_xlfn.PERCENTOF(C61,_2024[[#Totals],[Pajamos]]) -> 0.01153379 | F61: =_xlfn.PERCENTOF(D61,_2024[[#Totals],[Žiūrovų skaičius]]) -> 0.009613824 | G61: 45569
B62: Beetlejuice Beetlejuice (Beetlejuice Beetlejuice) | C62: 215290.92 | D62: 31512 | E62: =_xlfn.PERCENTOF(C62,_2024[[#Totals],[Pajamos]]) -> 0.0091470226 | F62: =_xlfn.PERCENTOF(D62,_2024[[#Totals],[Žiūrovų skaičius]]) -> 0.0086537598 | G62: 45541
B63: Godzila ir kongas: Nauja imperija (Godzilla x Kong: The New Empire) | C63: 189998.16 | D63: 27089 | E63: =_xlfn.PERCENTOF(C63,_2024[[#Totals],[Pajamos]]) -> 0.0080724141 | F63: =_xlfn.PERCENTOF(D63,_2024[[#Totals],[Žiūrovų skaičius]]) -> 0.0074391248 | G63: 45380
B64: Kodas raudonas (Red One) | C64: 159665.65 | D64: 24275 | E64: =_xlfn.PERCENTOF(C64,_2024[[#Totals],[Pajamos]]) -> 0.0067836828 | F64: =_xlfn.PERCENTOF(D64,_2024[[#Totals],[Žiūrovų skaičius]]) -> 0.0066663499 | G64: 45604
B65: Furioza: Pašėlusio Makso saga (Furiosa: A Mad Max Saga) | C65: 114341.33 | D65: 15713 | E65: =_xlfn.PERCENTOF(C65,_2024[[#Totals],[Pajamos]]) -> 0.0048579974 | F65: =_xlfn.PERCENTOF(D65,_2024[[#Totals],[Žiūrovų skaičius]]) -> 0.0043150713 | G65: 45436
B66: Tornadų medžiotojai (Twisters) | C66: 94036.73 | D66: 13632 | E66: =_xlfn.PERCENTOF(C66,_2024[[#Totals],[Pajamos]]) -> 0.0039953199 | F66: =_xlfn.PERCENTOF(D66,_2024[[#Totals],[Žiūrovų skaičius]]) -> 0.0037435914 | G66: 45492
B67: Varžovai (Challengers) | C67: 92107.13 | D67: 13592 | E67: =_xlfn.PERCENTOF(C67,_2024[[#Totals],[Pajamos]]) -> 0.0039133373 | F67: =_xlfn.PERCENTOF(D67,_2024[[#Totals],[Žiūrovų skaičius]]) -> 0.0037326067 | G67: 45415
B68: Akvamenas 2: Prarasta karalystė (Aquaman and The Lost Kingdom) | C68: 85002.4 | D68: 12705 | E68: =_xlfn.PERCENTOF(C68,_2024[[#Totals],[Pajamos]]) -> 0.0036114801 | F68: =_xlfn.PERCENTOF(D68,_2024[[#Totals],[Žiūrovų skaičius]]) -> 0.0034890206 | G68: 45282
B69: Stebėtojai (The Watchers) | C69: 62218.45 | D69: 9700 | E69: =_xlfn.PERCENTOF(C69,_2024[[#Totals],[Pajamos]]) -> 0.0026434629 | F69: =_xlfn.PERCENTOF(D69,_2024[[#Totals],[Žiūrovų skaičius]]) -> 0.0026637938 | G69: 45450
B70: Duok ženklą (Blink Twice) | C70: 59962.37 | D70: 9653 | E70: =_xlfn.PERCENTOF(C70,_2024[[#Totals],[Pajamos]]) -> 0.0025476093 | F70: =_xlfn.PERCENTOF(D70,_2024[[#Totals],[Žiūrovų skaičius]]) -> 0.0026508868 | G70: 45527
B71: Už gretimų durų (Room Next Door) | C71: 49436.38 | D71: 7315 | E71: =_xlfn.PERCENTOF(C71,_2024[[#Totals],[Pajamos]]) -> 0.0021003937 | F71: =_xlfn.PERCENTOF(D71,_2024[[#Totals],[Žiūrovų skaičius]]) -> 0.0020088301 | G71: 45639
... B75: Williams metodas (King Richard) | C75: 278.3 | D75: 112 | E75: =_xlfn.PERCENTOF(C75,_2024[[#Totals],[Pajamos]]) -> 1.1824077e-05 | F75: =_xlfn.PERCENTOF(D75,_2024[[#Totals],[Žiūrovų skaičius]]) -> 3.0757207e-05 | G75: 44617
A76: ACME Film / WB Total | B76: =COUNTA(B59:B75) -> 17 | C76: 2531333.4 | D76: 357568 | E76: =_xlfn.PERCENTOF(C76,_2024[[#Totals],[Pajamos]]) -> 0.10754826 | F76: =_xlfn.PERCENTOF(D76,_2024[[#Totals],[Žiūrovų skaičius]]) -> 0.098194579 | G76: 45639
A77: Vabalo filmai | B77: Milijonieriaus palikimas (Milijonieriaus palikimas) | C77: 1373699 | D77: 194237 | E77: =_xlfn.PERCENTOF(C77,_2024[[#Totals],[Pajamos]]) -> 0.058364077 | F77: =_xlfn.PERCENTOF(D77,_2024[[#Totals],[Žiūrovų skaičius]]) -> 0.05334096 | G77: 45289
B78: Kaimynai (Kaimynai) | C78: 541192 | D78: 76212 | E78: =_xlfn.PERCENTOF(C78,_2024[[#Totals],[Pajamos]]) -> 0.022993517 | F78: =_xlfn.PERCENTOF(D78,_2024[[#Totals],[Žiūrovų skaičius]]) -> 0.020929181 | G78: 45597
B79: Reemigrantai 2 (Reemigrantai 2) | C79: 432240 | D79: 54706 | E79: =_xlfn.PERCENTOF(C79,_2024[[#Totals],[Pajamos]]) -> 0.018364495 | F79: =_xlfn.PERCENTOF(D79,_2024[[#Totals],[Žiūrovų skaičius]]) -> 0.015023248 | G79: 45646
A80: Vabalo filmai Total | B80: =COUNTA(B77:B79) -> 3 | C80: 2347131 | D80: 325155 | E80: =_xlfn.PERCENTOF(C80,_2024[[#Totals],[Pajamos]]) -> 0.099722089 | F80: =_xlfn.PERCENTOF(D80,_2024[[#Totals],[Žiūrovų skaičius]]) -> 0.089293389 | G80: 45646
A81: ACME Film | B81: 10 katino gyvenimų (10 Lives) | C81: 288816.21 | D81: 52837 | E81: =_xlfn.PERCENTOF(C81,_2024[[#Totals],[Pajamos]]) -> 0.012270877 | F81: =_xlfn.PERCENTOF(D81,_2024[[#Totals],[Žiūrovų skaičius]]) -> 0.014509987 | G81: 45562
B82: Sielų kolekcionierius (Longlegs) | C82: 162550.94 | D82: 23743 | E82: =_xlfn.PERCENTOF(C82,_2024[[#Totals],[Pajamos]]) -> 0.0069062695 | F82: =_xlfn.PERCENTOF(D82,_2024[[#Totals],[Žiūrovų skaičius]]) -> 0.0065202532 | G82: 45492
B83: Bitininkas (Beekeeper) | C83: 144773.95 | D83: 20851 | E83: =_xlfn.PERCENTOF(C83,_2024[[#Totals],[Pajamos]]) -> 0.0061509821 | F83: =_xlfn.PERCENTOF(D83,_2024[[#Totals],[Žiūrovų skaičius]]) -> 0.0057260582 | G83: 45303
B84: Ema ir juodasis jaguaras (Le Dernier Jaguar) | C84: 139390.89 | D84: 27037 | E84: =_xlfn.PERCENTOF(C84,_2024[[#Totals],[Pajamos]]) -> 0.0059222731 | F84: =_xlfn.PERCENTOF(D84,_2024[[#Totals],[Žiūrovų skaičius]]) -> 0.0074248446 | G84: 45331
B85: Ferrari (Ferrari) | C85: 138100.32 | D85: 20092 | E85: =_xlfn.PERCENTOF(C85,_2024[[#Totals],[Pajamos]]) -> 0.0058674409 | F85: =_xlfn.PERCENTOF(D85,_2024[[#Totals],[Žiūrovų skaičius]]) -> 0.0055176232 | G85: 45317
B86: Madam Clicquot (Widow Clicquot) | C86: 122322.7 | D86: 18392 | E86: =_xlfn.PERCENTOF(C86,_2024[[#Totals],[Pajamos]]) -> 0.0051971003 | F86: =_xlfn.PERCENTOF(D86,_2024[[#Totals],[Žiūrovų skaičius]]) -> 0.0050507727 | G86: 45548
B87: Nedžentelmeniško karo ministerija (The Ministry of Ungentlemanly Warfare) | C87: 95209.16 | D87: 13079 | E87: =_xlfn.PERCENTOF(C87,_2024[[#Totals],[Pajamos]]) -> 0.0040451327 | F87: =_xlfn.PERCENTOF(D87,_2024[[#Totals],[Žiūrovų skaičius]]) -> 0.0035917277 | G87: 45401
B88: Gardutė (Gardutė) | C88: 80317.18 | D88: 12369 | E88: =_xlfn.PERCENTOF(C88,_2024[[#Totals],[Pajamos]]) -> 0.0034124201 | F88: =_xlfn.PERCENTOF(D88,_2024[[#Totals],[Žiūrovų skaičius]]) -> 0.003396749 | G88: 45625
B89: Šuo ir katė. Pabėgimas (Chien et Chat) | C89: 75800.74 | D89: 14793 | E89: =_xlfn.PERCENTOF(C89,_2024[[#Totals],[Pajamos]]) -> 0.003220531 | F89: =_xlfn.PERCENTOF(D89,_2024[[#Totals],[Žiūrovų skaičius]]) -> 0.0040624228 | G89: 45345
B90: 200% Vilkas (200% Wolf) | C90: 71223.51 | D90: 13948 | E90: =_xlfn.PERCENTOF(C90,_2024[[#Totals],[Pajamos]]) -> 0.0030260591 | F90: =_xlfn.PERCENTOF(D90,_2024[[#Totals],[Žiūrovų skaičius]]) -> 0.0038303707 | G90: 45513
B91: Nekaltoji (Immaculate) | C91: 70573.71 | D91: 10351 | E91: =_xlfn.PERCENTOF(C91,_2024[[#Totals],[Pajamos]]) -> 0.0029984512 | F91: =_xlfn.PERCENTOF(D91,_2024[[#Totals],[Žiūrovų skaičius]]) -> 0.0028425701 | G91: 45373
B92: Nutrūktgalviai: Don Kichoto pėdsakais (Giants of La Mancha) | C92: 65981.22 | D92: 13024 | E92: =_xlfn.PERCENTOF(C92,_2024[[#Totals],[Pajamos]]) -> 0.002803331 | F92: =_xlfn.PERCENTOF(D92,_2024[[#Totals],[Žiūrovų skaičius]]) -> 0.0035766238 | G92: 45373
B93: Šuo kuris keliavo traukiniu (Lampo The Travelling Dog) | C93: 63534.67 | D93: 12139 | E93: =_xlfn.PERCENTOF(C93,_2024[[#Totals],[Pajamos]]) -> 0.0026993849 | F93: =_xlfn.PERCENTOF(D93,_2024[[#Totals],[Žiūrovų skaičius]]) -> 0.0033335869 | G93: 45583
... B133: Mažasis Princas (Little Prince (Le Petit Prince)) | C133: 150 | D133: 60 | E133: =_xlfn.PERCENTOF(C133,_2024[[#Totals],[Pajamos]]) -> 6.3730202e-06 | F133: =_xlfn.PERCENTOF(D133,_2024[[#Totals],[Žiūrovų skaičius]]) -> 1.6477075e-05 | G133: 42321
A134: ACME Film Total | B134: =COUNTA(B81:B133) -> 53 | C134: 2257797.8 | D134: 376755 | E134: =_xlfn.PERCENTOF(C134,_2024[[#Totals],[Pajamos]]) -> 0.095926609 | F134: =_xlfn.PERCENTOF(D134,_2024[[#Totals],[Žiūrovų skaičius]]) -> 0.10346367 | G134: 45653
A135: Dukine Film Distribution / Paramount Pictures | B135: Gladiatorius 2 (Gladiator 2) | C135: 683624.38 | D135: 83094 | E135: =_xlfn.PERCENTOF(C135,_2024[[#Totals],[Pajamos]]) -> 0.029045013 | F135: =_xlfn.PERCENTOF(D135,_2024[[#Totals],[Žiūrovų skaičius]]) -> 0.022819101 | G135: 45611
B136: Ežiukas Sonic 3 (Sonic the Hedgehog 3) | C136: 229845.79 | D136: 37945 | E136: =_xlfn.PERCENTOF(C136,_2024[[#Totals],[Pajamos]]) -> 0.0097654124 | F136: =_xlfn.PERCENTOF(D136,_2024[[#Totals],[Žiūrovų skaičius]]) -> 0.010420377 | G136: 45653
B137: Tylos zona. Pirmoji diena (A Quiet Place: Day One) | C137: 174726.98 | D137: 24708 | E137: =_xlfn.PERCENTOF(C137,_2024[[#Totals],[Pajamos]]) -> 0.0074235905 | F137: =_xlfn.PERCENTOF(D137,_2024[[#Totals],[Žiūrovų skaičius]]) -> 0.0067852595 | G137: 45471
B138: Šypsena 2 (Smile 2) | C138: 170316.24 | D138: 23254 | E138: =_xlfn.PERCENTOF(C138,_2024[[#Totals],[Pajamos]]) -> 0.0072361923 | F138: =_xlfn.PERCENTOF(D138,_2024[[#Totals],[Žiūrovų skaičius]]) -> 0.006385965 | G138: 45583
B139: Nematomi draugai (IF: Imaginary Friends) | C139: 101502.54 | D139: 19881 | E139: =_xlfn.PERCENTOF(C139,_2024[[#Totals],[Pajamos]]) -> 0.0043125183 | F139: =_xlfn.PERCENTOF(D139,_2024[[#Totals],[Žiūrovų skaičius]]) -> 0.0054596788 | G139: 45429
B140: Bob Marley: One Love (Bob Marley: One Love) | C140: 64625.56 | D140: 9568 | E140: =_xlfn.PERCENTOF(C140,_2024[[#Totals],[Pajamos]]) -> 0.0027457333 | F140: =_xlfn.PERCENTOF(D140,_2024[[#Totals],[Žiūrovų skaičius]]) -> 0.0026275442 | G140: 45338
B141: Transformeriai. Pradžia (Transformers One) | C141: 46210.7 | D141: 8159 | E141: =_xlfn.PERCENTOF(C141,_2024[[#Totals],[Pajamos]]) -> 0.0019633448 | F141: =_xlfn.PERCENTOF(D141,_2024[[#Totals],[Žiūrovų skaičius]]) -> 0.0022406076 | G141: 45555
B142: Šunyčiai patruliai 2. Galingas filmas (PAW Patrol: The Mighty Movie) | C142: 2195.39 | D142: 561 | E142: =_xlfn.PERCENTOF(C142,_2024[[#Totals],[Pajamos]]) -> 9.3275099e-05 | F142: =_xlfn.PERCENTOF(D142,_2024[[#Totals],[Žiūrovų skaičius]]) -> 0.00015406065 | G142: 45226
B143: Gėlių mėnulio žudikai (Killers of the Flower Moon) | C143: 1072.32 | D143: 133 | E143: =_xlfn.PERCENTOF(C143,_2024[[#Totals],[Pajamos]]) -> 4.5559447e-05 | F143: =_xlfn.PERCENTOF(D143,_2024[[#Totals],[Žiūrovų skaičius]]) -> 3.6524183e-05 | G143: 45219
B144: Ežiukas Sonic 2 (Sonic The Hedgehog 2) | C144: 407.5 | D144: 172 | E144: =_xlfn.PERCENTOF(C144,_2024[[#Totals],[Pajamos]]) -> 1.7313372e-05 | F144: =_xlfn.PERCENTOF(D144,_2024[[#Totals],[Žiūrovų skaičius]]) -> 4.7234282e-05 | G144: 44652
B145: Dičkis šuo Klifordas (Clifford The Big Red Dog) | C145: 45 | D145: 18 | E145: =_xlfn.PERCENTOF(C145,_2024[[#Totals],[Pajamos]]) -> 1.9119061e-06 | F145: =_xlfn.PERCENTOF(D145,_2024[[#Totals],[Žiūrovų skaičius]]) -> 4.9431225e-06 | G145: 44568
A146: Dukine Film Distribution / Paramount Pictures Total | B146: =COUNTA(B135:B145) -> 11 | C146: 1474572.4 | D146: 207493 | E146: =_xlfn.PERCENTOF(C146,_2024[[#Totals],[Pajamos]]) -> 0.062649865 | F146: =_xlfn.PERCENTOF(D146,_2024[[#Totals],[Žiūrovų skaičius]]) -> 0.056981295 | G146: 45653
A147: Valujavičiaus kelionės | B147: Irklais per Atlantą (Irklais per Atlantą) | C147: 1319613.6 | D147: 195397 | E147: =_xlfn.PERCENTOF(C147,_2024[[#Totals],[Pajamos]]) -> 0.05606616 | F147: =_xlfn.PERCENTOF(D147,_2024[[#Totals],[Žiūrovų skaičius]]) -> 0.053659517 | G147: 45310
A148: Valujavičiaus kelionės Total | B148: =COUNTA(B147) -> 1 | C148: 1319613.6 | D148: 195397 | E148: =_xlfn.PERCENTOF(C148,_2024[[#Totals],[Pajamos]]) -> 0.05606616 | F148: =_xlfn.PERCENTOF(D148,_2024[[#Totals],[Žiūrovų skaičius]]) -> 0.053659517 | G148: 45310
A149: Cinema Ads | B149: Draugų lažybos (Draugų lažybos) | C149: 697613.15 | D149: 94900 | E149: =_xlfn.PERCENTOF(C149,_2024[[#Totals],[Pajamos]]) -> 0.029639351 | F149: =_xlfn.PERCENTOF(D149,_2024[[#Totals],[Žiūrovų skaičius]]) -> 0.02606124 | G149: 45338
B150: Prezidentas (Prezidentas) | C150: 78800.97 | D150: 13245 | E150: =_xlfn.PERCENTOF(C150,_2024[[#Totals],[Pajamos]]) -> 0.0033480012 | F150: =_xlfn.PERCENTOF(D150,_2024[[#Totals],[Žiūrovų skaičius]]) -> 0.0036373143 | G150: 45394
B151: 10 pasimatymų (10 pasimatymų) | C151: 68529.67 | D151: 10734 | E151: =_xlfn.PERCENTOF(C151,_2024[[#Totals],[Pajamos]]) -> 0.0029116065 | F151: =_xlfn.PERCENTOF(D151,_2024[[#Totals],[Žiūrovų skaičius]]) -> 0.0029477487 | G151: 45506
A152: Cinema Ads Total | B152: =COUNTA(B149:B151) -> 3 | C152: 844943.79 | D152: 118879 | E152: =_xlfn.PERCENTOF(C152,_2024[[#Totals],[Pajamos]]) -> 0.035898959 | F152: =_xlfn.PERCENTOF(D152,_2024[[#Totals],[Žiūrovų skaičius]]) -> 0.032646303 | G152: 45506
A153: Adastra Cinema | B153: Substancija (The Substance) | C153: 129818.7 | D153: 19224 | E153: =_xlfn.PERCENTOF(C153,_2024[[#Totals],[Pajamos]]) -> 0.0055155813 | F153: =_xlfn.PERCENTOF(D153,_2024[[#Totals],[Žiūrovų skaičius]]) -> 0.0052792548 | G153: 45562
B154: Drakonų sergėtoja (Dragonkeeper) | C154: 100228.86 | D154: 19296 | E154: =_xlfn.PERCENTOF(C154,_2024[[#Totals],[Pajamos]]) -> 0.0042584037 | F154: =_xlfn.PERCENTOF(D154,_2024[[#Totals],[Žiūrovų skaičius]]) -> 0.0052990273 | G154: 45401
...

Sheet 2024
A1: 2024
A2: Lietuvos kino teatruose rodytų filmų TOP
A5: Eil. Nr. | B5: Filmo pavadinimas | C5: Filmo pavadinimas originalo kalba | D5: Kilmės šalis | E5: Pajamos | F5: Žiūrovų skaičius | G5: Kopijų skaičius | H5: Premjeros data | I5: Platintojas
A6: =IF(B6<>"",ROWS($B$6:B6),"") -> 1 | B6: Milijonieriaus palikimas | C6: Milijonieriaus palikimas | D6: LT | E6: 1373699 | F6: 194237 | G6: 15 | H6: 45289 | I6: Vabalo filmai
A7: =IF(B7<>"",ROWS($B$6:B7),"") -> 2 | B7: Irklais per Atlantą | C7: Irklais per Atlantą | D7: LT | E7: 1319613.6 | F7: 195397 | G7: 16 | H7: 45310 | I7: Valujavičiaus kelionės
A8: =IF(B8<>"",ROWS($B$6:B8),"") -> 3 | B8: Išvirkščias pasaulis 2 | C8: Inside Out 2 | D8: US, JP | E8: 1308627.7 | F8: 226591 | G8: 31 | H8: 45457 | I8: Theatrical Film Distribution / WDSMPI
A9: =IF(B9<>"",ROWS($B$6:B9),"") -> 4 | B9: Bjaurusis aš 4 | C9: Despicable Me 4 | D9: US | E9: 1201417.2 | F9: 208807 | G9: 31 | H9: 45478 | I9: Dukine Film Distribution / Universal Pictures
A10: =IF(B10<>"",ROWS($B$6:B10),"") -> 5 | B10: Vajana 2 | C10: Moana 2 | D10: US, CA | E10: 891792.4 | F10: 144119 | G10: 36 | H10: 45625 | I10: Theatrical Film Distribution / WDSMPI
A11: =IF(B11<>"",ROWS($B$6:B11),"") -> 6 | B11: Kung Fu Panda 4 | C11: Kung Fu Panda 4 | D11: US | E11: 872564.59 | F11: 151283 | G11: 34 | H11: 45359 | I11: Dukine Film Distribution / Universal Pictures
A12: =IF(B12<>"",ROWS($B$6:B12),"") -> 7 | B12: Mes dedame tašką | C12: It Ends With Us | D12: US | E12: 856146.09 | F12: 118875 | G12: 19 | H12: 45513 | I12: ACME Film / SONY
A13: =IF(B13<>"",ROWS($B$6:B13),"") -> 8 | B13: Kopa: antra dalis | C13: Dune: Part II | D13: US, CA | E13: 815729.43 | F13: 102575 | G13: 21 | H13: 45352 | I13: ACME Film / WB
A14: =IF(B14<>"",ROWS($B$6:B14),"") -> 9 | B14: Deadpool ir Ernis | C14: Deadpool & Wolverine | D14: US | E14: 766286.09 | F14: 99701 | G14: 15 | H14: 45499 | I14: Theatrical Film Distribution / WDSMPI
A15: =IF(B15<>"",ROWS($B$6:B15),"") -> 10 | B15: Draugų lažybos | C15: Draugų lažybos | D15: LT | E15: 697613.15 | F15: 94900 | G15: 12 | H15: 45338 | I15: Cinema Ads
A16: =IF(B16<>"",ROWS($B$6:B16),"") -> 11 | B16: Gladiatorius 2 | C16: Gladiator 2 | D16: US, UK | E16: 683624.38 | F16: 83094 | G16: 22 | H16: 45611 | I16: Dukine Film Distribution / Paramount Pictures
A17: =IF(B17<>"",ROWS($B$6:B17),"") -> 12 | B17: Kaimynai | C17: Kaimynai | D17: LT | E17: 541192 | F17: 76212 | G17: – | H17: 45597 | I17: Vabalo filmai
A18: =IF(B18<>"",ROWS($B$6:B18),"") -> 13 | B18: Garfildas | C18: The Garfield Movie | D18: US | E18: 531311.11 | F18: 98478 | G18: 20 | H18: 45436 | I18: ACME Film / SONY
A19: =IF(B19<>"",ROWS($B$6:B19),"") -> 14 | B19: Venomas 3 | C19: Venom: The Last Dance | D19: US | E19: 436514.68 | F19: 55916 | G19: 14 | H19: 45590 | I19: ACME Film / SONY
A20: =IF(B20<>"",ROWS($B$6:B20),"") -> 15 | B20: Reemigrantai 2 | C20: Reemigrantai 2 | D20: LT | E20: 432240 | F20: 54706 | G20: – | H20: 45646 | I20: Vabalo filmai
A21: =IF(B21<>"",ROWS($B$6:B21),"") -> 16 | B21: Prasti reikalai | C21: Poor Things | D21: IE, US, UK | E21: 362814.87 | F21: 52027 | G21: 20 | H21: 45310 | I21: Theatrical Film Distribution / WDSMPI
A22: =IF(B22<>"",ROWS($B$6:B22),"") -> 17 | B22: Didžioji ančių kelionė | C22: Migration | D22: US, FR | E22: 306117.82 | F22: 58309 | G22: 29 | H22: 45282 | I22: Dukine Film Distribution / Universal Pictures
A23: =IF(B23<>"",ROWS($B$6:B23),"") -> 18 | B23: Sesės | C23: Sesės | D23: LT | E23: 292423.93 | F23: 42681 | G23: 16 | H23: 45555 | I23: Po mokyklos
A24: =IF(B24<>"",ROWS($B$6:B24),"") -> 19 | B24: 10 katino gyvenimų | C24: 10 Lives | D24: UK | E24: 288816.21 | F24: 52837 | G24: 19 | H24: 45562 | I24: ACME Film
A25: =IF(B25<>"",ROWS($B$6:B25),"") -> 20 | B25: Vonka | C25: Wonka | D25: US, UK | E25: 279504.17 | F25: 48592 | G25: 15 | H25: 45275 | I25: ACME Film / WB
A26: =IF(B26<>"",ROWS($B$6:B26),"") -> 21 | B26: Laukinukė Roz | C26: Wild Robot | D26: US | E26: 276885.59 | F26: 49991 | G26: 26 | H26: 45590 | I26: Dukine Film Distribution / Universal Pictures
A27: =IF(B27<>"",ROWS($B$6:B27),"") -> 22 | B27: Džokeris: Folie A Deux | C27: Joker: Folie a Deux | D27: US | E27: 271467.61 | F27: 35008 | G27: 20 | H27: 45569 | I27: ACME Film / WB
A28: =IF(B28<>"",ROWS($B$6:B28),"") -> 23 | B28: Pašėlę vyrukai: viskas arba nieko | C28: Bad Boys: Ride Or Die | D28: US | E28: 237660.23 | F28: 32151 | G28: 16 | H28: 45450 | I28: ACME Film / SONY
A29: =IF(B29<>"",ROWS($B$6:B29),"") -> 24 | B29: Ežiukas Sonic 3 | C29: Sonic the Hedgehog 3 | D29: US, JP | E29: 229845.79 | F29: 37945 | G29: 22 | H29: 45653 | I29: Dukine Film Distribution / Paramount Pictures
A30: =IF(B30<>"",ROWS($B$6:B30),"") -> 25 | B30: Beetlejuice Beetlejuice | C30: Beetlejuice Beetlejuice | D30: US | E30: 215290.92 | F30: 31512 | G30: 20 | H30: 45541 | I30: ACME Film / WB
A31: =IF(B31<>"",ROWS($B$6:B31),"") -> 26 | B31: Mufasa. Liūtas karalius | C31: Mufasa: The Lion King | D31: US | E31: 191709.73 | F31: 30474 | G31: 31 | H31: 45646 | I31: Theatrical Film Distribution / WDSMPI
A32: =IF(B32<>"",ROWS($B$6:B32),"") -> 27 | B32: Godzila ir kongas: Nauja imperija | C32: Godzilla x Kong: The New Empire | D32: US | E32: 189998.16 | F32: 27089 | G32: 16 | H32: 45380 | I32: ACME Film / WB
... A194: =IF(B194<>"",ROWS($B$6:B194),"") -> 189 | B194: Mažylis Nikolia pasakoja apie laimę | C194: Petit Nicolas: Qu'est-Ce Qu'on Attend Pour Être Heureux? | D194: FR, LU, CA | E194: 6881.41 | F194: 1583 | G194: 11 | H194: 45380 | I194: Adastra Cinema
A195: =IF(B195<>"",ROWS($B$6:B195),"") -> 190 | B195: 69 išpažintis | C195: 69 išpažintis | D195: LT | E195: 6873.25 | F195: 1765 | G195: – | H195: 45527 | I195: Mental machinery
A196: =IF(B196<>"",ROWS($B$6:B196),"") -> 191 | B196: Dogmenas | C196: DogMan | D196: US, FR | E196: 6872.33 | F196: 1109 | G196: 16 | H196: 45296 | I196: Theatrical Film Distribution
A197: =IF(B197<>"",ROWS($B$6:B197),"") -> 192 | B197: Misija Titanas | C197: Slingshot | D197: US, HU, ID | E197: 6858.28 | F197: 1135 | G197: 11 | H197: 45562 | I197: ACME Film
A198: =IF(B198<>"",ROWS($B$6:B198),"") -> 193 | B198: Metai buvo sunkūs | C198: Une année difficile | D198: FR | E198: 6823.75 | F198: 1235 | G198: 16 | H198: 45379 | I198: Europos kinas
A199: =IF(B199<>"",ROWS($B$6:B199),"") -> 194 | B199: Islandija: paklydę dykumoje | C199: Islandija: paklydę dykumoje | D199: LT | E199: 6731.94 | F199: 984 | G199: 1 | H199: 45322 | I199: Špikis
A200: =IF(B200<>"",ROWS($B$6:B200),"") -> 195 | B200: Keliautojos poreikiai | C200: Yeohaengjaui pilyo | D200: KR | E200: 6704 | F200: 1248 | G200: 8 | H200: 45590 | I200: A-One Films
A201: =IF(B201<>"",ROWS($B$6:B201),"") -> 196 | B201: Mūsų tėtis | C201: Goodrich | D201: US | E201: 6480.56 | F201: 924 | G201: 13 | H201: 45653 | I201: ACME Film
A202: =IF(B202<>"",ROWS($B$6:B202),"") -> 197 | B202: Reiganas | C202: Reagan | D202: US | E202: 6468 | F202: 1064 | G202: 15 | H202: 45534 | I202: Garsų pasaulio įrašai
A203: =IF(B203<>"",ROWS($B$6:B203),"") -> 198 | B203: Stebuklų knyga | C203: La chambre des merveilles | D203: FR | E203: 6353.59 | F203: 1102 | G203: 9 | H203: 45450 | I203: Best Film
A204: =IF(B204<>"",ROWS($B$6:B204),"") -> 199 | B204: Nukritę lapai | C204: Kuolleet lehdet | D204: FI | E204: 6165 | F204: 1195 | G204: 2 | H204: 45254 | I204: A-One Films
A205: =IF(B205<>"",ROWS($B$6:B205),"") -> 200 | B205: What the Finn – Summer of Surprises (Kannawoniwasein!) | C205: What the Finn – Summer of Surprises (Kannawoniwasein!) | D205: DE | E205: 6135.21 | F205: 1408 | G205: 11 | H205: 45422 | I205: Unlimited Media OÜ
A206: =IF(B206<>"",ROWS($B$6:B206),"") -> 201 | B206: Misija: Linksmybių mokykla langweiligste Schule der Welt) | C206: Die langweiligste Schule der Welt | D206: DE | E206: 6107 | F206: 1253 | G206: 15 | H206: 45303 | I206: Unlimited Media OÜ
A207: =IF(B207<>"",ROWS($B$6:B207),"") -> 202 | B207: Rašytojas | C207: The Writer | D207: LT, DE, US | E207: 6030.11 | F207: 1013 | G207: 19 | H207: 45443 | I207: Naratyvas
... A245: =IF(B245<>"",ROWS($B$6:B245),"") -> 240 | B245: Čiurlionis AI | C245: Čiurlionis AI | D245: LT | E245: 3426 | F245: 587 | G245: 3 | H245: 45338 | I245: Broom Films
A246: =IF(B246<>"",ROWS($B$6:B246),"") -> 241 | B246: Gera mergaitė | C246: Babygirl | D246: US | E246: 3373 | F246: 262 | G246: 2 | H246: Preview | I246: Europos kinas
A247: =IF(B247<>"",ROWS($B$6:B247),"") -> 242 | B247: Svajonių atostogos | C247: The Holdovers | D247: US | E247: 3349.99 | F247: 710 | G247: 2 | H247: 45401 | I247: Dukine Film Distribution / Universal Pictures
A248: =IF(B248<>"",ROWS($B$6:B248),"") -> 243 | B248: Lenos jūra | C248: Zeevonk | D248: BE, NL | E248: 3344 | F248: 811 | G248: 1 | H248: 45214 | I248: Skalvijos kino centras
A249: =IF(B249<>"",ROWS($B$6:B249),"") -> 244 | B249: Apie sausą žolę | C249: Kuru Otlar Üstüne | D249: TR | E249: 3292.46 | F249: 591 | G249: 6 | H249: 45345 | I249: A-One Films
A250: =IF(B250<>"",ROWS($B$6:B250),"") -> 245 | B250: Bolero | C250: Bolero | D250: FR | E250: 3291.68 | F250: 630 | G250: 8 | H250: 45548 | I250: Theatrical Film Distribution
A251: =IF(B251<>"",ROWS($B$6:B251),"") -> 246 | B251: Homo Sovieticus | C251: Homo Sovieticus | D251: LV, LT, CZ | E251: 3196 | F251: 612 | G251: 2 | H251: 45259 | I251: Monoklis
A252: =IF(B252<>"",ROWS($B$6:B252),"") -> 247 | B252: Vienuolis ir ginklas | C252: The Monk and the Gun | D252: BT, FR, US, TW | E252: 3193.9 | F252: 530 | G252: 7 | H252: 45345 | I252: Taip toliau
A253: =IF(B253<>"",ROWS($B$6:B253),"") -> 248 | B253: Karta.EU | C253: Karta.EU | D253: LT | E253: 3176.9 | F253: 802 | G253: 4 | H253: 45387 | I253: Studio Nominum
A254: =IF(B254<>"",ROWS($B$6:B254),"") -> 249 | B254: Mano nusikaltimas | C254: Mon crime | D254: FR | E254: 3144 | F254: 641 | G254: 1 | H254: 45176 | I254: A-One Films
A255: =IF(B255<>"",ROWS($B$6:B255),"") -> 250 | B255: How to Have Sex | C255: How to Have Sex | D255: UK, GR | E255: 3142.4 | F255: 582 | G255: 8 | H255: 45379 | I255: Europos kinas
A256: =IF(B256<>"",ROWS($B$6:B256),"") -> 251 | B256: Gyvūnas | C256: Animal | D256: FR | E256: 3107 | F256: 639 | G256: 1 | H256: 45371 | I256: Skalvijos kino centras
A257: =IF(B257<>"",ROWS($B$6:B257),"") -> 252 | B257: Dabar ir visada | C257: Here Now | D257: US | E257: 3053 | F257: 472 | G257: 12 | H257: 45618 | I257: Garsų pasaulio įrašai
A258: =IF(B258<>"",ROWS($B$6:B258),"") -> 253 | B258: Įpėdinis | C258: Le successeur | D258: FR | E258: 2982.1 | F258: 510 | G258: 10 | H258: 45379 | I258: Europos kinas
... A319: =IF(B319<>"",ROWS($B$6:B319),"") -> 314 | B319: Vyriškumo pamokos | C319: Un vrai bonhomme | D319: FR, BE | E319: 1052 | F319: 321 | G319: 1 | H319: 44658 | I319: KC Garsas
A320: =IF(B320<>"",ROWS($B$6:B320),"") -> 315 | B320: Mūsų namai | C320: Where We Belong | D320: CH | E320: 1020 | F320: 132 | G320: 1 | H320: 44350 | I320: Skalvijos kino centras
A321: =IF(B321<>"",ROWS($B$6:B321),"") -> 316 | B321: Petsi Iš Argo | C321: Argonuts | D321: FR | E321: 1012 | F321: 478 | G321: 4 | H321: 45045 | I321: Adastra Cinema
A322: =IF(B322<>"",ROWS($B$6:B322),"") -> 317 | B322: Aš esu Zlatanas | C322: Jag är Zlatan | D322: SE | E322: 970 | F322: 245 | G322: 4 | H322: 44673 | I322: Estinfilm
A323: =IF(B323<>"",ROWS($B$6:B323),"") -> 318 | B323: Mano laisvė | C323: Mana Brīvība | D323: LV, LT | E323: 944 | F323: 166 | G323: 7 | H323: 45387 | I323: M-Films
A324: =IF(B324<>"",ROWS($B$6:B324),"") -> 319 | B324: Kur dingo Ana Frank? | C324: Where Is Anne Frank | D324: PL, BE, LU, FR, NL | E324: 937 | F324: 284 | G324: 1 | H324: 44694 | I324: Estinfilm
A325: =IF(B325<>"",ROWS($B$6:B325),"") -> 320 | B325: Mano mama gorila | C325: Apstjärnan | D325: SE, DK, FI | E325: 936 | F325: 197 | G325: 1 | H325: 44493 | I325: Skalvijos kino centras
A326: =IF(B326<>"",ROWS($B$6:B326),"") -> 321 | B326: Nesiilsėkite ramybėje | C326: Håndtering av udøde | D326: NO | E326: 883.5 | F326: 141 | G326: 5 | H326: 45618 | I326: Estinfilm
A327: =IF(B327<>"",ROWS($B$6:B327),"") -> 322 | B327: Banelė ir Adama | C327: Banel & Adama | D327: FR | E327: 719.4 | F327: 162 | G327: 8 | H327: 45415 | I327: Taip toliau
A328: =IF(B328<>"",ROWS($B$6:B328),"") -> 323 | B328: Greiti ir pūkuoti | C328: Rally Road Racers | D328: UK | E328: 698.5 | F328: 301 | G328: 4 | H328: 45163 | I328: Adastra Cinema
A329: =IF(B329<>"",ROWS($B$6:B329),"") -> 324 | B329: Kovotoja | C329: Vechtmeisje | D329: NL | E329: 674 | F329: 129 | G329: 1 | H329: 43567 | I329: KC Garsas
A330: =IF(B330<>"",ROWS($B$6:B330),"") -> 325 | B330: Viskas įmanoma | C330: Jippie No More | D330: NL | E330: 663.5 | F330: 139 | G330: 1 | H330: 45631 | I330: KC Garsas
A331: =IF(B331<>"",ROWS($B$6:B331),"") -> 326 | B331: Undinėlė | C331: Little Mermaid | D331: US | E331: 663.1 | F331: 134 | G331: 4 | H331: 45072 | I331: Theatrical Film Distribution / WDSMPI
A332: =IF(B332<>"",ROWS($B$6:B332),"") -> 327 | B332: Fabelmanai | C332: The Fabelmans | D332: US | E332: 655.5 | F332: 97 | G332: 1 | H332: 44953 | I332: ACME Film
... A393: =IF(B393<>"",ROWS($B$6:B393),"") -> 388 | B393: Rūkymas sukelia kosulį | C393: Smoking Causes Coughing | D393: FR | E393: 68 | F393: 14 | G393: 1 | H393: 45012 | I393: Europos kinas
A394: =IF(B394<>"",ROWS($B$6:B394),"") -> 389 | B394: Toro | C394: Mandibules | D394: FR, BE | E394: 64 | F394: 13 | G394: 1 | H394: – | I394: Europos kinas
A395: =IF(B395<>"",ROWS($B$6:B395),"") -> 390 | B395: Aklas gluosnis, mieganti moteris | C395: Blind Willow, Sleeping Woman | D395: FR, CA, NL, LU | E395: 57 | F395: 10 | G395: 1 | H395: 45012 | I395: Europos kinas
A396: =IF(B396<>"",ROWS($B$6:B396),"") -> 391 | B396: Dičkis šuo Klifordas | C396: Clifford The Big Red Dog | D396: US | E396: 45 | F396: 18 | G396: 4 | H396: 44568 | I396: Dukine Film Distribution / Paramount Pictures
A397: =IF(B397<>"",ROWS($B$6:B397),"") -> 392 | B397: Piligrimai | C397: Piligrimai | D397: LT | E397: 44.4 | F397: 6 | G397: 1 | H397: 44659 | I397: Europos kinas
A398: =IF(B398<>"",ROWS($B$6:B398),"") -> 393 | B398: Ties virimo riba | C398: Boiling Point | D398: UK | E398: 40 | F398: 8 | G398: 1 | H398: 44655 | I398: Europos kinas
A399: =IF(B399<>"",ROWS($B$6:B399),"") -> 394 | B399: Mažosios Klaros Kalėdos | C399: Jul pa kuttopen | D399: NO | E399: 30 | F399: 12 | G399: 1 | H399: 44533 | I399: KC Garsas
A400: Total | B400: =SUBTOTAL(103,_2024[Filmo pavadinimas]) -> 394 | E400: =SUBTOTAL(109,_2024[Pajamos]) -> 23536721 | F400: =SUBTOTAL(109,_2024[Žiūrovų skaičius]) -> 3641423
D402: Mėnuo | E402: Pajamos | F402: Žiūrovų skaičius
D403: Sausis | E403: =Sausis[[#Totals],[Pajamos]] -> 3310779.7 | F403: =Sausis[[#Totals],[Žiūrovų skaičius]] -> 498514
D404: Vasaris | E404: =Table3_Vasaris[[#Totals],[Pajamos]] -> 2487792.9 | F404: =Table3_Vasaris[[#Totals],[Žiūrovų skaičius]] -> 386445
D405: Kovas | E405: =Table3_Vasaris5[[#Totals],[Pajamos]] -> 2002484.5 | F405: =Table3_Vasaris5[[#Totals],[Žiūrovų skaičius]] -> 292481
D406: Balandis | E406: =Table3_Balandis[[#Totals],[Pajamos]] -> 1370567.8 | F406: =Table3_Balandis[[#Totals],[Žiūrovų skaičius]] -> 220325
D407: Gegužė | E407: =Table3_Gegužė[[#Totals],[Pajamos]] -> 825041.83 | F407: =Table3_Gegužė[[#Totals],[Žiūrovų skaičius]] -> 135632
D408: Birželis | E408: =Table3_Birželis[[#Totals],[Pajamos]] -> 1767940.6 | F408: =Table3_Birželis[[#Totals],[Žiūrovų skaičius]] -> 298100
D409: Liepa | E409: =Table3_Liepa[[#Totals],[Pajamos]] -> 2123244.3 | F409: =Table3_Liepa[[#Totals],[Žiūrovų skaičius]] -> 343308
D410: Rugpjūtis | E410: =Table3_Rugpjūtis[[#Totals],[Pajamos]] -> 2032265 | F410: =Table3_Rugpjūtis[[#Totals],[Žiūrovų skaičius]] -> 312131
D411: Rugsėjis | E411: =Table3_Rugsėjis[[#Totals],[Pajamos]] -> 1232122.9 | F411: =Table3_Rugsėjis[[#Totals],[Žiūrovų skaičius]] -> 189087
D412: Spalis | E412: =Table3_Spalis[[#Totals],[Pajamos]] -> 1639646.6 | F412: =Table3_Spalis[[#Totals],[Žiūrovų skaičius]] -> 254563
D413: Lapkritis | E413: =Table3_Lapkritis[[#Totals],[Pajamos]] -> 2241093.3 | F413: =Table3_Lapkritis[[#Totals],[Žiūrovų skaičius]] -> 325180
D414: Gruodis | E414: =Table3_Gruodis[[#Totals],[Pajamos]] -> 2503741.6 | F414: =Table3_Gruodis[[#Totals],[Žiūrovų skaičius]] -> 385657
D415: Iš viso | E415: =SUM(E403:E414) -> 23536721 | F415: =SUM(F403:F414) -> 3641423

Sheet Sausis
A1: ='2024'!A1 -> 2024
A2: ='2024'!A2 -> Lietuvos kino teatruose rodytų filmų TOP
A3: Sausis
A5: Eil. Nr. | B5: Filmo pavadinimas | C5: Filmo pavadinimas originalo kalba | D5: Kilmės šalis | E5: Pajamos | F5: Žiūrovų skaičius | G5: Kopijų skaičius | H5: Premjeros data | I5: Platintojas
A6: =IF(B6<>"",ROWS($B$6:B6),"") -> 1 | B6: Milijonieriaus palikimas | C6: Milijonieriaus palikimas | D6: LT | E6: 1147609 | F6: 161502 | G6: 15 | H6: 45289 | I6: Vabalo filmai
A7: =IF(B7<>"",ROWS($B$6:B7),"") -> 2 | B7: Irklais per Atlantą | C7: Irklais per Atlantą | D7: LT | E7: 750313.43 | F7: 106544 | G7: 16 | H7: 45310 | I7: Valujavičiaus kelionės
A8: =IF(B8<>"",ROWS($B$6:B8),"") -> 3 | B8: Vonka | C8: Wonka | D8: US, UK | E8: 217787.55 | F8: 37457 | G8: 15 | H8: 45275 | I8: ACME Film / WB
A9: =IF(B9<>"",ROWS($B$6:B9),"") -> 4 | B9: Didžioji ančių kelionė | C9: Migration | D9: US, FR | E9: 190531.52 | F9: 36173 | G9: 29 | H9: 45282 | I9: Dukine Film Distribution / Universal Pictures
A10: =IF(B10<>"",ROWS($B$6:B10),"") -> 5 | B10: Tik ne tu | C10: Anyone But You | D10: US | E10: 130091.12 | F10: 19501 | G10: 15 | H10: 45296 | I10: ACME Film / SONY
A11: =IF(B11<>"",ROWS($B$6:B11),"") -> 6 | B11: Bitininkas | C11: Beekeeper | D11: US | E11: 128319.12 | F11: 18385 | G11: 16 | H11: 45303 | I11: ACME Film
A12: =IF(B12<>"",ROWS($B$6:B12),"") -> 7 | B12: Prasti reikalai | C12: Poor Things | D12: IE,US,UK | E12: 117153.27 | F12: 17231 | G12: 20 | H12: 45310 | I12: Theatrical Film Distribution / WDSMPI
A13: =IF(B13<>"",ROWS($B$6:B13),"") -> 8 | B13: Akvamenas 2: Prarasta karalystė | C13: Aquaman and The Lost Kingdom | D13: US | E13: 82744.59 | F13: 12393 | G13: 13 | H13: 45282 | I13: ACME Film / WB
A14: =IF(B14<>"",ROWS($B$6:B14),"") -> 9 | B14: Napoleonas | C14: Napoleon | D14: US, UK | E14: 77218.58 | F14: 10910 | G14: 14 | H14: 45261 | I14: ACME Film / SONY
A15: =IF(B15<>"",ROWS($B$6:B15),"") -> 10 | B15: Priscilla | C15: Priscilla | D15: US, IT | E15: 64114.21 | F15: 9965 | G15: 24 | H15: 45303 | I15: Europos kinas
A16: =IF(B16<>"",ROWS($B$6:B16),"") -> 11 | B16: Ferrari | C16: Ferrari | D16: IT, US, UK, CN | E16: 59446.8 | F16: 8505 | G16: 21 | H16: 45317 | I16: ACME Film
A17: =IF(B17<>"",ROWS($B$6:B17),"") -> 12 | B17: Lapių kelionė ledynuose | C17: Kina and Yuk | D17: IT, CA, FR | E17: 37543.92 | F17: 7202 | G17: 21 | H17: 45296 | I17: ACME Film
... A60: =IF(B60<>"",ROWS($B$6:B60),"") -> 55 | B60: Samsara | C60: Samsara | D60: ES | E60: 226 | F60: 42 | G60: 1 | H60: 45205 | I60: Taip toliau
A61: =IF(B61<>"",ROWS($B$6:B61),"") -> 56 | B61: Šunyčiai patruliai 2. Galingas filmas | C61: PAW Patrol: The Mighty Movie | D61: US, CA | E61: 201 | F61: 47 | G61: 1 | H61: 2023-10-27 | I61: Dukine Film Distribution / Paramount Pictures
A62: =IF(B62<>"",ROWS($B$6:B62),"") -> 57 | B62: Mavka Forest Song | C62: Mavka Forest Song | D62: UA, US | E62: 168 | F62: 56 | G62: 1 | H62: 45121 | I62: ACME Film
A63: =IF(B63<>"",ROWS($B$6:B63),"") -> 58 | B63: Drugelio Širdis | C63: Drugelio Širdis | D63: LT | E63: 144 | F63: 48 | G63: 1 | H63: 44659 | I63: ACME Film
A64: =IF(B64<>"",ROWS($B$6:B64),"") -> 59 | B64: 9-as žingsnis | C64: 9-as žingsnis | D64: LT | E64: 90 | F64: 20 | G64: 1 | H64: 45205 | I64: ACME Film
A65: =IF(B65<>"",ROWS($B$6:B65),"") -> 60 | B65: Katakas. Kelionė į ledynų kraštą | C65: Katak: The Brave Beluga | D65: CA | E65: 60.5 | F65: 12 | G65: 1 | H65: 45191 | I65: Estinfilm
A66: =IF(B66<>"",ROWS($B$6:B66),"") -> 61 | B66: Openheimeris | C66: Oppenheimer | D66: US, UK | E66: 50.5 | F66: 9 | G66: 1 | H66: 45128 | I66: Dukine Film Distribution / Universal Pictures
A67: =IF(B67<>"",ROWS($B$6:B67),"") -> 62 | B67: Ties virimo riba | C67: Boiling Point | D67: UK | E67: 40 | F67: 8 | G67: 1 | H67: 44655 | I67: Europos kinas
A68: =IF(B68<>"",ROWS($B$6:B68),"") -> 63 | B68: Šokių karalienė | C68: Dancing Queen | D68: NO | E68: 20.5 | F68: 4 | G68: 2 | H68: 45317 | I68: Estinfilm
E69: =SUBTOTAL(109,Sausis[Pajamos]) -> 3310779.7 | F69: =SUBTOTAL(109,Sausis[Žiūrovų skaičius]) -> 498514

Sheet Vasaris
A1: ='2024'!A1 -> 2024
A2: ='2024'!A2 -> Lietuvos kino teatruose rodytų filmų TOP
A3: Vasaris
A5: Eil. Nr. | B5: Filmo pavadinimas | C5: Filmo pavadinimas originalo kalba | D5: Kilmės šalis | E5: Pajamos | F5: Žiūrovų skaičius | G5: Kopijų skaičius | H5: Premjeros data | I5: Platintojas
A6: =IF(B6<>"",ROWS($B$6:B6),"") -> 1 | B6: Draugų lažybos | C6: Draugų lažybos | D6: LT | E6: 575513.42 | F6: 79074 | G6: 12 | H6: 45338 | I6: Cinema Ads
A7: =IF(B7<>"",ROWS($B$6:B7),"") -> 2 | B7: Irklais per Atlantą | C7: Irklais per Atlantą | D7: LT | E7: 480392.54 | F7: 73229 | G7: 17 | H7: 45310 | I7: Valujavičiaus kelionės
A8: =IF(B8<>"",ROWS($B$6:B8),"") -> 3 | B8: Prasti reikalai | C8: Poor Things | D8: IE, US, UK | E8: 203385.96 | F8: 28842 | G8: 14 | H8: 45310 | I8: Theatrical Film Distribution / WDSMPI
A9: =IF(B9<>"",ROWS($B$6:B9),"") -> 4 | B9: Milijonieriaus palikimas | C9: Milijonieriaus palikimas | D9: LT | E9: 201719 | F9: 29507 | G9: 10 | H9: 45289 | I9: Vabalo filmai
A10: =IF(B10<>"",ROWS($B$6:B10),"") -> 5 | B10: Ema ir juodasis jaguaras | C10: Le Dernier Jaguar | D10: FR, DE, CA | E10: 120394.57 | F10: 22985 | G10: 20 | H10: 45331 | I10: ACME Film
A11: =IF(B11<>"",ROWS($B$6:B11),"") -> 6 | B11: Didžioji ančių kelionė | C11: Migration | D11: US, FR | E11: 100521.51 | F11: 19171 | G11: 14 | H11: 45282 | I11: Dukine Film Distribution / Universal Pictures
A12: =IF(B12<>"",ROWS($B$6:B12),"") -> 7 | B12: Ferrari | C12: Ferrari | D12: IT, US, UK, CN | E12: 77717.24 | F12: 11427 | G12: 19 | H12: 45317 | I12: ACME Film
A13: =IF(B13<>"",ROWS($B$6:B13),"") -> 8 | B13: Bob Marley: One Love | C13: Bob Marley: One Love | D13: US | E13: 62385.86 | F13: 9230 | G13: 18 | H13: 45338 | I13: Dukine Film Distribution / Paramount Pictures
A14: =IF(B14<>"",ROWS($B$6:B14),"") -> 9 | B14: Sparnuoti herojai | C14: Super Wings the Movie: Maximum Speed | D14: KR | E14: 58884.26 | F14: 11634 | G14: 19 | H14: 45338 | I14: Adastra Cinema
A15: =IF(B15<>"",ROWS($B$6:B15),"") -> 10 | B15: Vonka | C15: Wonka | D15: US, UK | E15: 55216.07 | F15: 9962 | G15: 12 | H15: 45275 | I15: ACME Film / WB
A16: =IF(B16<>"",ROWS($B$6:B16),"") -> 11 | B16: Argailas | C16: Argylle | D16: US | E16: 45354.5 | F16: 6506 | G16: 16 | H16: 45324 | I16: Dukine Film Distribution / Universal Pictures
A17: =IF(B17<>"",ROWS($B$6:B17),"") -> 12 | B17: Šuo ir katė. Pabėgimas | C17: Chien et Chat | D17: FR | E17: 36090.85 | F17: 7004 | G17: 18 | H17: 45345 | I17: ACME Film
... A45: =IF(B45<>"",ROWS($B$6:B45),"") -> 40 | B45: Nežinomais takais | C45: Sur les chemins noirs | D45: FR | E45: 3008.6 | F45: 557 | G45: 5 | H45: 45345 | I45: Greta Garbo Films
A46: =IF(B46<>"",ROWS($B$6:B46),"") -> 41 | B46: Labirintai | C46: Pasagges | D46: FR, DE | E46: 2943 | F46: 402 | G46: 2 | H46: Preview | I46: Europos kinas
A47: =IF(B47<>"",ROWS($B$6:B47),"") -> 42 | B47: Praėję gyvenimai | C47: Past lives | D47: US, KR | E47: 2935.4 | F47: 432 | G47: 4 | H47: 45254 | I47: Europos kinas
A48: =IF(B48<>"",ROWS($B$6:B48),"") -> 43 | B48: Ponas Bleikas jūsų paslaugoms | C48: Complètement cramé | D48: FR | E48: 2456 | F48: 380 | G48: 6 | H48: 44966 | I48: Best Film
A49: =IF(B49<>"",ROWS($B$6:B49),"") -> 44 | B49: Akvamenas 2: Prarasta karalystė | C49: Aquaman and The Lost Kingdom | D49: US | E49: 2257.81 | F49: 312 | G49: 3 | H49: 45282 | I49: ACME Film / WB
A50: =IF(B50<>"",ROWS($B$6:B50),"") -> 45 | B50: Šiaurietiški patogumai | C50: Northern Comfort | D50: IS, UK, DE | E50: 2124.9 | F50: 311 | G50: 2 | H50: 45303 | I50: Adastra Cinema
A51: =IF(B51<>"",ROWS($B$6:B51),"") -> 46 | B51: Oho! | C51: Wahou! | D51: FR | E51: 2111.84 | F51: 398 | G51: 4 | H51: 45338 | I51: Best Film
A52: =IF(B52<>"",ROWS($B$6:B52),"") -> 47 | B52: Čiurlionis AI | C52: Čiurlionis AI | D52: LT | E52: 2000.5 | F52: 304 | G52: 3 | H52: 45338 | I52: Broom Films
A53: =IF(B53<>"",ROWS($B$6:B53),"") -> 48 | B53: Apie sausą žolę | C53: Kuru Otlar Üstüne | D53: TR | E53: 1916.88 | F53: 339 | G53: 6 | H53: 45345 | I53: A-One Films
A54: =IF(B54<>"",ROWS($B$6:B54),"") -> 49 | B54: Vienuolis ir ginklas | C54: The Monk and the Gun | D54: BT, FR, US, TW | E54: 1580.9 | F54: 255 | G54: 7 | H54: 45345 | I54: Taip toliau
A55: =IF(B55<>"",ROWS($B$6:B55),"") -> 50 | B55: Šokių karalienė | C55: Dancing Queen | D55: NO | E55: 1519 | F55: 400 | G55: 2 | H55: 45317 | I55: Estinfilm
A56: =IF(B56<>"",ROWS($B$6:B56),"") -> 51 | B56: How to Have Sex | C56: How to Have Sex | D56: UK, GR | E56: 1442.9 | F56: 274 | G56: 3 | H56: Preview | I56: Europos kinas
A57: =IF(B57<>"",ROWS($B$6:B57),"") -> 52 | B57: Gurmaniška aistra | C57: Pot au Feu de Dodin Bouffant | D57: FR | E57: 1392.6 | F57: 228 | G57: 3 | H57: 45254 | I57: ACME Film
A58: =IF(B58<>"",ROWS($B$6:B58),"") -> 53 | B58: Sapnų scenarijus | C58: Dream Scenario | D58: US | E58: 1349.2 | F58: 185 | G58: 2 | H58: 45275 | I58: Europos kinas
A59: =IF(B59<>"",ROWS($B$6:B59),"") -> 54 | B59: Parko stebuklai | C59: The Inseparables | D59: ES, FR, BE | E59: 1243 | F59: 270 | G59: 2 | H59: 45289 | I59: Adastra Cinema
A60: =IF(B60<>"",ROWS($B$6:B60),"") -> 55 | B60: Tu man nieko neprimeni | C60: Tu man nieko neprimeni | D60: LT, ES, SE | E60: 1016.7 | F60: 182 | G60: 2 | H60: 45191 | I60: Europos kinas
A61: =IF(B61<>"",ROWS($B$6:B61),"") -> 56 | B61: Pažadėtoji žemė | C61: Bastarden | D61: DK | E61: 969.8 | F61: 206 | G61: 3 | H61: 45296 | I61: Estinfilm
A62: =IF(B62<>"",ROWS($B$6:B62),"") -> 57 | B62: Viena gyvybė | C62: One Life | D62: UK | E62: 955.44 | F62: 198 | G62: 6 | H62: 45303 | I62: ACME Film
A63: =IF(B63<>"",ROWS($B$6:B63),"") -> 58 | B63: Didieji planetos sergėtojai | C63: Les gardiennes de la planete | D63: FR | E63: 946 | F63: 212 | G63: 2 | H63: 45233 | I63: Estinfilm
A64: =IF(B64<>"",ROWS($B$6:B64),"") -> 59 | B64: Čiulbanti siela | C64: Čiulbanti siela | D64: LT | E64: 906.07 | F64: 116 | G64: 1 | H64: 45261 | I64: Taip toliau
A65: =IF(B65<>"",ROWS($B$6:B65),"") -> 60 | B65: Tigro kelionė Himalajuose | C65: Tigers Nest | D65: IT | E65: 852.54 | F65: 258 | G65: 3 | H65: 44855 | I65: ACME Film
A66: =IF(B66<>"",ROWS($B$6:B66),"") -> 61 | B66: Ingeborga Bachmann. Kelionė į dykumą | C66: Ingeborg Bachmann – Reise In Die Wüste | D66: CH, DE | E66: 802 | F66: 186 | G66: 1 | H66: 45268 | I66: A-One Films
A67: =IF(B67<>"",ROWS($B$6:B67),"") -> 62 | B67: Paryžietė | C67: Rue des dames | D67: DE | E67: 563.16 | F67: 103 | G67: 4 | H67: 45324 | I67: Unlimited Media OÜ
A68: =IF(B68<>"",ROWS($B$6:B68),"") -> 63 | B68: Ernestas ir Selestina: Kelionė į Šaradiją | C68: Ernest et Célestine: Le voyage en Charabie | D68: FR, LU | E68: 547 | F68: 123 | G68: 2 | H68: 45275 | I68: Broom Films
A69: =IF(B69<>"",ROWS($B$6:B69),"") -> 64 | B69: Mamutų medžioklė | C69: Mamutų medžioklė | D69: LT | E69: 545.7 | F69: 87 | G69: 1 | H69: Preview | I69: Kino pasaka
A70: =IF(B70<>"",ROWS($B$6:B70),"") -> 65 | B70: Vesper | C70: Vesper | D70: LT | E70: 526.1 | F70: 110 | G70: 2 | H70: 44834 | I70: Europos kinas
A71: =IF(B71<>"",ROWS($B$6:B71),"") -> 66 | B71: Liepsnojantis dangus | C71: Roter Himmel | D71: DE | E71: 520 | F71: 139 | G71: 2 | H71: 45303 | I71: A-One Films
A72: =IF(B72<>"",ROWS($B$6:B72),"") -> 67 | B72: Tiesiog super! | C72: Helt super | D72: NO | E72: 417 | F72: 88 | G72: 2 | H72: 45289 | I72: Estinfilm
A73: =IF(B73<>"",ROWS($B$6:B73),"") -> 68 | B73: Nukritę lapai | C73: Kuolleet lehdet | D73: FI | E73: 406 | F73: 64 | G73: 2 | H73: 45254 | I73: A-One Films
A74: =IF(B74<>"",ROWS($B$6:B74),"") -> 69 | B74: Tegul prasideda šokiai | C74: Empieza el baile | D74: AR | E74: 383.11 | F74: 161 | G74: 5 | H74: 45331 | I74: Estinfilm
A75: =IF(B75<>"",ROWS($B$6:B75),"") -> 70 | B75: Titina Šiaurės ašigalyje | C75: Titina | D75: NO | E75: 350 | F75: 68 | G75: 1 | H75: 45282 | I75: Europos kinas
A76: =IF(B76<>"",ROWS($B$6:B76),"") -> 71 | B76: Misija: Linksmybių mokykla langweiligste Schule der Welt) | C76: Die langweiligste Schule der Welt | D76: DE | E76: 348 | F76: 77 | G76: 2 | H76: 45303 | I76: Unlimited Media OÜ
A77: =IF(B77<>"",ROWS($B$6:B77),"") -> 72 | B77: Jaunasis vadas Vinetu | C77: Der junge Häuptling Winnetou | D77: DE | E77: 340.37 | F77: 116 | G77: 1 | H77: 44602 | I77: Estinfilm
A78: =IF(B78<>"",ROWS($B$6:B78),"") -> 73 | B78: Rose Namajunas: Aš esu čempionė | C78: Thug Rose | D78: US | E78: 301.04 | F78: 91 | G78: 1 | H78: 44967 | I78: Europos kinas
A79: =IF(B79<>"",ROWS($B$6:B79),"") -> 74 | B79: Tarp pilkų debesų | C79: Ashes in the Snow | D79: LT | E79: 280 | F79: 70 | G79: 1 | H79: 43385 | I79: ACME Film
A80: =IF(B80<>"",ROWS($B$6:B80),"") -> 75 | B80: Poetas | C80: Poetas | D80: LT | E80: 222 | F80: 49 | G80: 2 | H80: 44974 | I80: ACME Film
A81: =IF(B81<>"",ROWS($B$6:B81),"") -> 76 | B81: Meile mano | C81: Love Life | D81: JP, FR | E81: 208 | F81: 33 | G81: 1 | H81: 45012 | I81: Europos kinas
... A93: =IF(B93<>"",ROWS($B$6:B93),"") -> 88 | B93: Dogmenas | C93: DogMan | D93: US, FR | E93: 8 | F93: 2 | G93: 1 | H93: 45296 | I93: Theatrical Film Distribution
E94: =SUBTOTAL(109,Table3_Vasaris[Pajamos]) -> 2487792.9 | F94: =SUBTOTAL(109,Table3_Vasaris[Žiūrovų skaičius]) -> 386445

Sheet Kovas
A1: ='2024'!A1 -> 2024
A2: ='2024'!A2 -> Lietuvos kino teatruose rodytų filmų TOP
A3: Kovas
A5: Eil. Nr. | B5: Filmo pavadinimas | C5: Filmo pavadinimas originalo kalba | D5: Kilmės šalis | E5: Pajamos | F5: Žiūrovų skaičius | G5: Kopijų skaičius | H5: Premjeros data | I5: Platintojas
A6: =IF(B6<>"",ROWS($B$6:B6),"") -> 1 | B6: Kopa: antra dalis | C6: Dune: Part II | D6: US, CA | E6: 677900.93 | F6: 84204 | G6: 21 | H6: 45352 | I6: ACME Film / WB
A7: =IF(B7<>"",ROWS($B$6:B7),"") -> 2 | B7: Kung Fu Panda 4 | C7: Kung Fu Panda 4 | D7: US | E7: 512707.22 | F7: 87593 | G7: 34 | H7: 45359 | I7: Dukine Film Distribution / Universal Pictures
A8: =IF(B8<>"",ROWS($B$6:B8),"") -> 3 | B8: Draugų lažybos | C8: Draugų lažybos | D8: LT | E8: 114106.2 | F8: 14310 | G8: 12 | H8: 45338 | I8: Cinema Ads
A9: =IF(B9<>"",ROWS($B$6:B9),"") -> 4 | B9: Irklais per Atlantą | C9: Irklais per Atlantą | D9: LT | E9: 74395.53 | F9: 12221 | G9: 10 | H9: 45310 | I9: Valujavičiaus kelionės
A10: =IF(B10<>"",ROWS($B$6:B10),"") -> 5 | B10: Mano šuo Artūras | C10: Arthur the King | D10: US | E10: 45782.7 | F10: 7139 | G10: 16 | H10: 45366 | I10: ACME Film
A11: =IF(B11<>"",ROWS($B$6:B11),"") -> 6 | B11: Vaiduoklių medžiotojai: sustingę iš baimės | C11: Ghostbusters Frozen Empire | D11: US | E11: 42000.95 | F11: 6366 | G11: 16 | H11: 45373 | I11: ACME Film / SONY
A12: =IF(B12<>"",ROWS($B$6:B12),"") -> 7 | B12: Nematomas draugas | C12: Imaginary | D12: US | E12: 40582.75 | F12: 5852 | G12: 14 | H12: 45359 | I12: ACME Film
A13: =IF(B13<>"",ROWS($B$6:B13),"") -> 8 | B13: Šuo ir katė. Pabėgimas | C13: Chien et Chat | D13: FR | E13: 38548.64 | F13: 7547 | G13: 17 | H13: 45345 | I13: ACME Film
A14: =IF(B14<>"",ROWS($B$6:B14),"") -> 9 | B14: Prasti reikalai | C14: Poor Things | D14: IE, US, UK | E14: 37756.15 | F14: 5251 | G14: 15 | H14: 45310 | I14: Theatrical Film Distribution / WDSMPI
A15: =IF(B15<>"",ROWS($B$6:B15),"") -> 10 | B15: Nekaltoji | C15: Immaculate | D15: US | E15: 35702.72 | F15: 5206 | G15: 13 | H15: 45373 | I15: ACME Film
A16: =IF(B16<>"",ROWS($B$6:B16),"") -> 11 | B16: Godzila ir kongas: Nauja imperija | C16: Godzilla x Kong: The New Empire | D16: US | E16: 33304.32 | F16: 4287 | G16: 15 | H16: 45380 | I16: ACME Film / WB
A17: =IF(B17<>"",ROWS($B$6:B17),"") -> 12 | B17: Milijonieriaus palikimas | C17: Milijonieriaus palikimas | D17: LT | E17: 24371 | F17: 3228 | G17: – | H17: 45289 | I17: Vabalo filmai
A18: =IF(B18<>"",ROWS($B$6:B18),"") -> 13 | B18: Kryčio anatomija | C18: Anatomy of a Fall | D18: FR | E18: 23424.31 | F18: 1759 | G18: 21 | H18: 45379 | I18: Europos kinas
A19: =IF(B19<>"",ROWS($B$6:B19),"") -> 14 | B19: Ryuichi Sakamoto | Opusas | C19: Ryuichi Sakamoto | Opus | D19: JP | E19: 22817.7 | F19: 1169 | G19: 10 | H19: 45379 | I19: Europos kinas
A20: =IF(B20<>"",ROWS($B$6:B20),"") -> 15 | B20: Mamutų medžioklė | C20: Mamutų medžioklė | D20: LT | E20: 22771.83 | F20: 3874 | G20: 13 | H20: 45352 | I20: Kino pasaka
A21: =IF(B21<>"",ROWS($B$6:B21),"") -> 16 | B21: Baltoji paukštė | C21: White Bird a Wonder Story | D21: US | E21: 21906.17 | F21: 3375 | G21: 16 | H21: 45359 | I21: ACME Film
A22: =IF(B22<>"",ROWS($B$6:B22),"") -> 17 | B22: Interesų zona | C22: The Zone of Interest | D22: UK, US, PL | E22: 19922.92 | F22: 2935 | G22: 22 | H22: 45379 | I22: Europos kinas
A23: =IF(B23<>"",ROWS($B$6:B23),"") -> 18 | B23: Nutrūktgalviai: Don Kichoto pėdsakais | C23: Giants of La Mancha | D23: AR, BE, DE | E23: 19593.28 | F23: 3926 | G23: 16 | H23: 45373 | I23: ACME Film
A24: =IF(B24<>"",ROWS($B$6:B24),"") -> 19 | B24: Ema ir juodasis jaguaras | C24: Le Dernier Jaguar | D24: FR, DE, CA | E24: 15994.54 | F24: 3017 | G24: 12 | H24: 45331 | I24: ACME Film
A25: =IF(B25<>"",ROWS($B$6:B25),"") -> 20 | B25: Monstras | C25: Monster | D25: JP | E25: 14916.39 | F25: 1103 | G25: 14 | H25: 45379 | I25: Europos kinas
A26: =IF(B26<>"",ROWS($B$6:B26),"") -> 21 | B26: Motinos instinktas | C26: Mothers‘ instinct | D26: US | E26: 12569.21 | F26: 1975 | G26: 15 | H26: 45359 | I26: Adastra Cinema
A27: =IF(B27<>"",ROWS($B$6:B27),"") -> 22 | B27: Didžioji ančių kelionė | C27: Migration | D27: US, FR | E27: 12015.1 | F27: 2299 | G27: 10 | H27: 45282 | I27: Dukine Film Distribution / Universal Pictures
A28: =IF(B28<>"",ROWS($B$6:B28),"") -> 23 | B28: Didžiosios lenktynės. Audi vs. Lancia | C28: Race for Glory | D28: IT, UK, IE | E28: 11686 | F28: 1954 | G28: 11 | H28: 45345 | I28: Garsų pasaulio įrašai
A29: =IF(B29<>"",ROWS($B$6:B29),"") -> 24 | B29: Blogio šalis | C29: Land of Bad | D29: US | E29: 11371.9 | F29: 1635 | G29: 9 | H29: 45366 | I29: Travolta
... A80: =IF(B80<>"",ROWS($B$6:B80),"") -> 75 | B80: Tegul prasideda šokiai | C80: Empieza el baile | D80: AR | E80: 274 | F80: 50 | G80: 2 | H80: 45331 | I80: Estinfilm
A81: =IF(B81<>"",ROWS($B$6:B81),"") -> 76 | B81: Šunyčiai patruliai 2. Galingas filmas | C81: PAW Patrol: The Mighty Movie | D81: US, CA | E81: 255.69 | F81: 50 | G81: 4 | H81: 2023-10-27 | I81: Dukine Film Distribution / Paramount Pictures
A82: =IF(B82<>"",ROWS($B$6:B82),"") -> 77 | B82: Tigro kelionė Himalajuose | C82: Tigers Nest | D82: IT | E82: 240.38 | F82: 70 | G82: 2 | H82: 44855 | I82: ACME Film
A83: =IF(B83<>"",ROWS($B$6:B83),"") -> 78 | B83: Priscilla | C83: Priscilla | D83: US, IT | E83: 222 | F83: 37 | G83: 1 | H83: 45303 | I83: Europos kinas
A84: =IF(B84<>"",ROWS($B$6:B84),"") -> 79 | B84: Tiesiog super! | C84: Helt super | D84: NO | E84: 220 | F84: 44 | G84: 1 | H84: 45289 | I84: Estinfilm
A85: =IF(B85<>"",ROWS($B$6:B85),"") -> 80 | B85: Batuotas katinas Pūkis: paskutinis noras | C85: Puss in Boots: The Last Wish | D85: US, JP | E85: 206.98 | F85: 56 | G85: 2 | H85: 44916 | I85: Dukine Film Distribution / Universal Pictures
A86: =IF(B86<>"",ROWS($B$6:B86),"") -> 81 | B86: Šiaurietiški patogumai | C86: Northern Comfort | D86: IS, UK, DE | E86: 200 | F86: 93 | G86: 1 | H86: 45303 | I86: Adastra Cinema
A87: =IF(B87<>"",ROWS($B$6:B87),"") -> 82 | B87: Tu man nieko neprimeni | C87: Tu man nieko neprimeni | D87: LT, ES, SE | E87: 166 | F87: 33 | G87: 1 | H87: 45191 | I87: Europos kinas
A88: =IF(B88<>"",ROWS($B$6:B88),"") -> 83 | B88: Po saulės | C88: After sun | D88: US, UK | E88: 128 | F88: 32 | G88: 1 | H88: 45012 | I88: Europos kinas
A89: =IF(B89<>"",ROWS($B$6:B89),"") -> 84 | B89: Katakas. Kelionė į ledynų kraštą | C89: Katak: The Brave Beluga | D89: CA | E89: 110 | F89: 22 | G89: 1 | H89: 45191 | I89: Estinfilm
A90: =IF(B90<>"",ROWS($B$6:B90),"") -> 85 | B90: Delinkventai | C90: Los delincuentes | D90: AR | E90: 106.4 | F90: 24 | G90: 4 | H90: 45379 | I90: Europos kinas
A91: =IF(B91<>"",ROWS($B$6:B91),"") -> 86 | B91: Praėję gyvenimai | C91: Past lives | D91: US, KR | E91: 102 | F91: 21 | G91: 1 | H91: 45254 | I91: Europos kinas
A92: =IF(B92<>"",ROWS($B$6:B92),"") -> 87 | B92: Lapių kelionė ledynuose | C92: Kina and Yuk | D92: IT, CA, FR | E92: 100 | F92: 20 | G92: 1 | H92: 45296 | I92: ACME Film
A93: =IF(B93<>"",ROWS($B$6:B93),"") -> 88 | B93: Undinėlė | C93: Little Mermaid | D93: US | E93: 56.8 | F93: 11 | G93: 4 | H93: 45072 | I93: Theatrical Film Distribution / WDSMPI
... A97: =IF(B97<>"",ROWS($B$6:B97),"") -> 92 | B97: Labirintai | C97: Passages | D97: FR, DE | E97: 11 | F97: 2 | G97: 2 | H97: 45379 | I97: Europos kinas
E98: =SUBTOTAL(109,Table3_Vasaris5[Pajamos]) -> 2002484.5 | F98: =SUBTOTAL(109,Table3_Vasaris5[Žiūrovų skaičius]) -> 292481

Sheet Balandis
A1: ='2024'!A1 -> 2024
A2: ='2024'!A2 -> Lietuvos kino teatruose rodytų filmų TOP
A3: Balandis
A5: Eil. Nr. | B5: Filmo pavadinimas | C5: Filmo pavadinimas originalo kalba | D5: Kilmės šalis | E5: Pajamos | F5: Žiūrovų skaičius | G5: Kopijų skaičius | H5: Premjeros data | I5: Platintojas
A6: =IF(B6<>"",ROWS($B$6:B6),"") -> 1 | B6: Kung Fu Panda 4 | C6: Kung Fu Panda 4 | D6: US | E6: 298665.44 | F6: 52748 | G6: 29 | H6: 45359 | I6: Dukine Film Distribution / Universal Pictures
A7: =IF(B7<>"",ROWS($B$6:B7),"") -> 2 | B7: Godzila ir kongas: Nauja imperija | C7: Godzilla x Kong: The New Empire | D7: US | E7: 149230.5 | F7: 21650 | G7: 16 | H7: 45380 | I7: ACME Film / WB
A8: =IF(B8<>"",ROWS($B$6:B8),"") -> 3 | B8: Kopa: antra dalis | C8: Dune: Part II | D8: US, CA | E8: 108664.94 | F8: 14422 | G8: 12 | H8: 45352 | I8: ACME Film / WB
A9: =IF(B9<>"",ROWS($B$6:B9),"") -> 4 | B9: Nedžentelmeniško karo ministerija | C9: The Ministry of Ungentlemanly Warfare | D9: US, UK, TR | E9: 77739.07 | F9: 10564 | G9: 16 | H9: 45401 | I9: ACME Film
A10: =IF(B10<>"",ROWS($B$6:B10),"") -> 5 | B10: Back To Black | C10: Back To Black | D10: US, FR, UK | E10: 70370.14 | F10: 10316 | G10: 20 | H10: 45394 | I10: Dukine Film Distribution / Universal Pictures
A11: =IF(B11<>"",ROWS($B$6:B11),"") -> 6 | B11: Prezidentas | C11: Prezidentas | D11: LT | E11: 63900.14 | F11: 10816 | G11: 15 | H11: 45394 | I11: Cinema Ads
A12: =IF(B12<>"",ROWS($B$6:B12),"") -> 7 | B12: Drakonų sergėtoja | C12: Dragonkeeper | D12: ES, CN | E12: 55083.2 | F12: 10421 | G12: 19 | H12: 45401 | I12: Adastra Cinema
A13: =IF(B13<>"",ROWS($B$6:B13),"") -> 8 | B13: Pilietinis karas | C13: Civil War | D13: US, UK | E13: 52510.53 | F13: 7443 | G13: 19 | H13: 45394 | I13: Theatrical Film Distribution
A14: =IF(B14<>"",ROWS($B$6:B14),"") -> 9 | B14: Kaimiečiai | C14: Chlopi | D14: PL, LT | E14: 46007.55 | F14: 7252 | G14: 24 | H14: 45379 | I14: Europos kinas
A15: =IF(B15<>"",ROWS($B$6:B15),"") -> 10 | B15: Vaiduoklių medžiotojai: sustingę iš baimės | C15: Ghostbusters Frozen Empire | D15: US | E15: 45964.11 | F15: 7579 | G15: 13 | H15: 45373 | I15: ACME Film / SONY
A16: =IF(B16<>"",ROWS($B$6:B16),"") -> 11 | B16: Nutrūktgalviai: Don Kichoto pėdsakais | C16: Giants of La Mancha | D16: AR, BE, DE | E16: 45779.89 | F16: 8933 | G16: 19 | H16: 45373 | I16: ACME Film
A17: =IF(B17<>"",ROWS($B$6:B17),"") -> 12 | B17: Interesų zona | C17: The Zone of Interest | D17: UK, US, PL | E17: 42132.32 | F17: 6522 | G17: 24 | H17: 45379 | I17: Europos kinas
... A51: =IF(B51<>"",ROWS($B$6:B51),"") -> 46 | B51: Mamutų medžioklė | C51: Mamutų medžioklė | D51: LT | E51: 1191.9 | F51: 250 | G51: 2 | H51: 45352 | I51: Kino pasaka
A52: =IF(B52<>"",ROWS($B$6:B52),"") -> 47 | B52: Šunyčiai patruliai 2. Galingas filmas | C52: PAW Patrol: The Mighty Movie | D52: US, CA | E52: 1188.7 | F52: 242 | G52: 4 | H52: 2023-10-27 | I52: Dukine Film Distribution / Paramount Pictures
A53: =IF(B53<>"",ROWS($B$6:B53),"") -> 48 | B53: Šuo ir katė. Pabėgimas | C53: Chien et Chat | D53: FR | E53: 1161.25 | F53: 242 | G53: 5 | H53: 45345 | I53: ACME Film
A54: =IF(B54<>"",ROWS($B$6:B54),"") -> 49 | B54: Puikios dienos | C54: Perfect days | D54: JP, DE | E54: 1022.2 | F54: 100 | G54: 1 | H54: 45282 | I54: A-One Films
A55: =IF(B55<>"",ROWS($B$6:B55),"") -> 50 | B55: How to Have Sex | C55: How to Have Sex | D55: UK, GR | E55: 877.3 | F55: 153 | G55: 8 | H55: 45379 | I55: Europos kinas
A56: =IF(B56<>"",ROWS($B$6:B56),"") -> 51 | B56: Čiulbanti siela | C56: Čiulbanti siela | D56: LT | E56: 758.2 | F56: 91 | G56: 1 | H56: 45261 | I56: Taip toliau
A57: =IF(B57<>"",ROWS($B$6:B57),"") -> 52 | B57: Baltoji paukštė | C57: White Bird a Wonder Story | D57: US | E57: 708.88 | F57: 204 | G57: 4 | H57: 45359 | I57: ACME Film
A58: =IF(B58<>"",ROWS($B$6:B58),"") -> 53 | B58: Mano laisvė | C58: Mana Brīvība | D58: LV, LT | E58: 637.4 | F58: 116 | G58: 7 | H58: 45387 | I58: M-Films
A59: =IF(B59<>"",ROWS($B$6:B59),"") -> 54 | B59: Undinėlė | C59: Little Mermaid | D59: US | E59: 606.3 | F59: 123 | G59: 4 | H59: 45072 | I59: Theatrical Film Distribution / WDSMPI
A60: =IF(B60<>"",ROWS($B$6:B60),"") -> 55 | B60: Labirintai | C60: Passages | D60: FR, DE | E60: 595.7 | F60: 106 | G60: 9 | H60: 45379 | I60: Europos kinas
A61: =IF(B61<>"",ROWS($B$6:B61),"") -> 56 | B61: Motinos instinktas | C61: Mothers‘ instinct | D61: US | E61: 505.9 | F61: 117 | G61: 2 | H61: 45359 | I61: Adastra Cinema
A62: =IF(B62<>"",ROWS($B$6:B62),"") -> 57 | B62: Marijos tyla | C62: Marijas Klusums | D62: LT, LV | E62: 489.78 | F62: 105 | G62: 5 | H62: 45401 | I62: Broom Films
A63: =IF(B63<>"",ROWS($B$6:B63),"") -> 58 | B63: 5½ meilės istorijos viename Vilniaus bute | C63: Five and a Half Love Stories in an Apartment in Vilnius, Lithuania | D63: LT, IE, LV | E63: 441.3 | F63: 65 | G63: 2 | H63: 45331 | I63: Europos kinas
A64: =IF(B64<>"",ROWS($B$6:B64),"") -> 59 | B64: Delinkventai | C64: Los delincuentes | D64: AR | E64: 429.9 | F64: 75 | G64: 5 | H64: 45379 | I64: Europos kinas
... A89: =IF(B89<>"",ROWS($B$6:B89),"") -> 84 | B89: Geležiniai gniaužtai | C89: The Iron Claw | D89: US, UK | E89: 40 | F89: 20 | G89: 1 | H89: 45345 | I89: Europos kinas
E90: =SUBTOTAL(109,Table3_Balandis[Pajamos]) -> 1370567.8 | F90: =SUBTOTAL(109,Table3_Balandis[Žiūrovų skaičius]) -> 220325

Sheet Gegužė
A1: ='2024'!A1 -> 2024
A2: ='2024'!A2 -> Lietuvos kino teatruose rodytų filmų TOP
A3: Gegužė
A5: Eil. Nr. | B5: Filmo pavadinimas | C5: Filmo pavadinimas originalo kalba | D5: Kilmės šalis | E5: Pajamos | F5: Žiūrovų skaičius | G5: Kopijų skaičius | H5: Premjeros data | I5: Platintojas
A6: =IF(B6<>"",ROWS($B$6:B6),"") -> 1 | B6: Garfildas | C6: The Garfield Movie | D6: US | E6: 142769.29 | F6: 25572 | G6: 20 | H6: 45436 | I6: ACME Film / SONY
A7: =IF(B7<>"",ROWS($B$6:B7),"") -> 2 | B7: Beždžionių planetos karalystė | C7: Kingdom of the Planet of the Apes | D7: US | E7: 89682.22 | F7: 12615 | G7: 16 | H7: 45422 | I7: Theatrical Film Distribution / WDSMPI
A8: =IF(B8<>"",ROWS($B$6:B8),"") -> 3 | B8: Varžovai | C8: Challengers | D8: US | E8: 82510.87 | F8: 12124 | G8: 20 | H8: 45415 | I8: ACME Film / WB
A9: =IF(B9<>"",ROWS($B$6:B9),"") -> 4 | B9: Mirties korta | C9: Tarot | D9: US | E9: 68812.8 | F9: 10135 | G9: 15 | H9: 45422 | I9: ACME Film / SONY
A10: =IF(B10<>"",ROWS($B$6:B10),"") -> 5 | B10: Kaskadininkas | C10: The Fall Guy | D10: US | E10: 61655.16 | F10: 9398 | G10: 19 | H10: 45408 | I10: Dukine Film Distribution / Universal Pictures
A11: =IF(B11<>"",ROWS($B$6:B11),"") -> 6 | B11: Nematomi draugai | C11: IF: Imaginary Friends | D11: US | E11: 58273.2 | F11: 11142 | G11: 25 | H11: 45429 | I11: Dukine Film Distribution / Paramount Pictures
A12: =IF(B12<>"",ROWS($B$6:B12),"") -> 7 | B12: Furioza: Pašėlusio Makso saga | C12: Furiosa: A Mad Max Saga | D12: AU, US | E12: 49990.99 | F12: 6600 | G12: 20 | H12: 45436 | I12: ACME Film / WB
A13: =IF(B13<>"",ROWS($B$6:B13),"") -> 8 | B13: Kung Fu Panda 4 | C13: Kung Fu Panda 4 | D13: US | E13: 49343.75 | F13: 8699 | G13: 16 | H13: 45359 | I13: Dukine Film Distribution / Universal Pictures
A14: =IF(B14<>"",ROWS($B$6:B14),"") -> 9 | B14: Drakonų sergėtoja | C14: Dragonkeeper | D14: ES, CN | E14: 41200.77 | F14: 7886 | G14: 16 | H14: 45401 | I14: Adastra Cinema
A15: =IF(B15<>"",ROWS($B$6:B15),"") -> 10 | B15: Nedžentelmeniško karo ministerija | C15: The Ministry of Ungentlemanly Warfare | D15: US, UK, TR | E15: 17274.09 | F15: 2481 | G15: 14 | H15: 45401 | I15: ACME Film
A16: =IF(B16<>"",ROWS($B$6:B16),"") -> 11 | B16: Keistuolė Betė | C16: My Freaky Family | D16: DE, IE, AU | E16: 17058.92 | F16: 3390 | G16: 19 | H16: 45408 | I16: ACME Film
A17: =IF(B17<>"",ROWS($B$6:B17),"") -> 12 | B17: Prezidentas | C17: Prezidentas | D17: LT | E17: 14900.83 | F17: 2429 | G17: 15 | H17: 45394 | I17: Cinema Ads
... A28: =IF(B28<>"",ROWS($B$6:B28),"") -> 23 | B28: Pilietinis karas | C28: Civil War | D28: US, UK | E28: 4122.49 | F28: 641 | G28: 8 | H28: 45394 | I28: Theatrical Film Distribution
A29: =IF(B29<>"",ROWS($B$6:B29),"") -> 24 | B29: Kauliuko metimas | C29: Breaking point | D29: FR, BE | E29: 3972 | F29: 479 | G29: 1 | H29: Preview | I29: Adastra Cinema
A30: =IF(B30<>"",ROWS($B$6:B30),"") -> 25 | B30: Mikė Pūkuotukas: Kraujas ir medus 2 | C30: Winnie the Pooh: Blood and Honey 2 | D30: UK | E30: 3662.47 | F30: 540 | G30: 10 | H30: 45415 | I30: Unlimited Media OÜ
A31: =IF(B31<>"",ROWS($B$6:B31),"") -> 26 | B31: Kaimiečiai | C31: Chlopi | D31: PL, LT | E31: 3288.3 | F31: 563 | G31: 9 | H31: 45379 | I31: Europos kinas
A32: =IF(B32<>"",ROWS($B$6:B32),"") -> 27 | B32: Irklais per Atlantą | C32: Irklais per Atlantą | D32: LT | E32: 3224.21 | F32: 707 | G32: 3 | H32: 45310 | I32: Valujavičiaus kelionės
A33: =IF(B33<>"",ROWS($B$6:B33),"") -> 28 | B33: Mano nusikaltimas | C33: Mon crime | D33: FR | E33: 3144 | F33: 641 | G33: 2 | H33: 45176 | I33: A-One Films
A34: =IF(B34<>"",ROWS($B$6:B34),"") -> 29 | B34: Interesų zona | C34: The Zone of Interest | D34: UK, US, PL | E34: 2911.6 | F34: 480 | G34: 7 | H34: 45379 | I34: Europos kinas
A35: =IF(B35<>"",ROWS($B$6:B35),"") -> 30 | B35: Apsinuoginusi mūza | C35: Bonnard: Pierre & Marthe | D35: FR, BE | E35: 2772.2 | F35: 523 | G35: 6 | H35: 45415 | I35: Best Film
A36: =IF(B36<>"",ROWS($B$6:B36),"") -> 31 | B36: Kritinė zona | C36: Mantagheye bohrani | D36: IR | E36: 2730.7 | F36: 610 | G36: 6 | H36: 45429 | I36: A-One Films
A37: =IF(B37<>"",ROWS($B$6:B37),"") -> 32 | B37: Chimera | C37: La Chimera | D37: IT | E37: 2384.8 | F37: 391 | G37: 4 | H37: 45401 | I37: A-One Films
A38: =IF(B38<>"",ROWS($B$6:B38),"") -> 33 | B38: Legua | C38: Légua | D38: PT | E38: 1853 | F38: 375 | G38: 1 | H38: 45415 | I38: A-One Films
A39: =IF(B39<>"",ROWS($B$6:B39),"") -> 34 | B39: Abigailė | C39: Abigail | D39: US, IE | E39: 1804.49 | F39: 258 | G39: 11 | H39: 45401 | I39: Dukine Film Distribution / Universal Pictures
A40: =IF(B40<>"",ROWS($B$6:B40),"") -> 35 | B40: Mažylis Nikolia pasakoja apie laimę | C40: Petit Nicolas: Qu'est-Ce Qu'on Attend Pour Être Heureux? | D40: FR, LU, CA | E40: 1782 | F40: 426 | G40: 3 | H40: 45380 | I40: Adastra Cinema
A41: =IF(B41<>"",ROWS($B$6:B41),"") -> 36 | B41: Vaikis žudo pasaulį | C41: Boy Kills World | D41: US | E41: 1744 | F41: 331 | G41: 12 | H41: 45422 | I41: Baltic Content Media
... A48: =IF(B48<>"",ROWS($B$6:B48),"") -> 43 | B48: Vaiduoklių medžiotojai: sustingę iš baimės | C48: Ghostbusters Frozen Empire | D48: US | E48: 1085.89 | F48: 187 | G48: 5 | H48: 45373 | I48: ACME Film / SONY
A49: =IF(B49<>"",ROWS($B$6:B49),"") -> 44 | B49: Rašytojas | C49: The Writer | D49: LT, DE, US | E49: 1057.67 | F49: 159 | G49: 3 | H49: Preview | I49: Naratyvas
A50: =IF(B50<>"",ROWS($B$6:B50),"") -> 45 | B50: Visi mes svetimi | C50: All of Us Strangers | D50: UK, US | E50: 954.64 | F50: 203 | G50: 3 | H50: 45408 | I50: Theatrical Film Distribution / WDSMPI
A51: =IF(B51<>"",ROWS($B$6:B51),"") -> 46 | B51: Nakties skerdikas | C51: Wake Up | D51: FR | E51: 872 | F51: 132 | G51: 13 | H51: 45443 | I51: Garsų pasaulio įrašai
A52: =IF(B52<>"",ROWS($B$6:B52),"") -> 47 | B52: Mūza | C52: Mūza | D52: LT | E52: 799 | F52: 162 | G52: 3 | H52: 45345 | I52: ACME Film
A53: =IF(B53<>"",ROWS($B$6:B53),"") -> 48 | B53: Femme | C53: Femme | D53: UK | E53: 764.4 | F53: 118 | G53: 2 | H53: 45387 | I53: Garsų pasaulio įrašai
A54: =IF(B54<>"",ROWS($B$6:B54),"") -> 49 | B54: Hit Man | C54: Hit Man | D54: US | E54: 742.32 | F54: 102 | G54: 4 | H54: Preview | I54: Travolta
A55: =IF(B55<>"",ROWS($B$6:B55),"") -> 50 | B55: Nekaltoji | C55: Immaculate | D55: US | E55: 738.32 | F55: 101 | G55: 2 | H55: 45373 | I55: ACME Film
A56: =IF(B56<>"",ROWS($B$6:B56),"") -> 51 | B56: Viena gyvybė | C56: One Life | D56: UK | E56: 664 | F56: 130 | G56: 1 | H56: 45303 | I56: ACME Film
A57: =IF(B57<>"",ROWS($B$6:B57),"") -> 52 | B57: Drugelio Širdis | C57: Drugelio Širdis | D57: LT | E57: 641.54 | F57: 204 | G57: 8 | H57: 44659 | I57: ACME Film
A58: =IF(B58<>"",ROWS($B$6:B58),"") -> 53 | B58: Kryčio anatomija | C58: Anatomy of a Fall | D58: FR | E58: 560.7 | F58: 101 | G58: 5 | H58: 45379 | I58: Europos kinas
A59: =IF(B59<>"",ROWS($B$6:B59),"") -> 54 | B59: Svajonių atostogos | C59: The Holdovers | D59: US | E59: 538.51 | F59: 111 | G59: 2 | H59: 45401 | I59: Dukine Film Distribution / Universal Pictures
A60: =IF(B60<>"",ROWS($B$6:B60),"") -> 55 | B60: Baltoji paukštė | C60: White Bird a Wonder Story | D60: US | E60: 475.98 | F60: 125 | G60: 2 | H60: 45359 | I60: ACME Film
A61: =IF(B61<>"",ROWS($B$6:B61),"") -> 56 | B61: Didieji planetos sergėtojai | C61: Les gardiennes de la planete | D61: FR | E61: 330 | F61: 132 | G61: 1 | H61: 45233 | I61: Estinfilm
A62: =IF(B62<>"",ROWS($B$6:B62),"") -> 57 | B62: Mano laisvė | C62: Mana Brīvība | D62: LV, LT | E62: 306.6 | F62: 50 | G62: 1 | H62: 45387 | I62: M-films
A63: =IF(B63<>"",ROWS($B$6:B63),"") -> 58 | B63: Monstras | C63: Monster | D63: JP | E63: 299 | F63: 66 | G63: 4 | H63: 45379 | I63: Europos kinas
A64: =IF(B64<>"",ROWS($B$6:B64),"") -> 59 | B64: Čiulbanti siela | C64: Čiulbanti siela | D64: LT | E64: 263.4 | F64: 82 | G64: 1 | H64: 45261 | I64: Taip toliau
A65: =IF(B65<>"",ROWS($B$6:B65),"") -> 60 | B65: Šokių karalienė | C65: Dancing Queen | D65: NO | E65: 235 | F65: 47 | G65: 1 | H65: 45317 | I65: Estinfilm
A66: =IF(B66<>"",ROWS($B$6:B66),"") -> 61 | B66: Ernestas ir Selestina: Kelionė į Šaradiją | C66: Ernest et Célestine: Le voyage en Charabie | D66: FR, LU | E66: 225 | F66: 45 | G66: 1 | H66: 45275 | I66: Broom Films
... A92: =IF(B92<>"",ROWS($B$6:B92),"") -> 87 | B92: How to Have Sex | C92: How to Have Sex | D92: UK, GR | E92: 10 | F92: 2 | G92: 1 | H92: 45379 | I92: Europos kinas
A93: =IF(B93<>"",ROWS($B$6:B93),"")
A94: =IF(B94<>"",ROWS($B$6:B94),"")
A95: =IF(B95<>"",ROWS($B$6:B95),"")
A96: =IF(B96<>"",ROWS($B$6:B96),"")
A97: =IF(B97<>"",ROWS($B$6:B97),"")
A98: =IF(B98<>"",ROWS($B$6:B98),"")
E99: =SUBTOTAL(109,Table3_Gegužė[Pajamos]) -> 825041.83 | F99: =SUBTOTAL(109,Table3_Gegužė[Žiūrovų skaičius]) -> 135632

Sheet Birželis
A1: ='2024'!A1 -> 2024
A2: ='2024'!A2 -> Lietuvos kino teatruose rodytų filmų TOP
A3: Birželis
A5: Eil. Nr. | B5: Filmo pavadinimas | C5: Filmo pavadinimas originalo kalba | D5: Kilmės šalis | E5: Pajamos | F5: Žiūrovų skaičius | G5: Kopijų skaičius | H5: Premjeros data | I5: Platintojas
A6: =IF(B6<>"",ROWS($B$6:B6),"") -> 1 | B6: Išvirkščias pasaulis 2 | C6: Inside Out 2 | D6: US, JP | E6: 752296.14 | F6: 125768 | G6: 31 | H6: 45457 | I6: Theatrical Film Distribution / WDSMPI
A7: =IF(B7<>"",ROWS($B$6:B7),"") -> 2 | B7: Garfildas | C7: The Garfield Movie | D7: US | E7: 353460.76 | F7: 66177 | G7: 19 | H7: 45436 | I7: ACME Film / SONY
A8: =IF(B8<>"",ROWS($B$6:B8),"") -> 3 | B8: Pašėlę vyrukai: viskas arba nieko | C8: Bad Boys: Ride Or Die | D8: US | E8: 198721.99 | F8: 26330 | G8: 16 | H8: 45450 | I8: ACME Film / SONY
A9: =IF(B9<>"",ROWS($B$6:B9),"") -> 4 | B9: Furioza: Pašėlusio Makso saga | C9: Furiosa: A Mad Max Saga | D9: AU, US | E9: 63710.86 | F9: 9007 | G9: 19 | H9: 45436 | I9: ACME Film / WB
A10: =IF(B10<>"",ROWS($B$6:B10),"") -> 5 | B10: Stebėtojai | C10: The Watchers | D10: US | E10: 60592.62 | F10: 9426 | G10: 14 | H10: 45450 | I10: ACME Film / WB
A11: =IF(B11<>"",ROWS($B$6:B11),"") -> 6 | B11: Nematomi draugai | C11: IF: Imaginary Friends | D11: US | E11: 42780.97 | F11: 8641 | G11: 18 | H11: 45429 | I11: Dukine Film Distribution / Paramount Pictures
A12: =IF(B12<>"",ROWS($B$6:B12),"") -> 7 | B12: Tylos zona. Pirmoji diena | C12: A Quiet Place: Day One | D12: US | E12: 38330.08 | F12: 4899 | G12: 17 | H12: 45471 | I12: Dukine Film Distribution / Paramount Pictures
A13: =IF(B13<>"",ROWS($B$6:B13),"") -> 8 | B13: Beždžionių planetos karalystė | C13: Kingdom of the Planet of the Apes | D13: US | E13: 32002.1 | F13: 4990 | G13: 11 | H13: 45422 | I13: Theatrical Film Distribution / WDSMPI
A14: =IF(B14<>"",ROWS($B$6:B14),"") -> 9 | B14: Mirties korta | C14: Tarot | D14: US | E14: 26617.12 | F14: 3740 | G14: 8 | H14: 45422 | I14: ACME Film / SONY
A15: =IF(B15<>"",ROWS($B$6:B15),"") -> 10 | B15: Hit Man | C15: Hit Man | D15: US | E15: 22093.63 | F15: 3373 | G15: 12 | H15: 45443 | I15: Travolta
A16: =IF(B16<>"",ROWS($B$6:B16),"") -> 11 | B16: Karalienės žaidimas | C16: Firebrand | D16: US | E16: 17900.75 | F16: 2841 | G16: 19 | H16: 45464 | I16: Adastra Cinema
A17: =IF(B17<>"",ROWS($B$6:B17),"") -> 12 | B17: Nepažįstamieji: pirma dalis | C17: Strangers: Chapter One | D17: US, ES | E17: 15673.2 | F17: 2389 | G17: 12 | H17: 45436 | I17: ACME Film
... A49: =IF(B49<>"",ROWS($B$6:B49),"") -> 44 | B49: Apsinuoginusi mūza | C49: Bonnard: Pierre & Marthe | D49: FR, BE | E49: 1320.9 | F49: 1349 | G49: 1 | H49: 45415 | I49: Best Film
A50: =IF(B50<>"",ROWS($B$6:B50),"") -> 45 | B50: Muzika | C50: Music | D50: DE | E50: 1300 | F50: 266 | G50: – | H50: 45422 | I50: A-One Films
A51: =IF(B51<>"",ROWS($B$6:B51),"") -> 46 | B51: Gauja | C51: Smecka | D51: CZ, SK, LV | E51: 1259 | F51: 516 | G51: 1 | H51: 44302 | I51: Skalvijos kino centras
A52: =IF(B52<>"",ROWS($B$6:B52),"") -> 47 | B52: Ramenai | C52: Ramen Teh | D52: SG, JP, FR | E52: 1171.5 | F52: 174 | G52: 1 | H52: 43609 | I52: Greta Garbo Films
A53: =IF(B53<>"",ROWS($B$6:B53),"") -> 48 | B53: Petsi Iš Argo | C53: Argonuts | D53: FR | E53: 1012 | F53: 478 | G53: 4 | H53: 45045 | I53: Adastra Cinema
A54: =IF(B54<>"",ROWS($B$6:B54),"") -> 49 | B54: Mūsų namai | C54: Where We Belong | D54: CH | E54: 900 | F54: 102 | G54: 1 | H54: 44350 | I54: Skalvijos kino centras
A55: =IF(B55<>"",ROWS($B$6:B55),"") -> 50 | B55: Svajonių atostogos | C55: The Holdovers | D55: US | E55: 850 | F55: 170 | G55: 1 | H55: 45401 | I55: Dukine Film Distribution / Universal Pictures
A56: =IF(B56<>"",ROWS($B$6:B56),"") -> 51 | B56: Parko stebuklai | C56: The Inseparables | D56: ES, FR, BE | E56: 847 | F56: 426 | G56: 4 | H56: 45289 | I56: Adastra Cinema
A57: =IF(B57<>"",ROWS($B$6:B57),"") -> 52 | B57: Sapnų scenarijus | C57: Dream Scenario | D57: US | E57: 835 | F57: 123 | G57: 1 | H57: 45275 | I57: Europos kinas
A58: =IF(B58<>"",ROWS($B$6:B58),"") -> 53 | B58: Drugelio Širdis | C58: Drugelio Širdis | D58: LT | E58: 819.1 | F58: 212 | G58: 3 | H58: 44659 | I58: ACME Film
A59: =IF(B59<>"",ROWS($B$6:B59),"") -> 54 | B59: Kaimiečiai | C59: Chlopi | D59: PL, LT | E59: 799 | F59: 146 | G59: 4 | H59: 45379 | I59: Europos kinas
A60: =IF(B60<>"",ROWS($B$6:B60),"") -> 55 | B60: Bintė | C60: Binti | D60: BE | E60: 791 | F60: 215 | G60: 1 | H60: 44080 | I60: Skalvijos kino centras
A61: =IF(B61<>"",ROWS($B$6:B61),"") -> 56 | B61: Greiti ir pūkuoti | C61: Rally Road Racers | D61: UK | E61: 698.5 | F61: 301 | G61: 4 | H61: 45163 | I61: Adastra Cinema
A62: =IF(B62<>"",ROWS($B$6:B62),"") -> 57 | B62: What the Finn – Summer of Surprises (Kannawoniwasein!) | C62: What the Finn – Summer of Surprises (Kannawoniwasein!) | D62: DE | E62: 697.4 | F62: 221 | G62: 3 | H62: 45422 | I62: Unlimited Media OÜ
A63: =IF(B63<>"",ROWS($B$6:B63),"") -> 58 | B63: Viena gyvybė | C63: One Life | D63: UK | E63: 686.68 | F63: 148 | G63: 3 | H63: 45303 | I63: ACME Film
A64: =IF(B64<>"",ROWS($B$6:B64),"") -> 59 | B64: Jokūbas, Mimi ir kalbantys šunys | C64: Jekabs, Mimmi un runajosie suni | D64: LV, PL | E64: 668 | F64: 182 | G64: 1 | H64: 44114 | I64: Skalvijos kino centras
A65: =IF(B65<>"",ROWS($B$6:B65),"") -> 60 | B65: Ema ir juodasis jaguaras | C65: Le Dernier Jaguar | D65: FR, DE, CA | E65: 641.26 | F65: 258 | G65: 6 | H65: 45331 | I65: ACME Film
A66: =IF(B66<>"",ROWS($B$6:B66),"") -> 61 | B66: Lukas | C66: Luca | D66: US | E66: 632.14 | F66: 200 | G66: 2 | H66: 44400 | I66: Theatrical Film Distribution / WDSMPI
... A106: =IF(B106<>"",ROWS($B$6:B106),"") -> 101 | B106: Rūkymas sukelia kosulį | C106: Smoking Causes Coughing | D106: FR | E106: 68 | F106: 14 | G106: 1 | H106: 45012 | I106: Europos kinas
A107: =IF(B107<>"",ROWS($B$6:B107),"") -> 102 | B107: Toro | C107: Mandibules | D107: FR, BE | E107: 64 | F107: 13 | G107: 1 | H107: – | I107: Europos kinas
A108: =IF(B108<>"",ROWS($B$6:B108),"") -> 103 | B108: Motinos instinktas | C108: Mothers‘ instinct | D108: US | E108: 42 | F108: 12 | G108: 1 | H108: 45359 | I108: Adastra Cinema
A109: =IF(B109<>"",ROWS($B$6:B109),"") -> 104 | B109: Lapių kelionė ledynuose | C109: Kina and Yuk | D109: IT, CA, FR | E109: 40 | F109: 8 | G109: 1 | H109: 45296 | I109: ACME Film
A110: =IF(B110<>"",ROWS($B$6:B110),"") -> 105 | B110: Kažkas ten yra | C110: Something in the Water | D110: US, FR, UK | E110: 33 | F110: 7 | G110: 1 | H110: 45429 | I110: Garsų pasaulio įrašai
A111: =IF(B111<>"",ROWS($B$6:B111),"") -> 106 | B111: Raganosis Rino | C111: Thabo and the Rhino Case | D111: DE | E111: 10 | F111: 2 | G111: 1 | H111: 45394 | I111: Garsų pasaulio įrašai
E112: =SUBTOTAL(109,Table3_Birželis[Pajamos]) -> 1767940.6 | F112: =SUBTOTAL(109,Table3_Birželis[Žiūrovų skaičius]) -> 298100

Sheet Liepa
A1: ='2024'!A1 -> 2024
A2: ='2024'!A2 -> Lietuvos kino teatruose rodytų filmų TOP
A3: Liepa
A5: Eil. Nr. | B5: Filmo pavadinimas | C5: Filmo pavadinimas originalo kalba | D5: Kilmės šalis | E5: Pajamos | F5: Žiūrovų skaičius | G5: Kopijų skaičius | H5: Premjeros data | I5: Platintojas
A6: =IF(B6<>"",ROWS($B$6:B6),"") -> 1 | B6: Bjaurusis aš 4 | C6: Despicable Me 4 | D6: US | E6: 835767.94 | F6: 142945 | G6: 31 | H6: 45478 | I6: Dukine Film Distribution / Universal Pictures
A7: =IF(B7<>"",ROWS($B$6:B7),"") -> 2 | B7: Išvirkščias pasaulis 2 | C7: Inside Out 2 | D7: US, JP | E7: 372314.49 | F7: 66559 | G7: 32 | H7: 45457 | I7: Theatrical Film Distribution / WDSMPI
A8: =IF(B8<>"",ROWS($B$6:B8),"") -> 3 | B8: Deadpool ir Ernis | C8: Deadpool & Wolverine | D8: US | E8: 303717.11 | F8: 37565 | G8: 15 | H8: 45499 | I8: Theatrical Film Distribution / WDSMPI
A9: =IF(B9<>"",ROWS($B$6:B9),"") -> 4 | B9: Tylos zona. Pirmoji diena | C9: A Quiet Place: Day One | D9: US | E9: 128968.86 | F9: 18702 | G9: 17 | H9: 45471 | I9: Dukine Film Distribution / Paramount Pictures
A10: =IF(B10<>"",ROWS($B$6:B10),"") -> 5 | B10: Sielų kolekcionierius | C10: Longlegs | D10: US | E10: 97845.76 | F10: 14005 | G10: 16 | H10: 2024-07-19 | I10: ACME Film
A11: =IF(B11<>"",ROWS($B$6:B11),"") -> 6 | B11: Tornadų medžiotojai | C11: Twisters | D11: US | E11: 66988.14 | F11: 9391 | G11: 14 | H11: 2024-07-19 | I11: ACME Film / WB
A12: =IF(B12<>"",ROWS($B$6:B12),"") -> 7 | B12: Malonės rūšys | C12: Kinds of Kindness | D12: US | E12: 45188.79 | F12: 6728 | G12: 17 | H12: 45478 | I12: Theatrical Film Distribution / WDSMPI
A13: =IF(B13<>"",ROWS($B$6:B13),"") -> 8 | B13: Pašėlę vyrukai: viskas arba nieko | C13: Bad Boys: Ride Or Die | D13: US | E13: 38751.74 | F13: 5797 | G13: 11 | H13: 45450 | I13: ACME Film / SONY
A14: =IF(B14<>"",ROWS($B$6:B14),"") -> 9 | B14: Nuskraidink mane į mėnulį | C14: Fly Me to the Moon | D14: US | E14: 36575.81 | F14: 5988 | G14: 20 | H14: 45485 | I14: ACME Film / SONY
A15: =IF(B15<>"",ROWS($B$6:B15),"") -> 10 | B15: Garfildas | C15: The Garfield Movie | D15: US | E15: 34369.31 | F15: 6586 | G15: 14 | H15: 45436 | I15: ACME Film / SONY
A16: =IF(B16<>"",ROWS($B$6:B16),"") -> 11 | B16: Egzorcizmas | C16: The Exorcism | D16: US | E16: 32217 | F16: 4715 | G16: 13 | H16: 45478 | I16: Garsų pasaulio įrašai
A17: =IF(B17<>"",ROWS($B$6:B17),"") -> 12 | B17: Baikeriai | C17: Bikeriders | D17: US | E17: 21772.82 | F17: 3364 | G17: 17 | H17: 45485 | I17: Dukine Film Distribution / Universal Pictures
A18: =IF(B18<>"",ROWS($B$6:B18),"") -> 13 | B18: Afrika Pandastika | C18: Panda Bear in Africa | D18: DK, NL, FR, DE, EE, CN | E18: 20855.62 | F18: 4024 | G18: 16 | H18: 45499 | I18: Adastra Cinema
A19: =IF(B19<>"",ROWS($B$6:B19),"") -> 14 | B19: Paslapčių traukinys | C19: A Mystery on the Cattle Hill Express | D19: NO | E19: 10554 | F19: 2267 | G19: 14 | H19: 45492 | I19: Garsų pasaulio įrašai
A20: =IF(B20<>"",ROWS($B$6:B20),"") -> 15 | B20: Kitąmet tuo pačiu laiku | C20: This Time Next Year | D20: UK | E20: 8560 | F20: 1426 | G20: 14 | H20: 45471 | I20: Garsų pasaulio įrašai
A21: =IF(B21<>"",ROWS($B$6:B21),"") -> 16 | B21: Žvėriška prigimtis | C21: In A Violent Nature | D21: CA | E21: 8094.77 | F21: 1221 | G21: 12 | H21: 45485 | I21: Theatrical Film Distribution
A22: =IF(B22<>"",ROWS($B$6:B22),"") -> 17 | B22: Horizontas 1 dalis | C22: Horizon an American Saga Part 1 | D22: US | E22: 7704.98 | F22: 1221 | G22: 9 | H22: 45471 | I22: Travolta
A23: =IF(B23<>"",ROWS($B$6:B23),"") -> 18 | B23: O, Paryžiau! | C23: Paris Paradis | D23: FR | E23: 4931 | F23: 805 | G23: 12 | H23: 45499 | I23: Garsų pasaulio įrašai
... A32: =IF(B32<>"",ROWS($B$6:B32),"") -> 27 | B32: Palikimas | C32: Treasure | D32: DE, FR | E32: 1584 | F32: 291 | G32: 9 | H32: 45485 | I32: Garsų pasaulio įrašai
A33: =IF(B33<>"",ROWS($B$6:B33),"") -> 28 | B33: 10 pasimatymų | C33: 10 pasimatymų | D33: LT | E33: 1281.53 | F33: 560 | G33: 10 | H33: Preview | I33: Cinema Ads
A34: =IF(B34<>"",ROWS($B$6:B34),"") -> 29 | B34: Back To Black | C34: Back To Black | D34: US, FR, UK | E34: 1272 | F34: 148 | G34: 2 | H34: 45394 | I34: Dukine Film Distribution / Universal Pictures
A35: =IF(B35<>"",ROWS($B$6:B35),"") -> 30 | B35: Monstras | C35: Monster | D35: JP | E35: 1240 | F35: 199 | G35: 1 | H35: 45379 | I35: Europos kinas
A36: =IF(B36<>"",ROWS($B$6:B36),"") -> 31 | B36: Sapnų scenarijus | C36: Dream Scenario | D36: US | E36: 1234 | F36: 203 | G36: 2 | H36: 45275 | I36: Europos kinas
A37: =IF(B37<>"",ROWS($B$6:B37),"") -> 32 | B37: Priscilla | C37: Priscilla | D37: US, IT | E37: 1196 | F37: 175 | G37: 1 | H37: 45303 | I37: Europos kinas
A38: =IF(B38<>"",ROWS($B$6:B38),"") -> 33 | B38: What the Finn – Summer of Surprisesvb | C38: Kannawoniwasein! | D38: DE | E38: 1158.5 | F38: 255 | G38: 1 | H38: 45422 | I38: Unlimited Media OÜ
A39: =IF(B39<>"",ROWS($B$6:B39),"") -> 34 | B39: Haroldas ir magiškoji kreidelė | C39: Harold & The Purple Crayon | D39: US | E39: 1036.1 | F39: 192 | G39: 8 | H39: Preview | I39: ACME Film / SONY
A40: =IF(B40<>"",ROWS($B$6:B40),"") -> 35 | B40: Hit Man | C40: Hit Man | D40: US | E40: 958.54 | F40: 150 | G40: 2 | H40: 45443 | I40: Travolta
A41: =IF(B41<>"",ROWS($B$6:B41),"") -> 36 | B41: Praėję gyvenimai | C41: Past lives | D41: US, KR | E41: 842 | F41: 126 | G41: 2 | H41: 45254 | I41: Europos kinas
A42: =IF(B42<>"",ROWS($B$6:B42),"") -> 37 | B42: Kauliuko metimas | C42: Breaking point | D42: FR, BE | E42: 731 | F42: 106 | G42: 3 | H42: 45450 | I42: Adastra Cinema
A43: =IF(B43<>"",ROWS($B$6:B43),"") -> 38 | B43: Batuotas katinas Pūkis: paskutinis noras | C43: Puss in Boots: The Last Wish | D43: US, JP | E43: 688.5 | F43: 313 | G43: 4 | H43: 44916 | I43: Dukine Film Distribution / Universal Pictures
A44: =IF(B44<>"",ROWS($B$6:B44),"") -> 39 | B44: Kryčio anatomija | C44: Anatomy of a Fall | D44: FR | E44: 656 | F44: 110 | G44: 2 | H44: 45379 | I44: Europos kinas
A45: =IF(B45<>"",ROWS($B$6:B45),"") -> 40 | B45: Fabelmanai | C45: The Fabelmans | D45: US | E45: 655.5 | F45: 97 | G45: 1 | H45: 44953 | I45: ACME Film
A46: =IF(B46<>"",ROWS($B$6:B46),"") -> 41 | B46: Miauricijus Puikusis | C46: Amazing Maurice | D46: UK, DE, US | E46: 653 | F46: 283 | G46: 4 | H46: 44925 | I46: Adastra Cinema
A47: =IF(B47<>"",ROWS($B$6:B47),"") -> 42 | B47: Furioza: Pašėlusio Makso saga | C47: Furiosa: A Mad Max Saga | D47: AU, US | E47: 639.48 | F47: 106 | G47: 2 | H47: 45436 | I47: ACME Film / WB
A48: =IF(B48<>"",ROWS($B$6:B48),"") -> 43 | B48: Legua | C48: Légua | D48: PT | E48: 600 | F48: 150 | G48: 1 | H48: 45415 | I48: A-One Films
A49: =IF(B49<>"",ROWS($B$6:B49),"") -> 44 | B49: Rašytojas | C49: The Writer | D49: LT, DE, US | E49: 581.6 | F49: 87 | G49: 2 | H49: 45443 | I49: Naratyvas
A50: =IF(B50<>"",ROWS($B$6:B50),"") -> 45 | B50: Troliai 3 | C50: Trolls Band Together | D50: US | E50: 556 | F50: 247 | G50: 4 | H50: 45212 | I50: Dukine Film Distribution / Universal Pictures
A51: =IF(B51<>"",ROWS($B$6:B51),"") -> 46 | B51: Šunyčiai patruliai 2. Galingas filmas | C51: PAW Patrol: The Mighty Movie | D51: US, CA | E51: 550 | F51: 222 | G51: 4 | H51: 45226 | I51: Dukine Film Distribution / Paramount Pictures
... A76: =IF(B76<>"",ROWS($B$6:B76),"") -> 71 | B76: Mėnesinės | C76: Periodical | D76: US | E76: 22.2 | F76: 3 | G76: 1 | H76: 45429 | I76: Europos kinas
E77: =SUBTOTAL(109,Table3_Liepa[Pajamos]) -> 2123244.3 | F77: =SUBTOTAL(109,Table3_Liepa[Žiūrovų skaičius]) -> 343308

Sheet Rugpjūtis
A1: ='2024'!A1 -> 2024
A2: ='2024'!A2 -> Lietuvos kino teatruose rodytų filmų TOP
A3: Rugpjūtis
A5: Eil. Nr. | B5: Filmo pavadinimas | C5: Filmo pavadinimas originalo kalba | D5: Kilmės šalis | E5: Pajamos | F5: Žiūrovų skaičius | G5: Kopijų skaičius | H5: Premjeros data | I5: Platintojas
A6: =IF(B6<>"",ROWS($B$6:B6),"") -> 1 | B6: Mes dedame tašką | C6: It Ends With Us | D6: US | E6: 672691.03 | F6: 93159 | G6: 19 | H6: 45513 | I6: ACME Film / SONY
A7: =IF(B7<>"",ROWS($B$6:B7),"") -> 2 | B7: Deadpool ir Ernis | C7: Deadpool & Wolverine | D7: US | E7: 395933.66 | F7: 52324 | G7: 15 | H7: 45499 | I7: Theatrical Film Distribution / WDSMPI
A8: =IF(B8<>"",ROWS($B$6:B8),"") -> 3 | B8: Bjaurusis aš 4 | C8: Despicable Me 4 | D8: US | E8: 242607.75 | F8: 44091 | G8: 24 | H8: 45478 | I8: Dukine Film Distribution / Universal Pictures
A9: =IF(B9<>"",ROWS($B$6:B9),"") -> 4 | B9: Išvirkščias pasaulis 2 | C9: Inside Out 2 | D9: US, JP | E9: 130125.12 | F9: 24406 | G9: 19 | H9: 45457 | I9: Theatrical Film Distribution / WDSMPI
A10: =IF(B10<>"",ROWS($B$6:B10),"") -> 5 | B10: Svetimas: Romulas | C10: Alien: Romulus | D10: US | E10: 107348.02 | F10: 14922 | G10: 15 | H10: 45520 | I10: Theatrical Film Distribution / WDSMPI
A11: =IF(B11<>"",ROWS($B$6:B11),"") -> 6 | B11: 10 pasimatymų | C11: 10 pasimatymų | D11: LT | E11: 67248.14 | F11: 10174 | G11: 10 | H11: 45506 | I11: Cinema Ads
A12: =IF(B12<>"",ROWS($B$6:B12),"") -> 7 | B12: Sielų kolekcionierius | C12: Longlegs | D12: US | E12: 61352.41 | F12: 9252 | G12: 12 | H12: 2024-07-19 | I12: ACME Film
A13: =IF(B13<>"",ROWS($B$6:B13),"") -> 8 | B13: 200% Vilkas | C13: 200% Wolf | D13: AU, ES, DE | E13: 61297.47 | F13: 12059 | G13: 17 | H13: 45513 | I13: ACME Film
A14: =IF(B14<>"",ROWS($B$6:B14),"") -> 9 | B14: Borderlands: paslaptinga relikvija | C14: Borderlands | D14: US | E14: 36247.69 | F14: 5717 | G14: 15 | H14: 45513 | I14: ACME Film
A15: =IF(B15<>"",ROWS($B$6:B15),"") -> 10 | B15: Duok ženklą | C15: Blink Twice | D15: US | E15: 34102.63 | F15: 5531 | G15: 17 | H15: 45527 | I15: ACME Film / WB
A16: =IF(B16<>"",ROWS($B$6:B16),"") -> 11 | B16: Haroldas ir magiškoji kreidelė | C16: Harold & The Purple Crayon | D16: US | E16: 30494.56 | F16: 5952 | G16: 17 | H16: 45506 | I16: ACME Film / SONY
A17: =IF(B17<>"",ROWS($B$6:B17),"") -> 12 | B17: Tornadų medžiotojai | C17: Twisters | D17: US | E17: 26724.59 | F17: 4079 | G17: 12 | H17: 2024-07-19 | I17: ACME Film / WB
A18: =IF(B18<>"",ROWS($B$6:B18),"") -> 13 | B18: Varnas | C18: The Crow | D18: US | E18: 22660.99 | F18: 3155 | G18: 14 | H18: 45527 | I18: ACME Film
A19: =IF(B19<>"",ROWS($B$6:B19),"") -> 14 | B19: Mano draugas pingvinas | C19: My Penguin friend | D19: US, BR | E19: 22432.57 | F19: 4643 | G19: 15 | H19: 45520 | I19: Baltic Content Media
A20: =IF(B20<>"",ROWS($B$6:B20),"") -> 15 | B20: Afrika Pandastika | C20: Panda Bear in Africa | D20: DK, NL, FR, DE, EE, CN | E20: 17527.4 | F20: 3656 | G20: 16 | H20: 45499 | I20: Adastra Cinema
A21: =IF(B21<>"",ROWS($B$6:B21),"") -> 16 | B21: Narsieji gelbėtojai | C21: Combat Wombat: Back 2 Back | D21: AU | E21: 13119 | F21: 2784 | G21: 16 | H21: 45527 | I21: Garsų pasaulio įrašai
A22: =IF(B22<>"",ROWS($B$6:B22),"") -> 17 | B22: MaXXXine | C22: MaXXXine | D22: US | E22: 9351.16 | F22: 1443 | G22: 14 | H22: 45506 | I22: Dukine Film Distribution / Universal Pictures
A23: =IF(B23<>"",ROWS($B$6:B23),"") -> 18 | B23: Tylos zona. Pirmoji diena | C23: A Quiet Place: Day One | D23: US | E23: 7428.04 | F23: 1107 | G23: 8 | H23: 45471 | I23: Dukine Film Distribution / Paramount Pictures
A24: =IF(B24<>"",ROWS($B$6:B24),"") -> 19 | B24: 69 išpažintis | C24: 69 išpažintis | D24: LT | E24: 6873.25 | F24: 1765 | G24: – | H24: 45527 | I24: Mental machinery
A25: =IF(B25<>"",ROWS($B$6:B25),"") -> 20 | B25: Malonės rūšys | C25: Kinds of Kindness | D25: US | E25: 6706.91 | F25: 1102 | G25: 6 | H25: 45478 | I25: Theatrical Film Distribution / WDSMPI
A26: =IF(B26<>"",ROWS($B$6:B26),"") -> 21 | B26: Naktis su žudiku | C26: Strange Darling | D26: US | E26: 6601.43 | F26: 903 | G26: 13 | H26: 45534 | I26: ACME Film
A27: =IF(B27<>"",ROWS($B$6:B27),"") -> 22 | B27: Fantastinių gyvūnų legenda | C27: Zak & Wowo, la légende de Lendarys | D27: FR, CA | E27: 6205.79 | F27: 1200 | G27: 16 | H27: 45534 | I27: ACME Film
A28: =IF(B28<>"",ROWS($B$6:B28),"") -> 23 | B28: Paklusnumo žaidimai | C28: Subservience | D28: US | E28: 5118.94 | F28: 882 | G28: 12 | H28: 45527 | I28: Baltic Content Media
A29: =IF(B29<>"",ROWS($B$6:B29),"") -> 24 | B29: Jausmas, kad laikas ką nors daryti jau praėjo | C29: The Feeling That the Time for Doing Something Has Passed | D29: US | E29: 3212.4 | F29: 536 | G29: 6 | H29: 45506 | I29: A-One Films
A30: =IF(B30<>"",ROWS($B$6:B30),"") -> 25 | B30: Reiganas | C30: Reagan | D30: US | E30: 3062 | F30: 387 | G30: 15 | H30: 45534 | I30: Garsų pasaulio įrašai
A31: =IF(B31<>"",ROWS($B$6:B31),"") -> 26 | B31: Viena vasara | C31: Le temps d'un été | D31: CA | E31: 2955.9 | F31: 458 | G31: 3 | H31: 45492 | I31: Estinfilm
A32: =IF(B32<>"",ROWS($B$6:B32),"") -> 27 | B32: Chimera | C32: La Chimera | D32: IT | E32: 2807 | F32: 455 | G32: 4 | H32: 45401 | I32: A-One Films
A33: =IF(B33<>"",ROWS($B$6:B33),"") -> 28 | B33: Kaimiečiai | C33: Chlopi | D33: PL, LT | E33: 2329 | F33: 402 | G33: 4 | H33: 45379 | I33: Europos kinas
A34: =IF(B34<>"",ROWS($B$6:B34),"") -> 29 | B34: Kalifornijos svajos | C34: La La Land | D34: US | E34: 2283 | F34: 354 | G34: 1 | H34: 42713 | I34: ACME Film
A35: =IF(B35<>"",ROWS($B$6:B35),"") -> 30 | B35: O, Paryžiau! | C35: Paris Paradis | D35: FR | E35: 1910 | F35: 321 | G35: 5 | H35: 45499 | I35: Garsų pasaulio įrašai
A36: =IF(B36<>"",ROWS($B$6:B36),"") -> 31 | B36: Geriausi mūsų metai | C36: Gli anni più belli | D36: IT | E36: 1863 | F36: 207 | G36: 1 | H36: 44414 | I36: Greta Garbo Films
... A44: =IF(B44<>"",ROWS($B$6:B44),"") -> 39 | B44: Stebuklų knyga | C44: La chambre des merveilles | D44: FR | E44: 861 | F44: 154 | G44: 1 | H44: 45450 | I44: Best Film
A45: =IF(B45<>"",ROWS($B$6:B45),"") -> 40 | B45: Muzika | C45: Music | D45: DE | E45: 850 | F45: 158 | G45: – | H45: 45422 | I45: A-One Films
A46: =IF(B46<>"",ROWS($B$6:B46),"") -> 41 | B46: Egzorcizmas | C46: The Exorcism | D46: US | E46: 759 | F46: 99 | G46: 1 | H46: 45478 | I46: Garsų pasaulio įrašai
A47: =IF(B47<>"",ROWS($B$6:B47),"") -> 42 | B47: Blogiukai | C47: The Bad Guys | D47: US | E47: 709 | F47: 301 | G47: 4 | H47: 44638 | I47: Dukine Film Distribution / Universal Pictures
A48: =IF(B48<>"",ROWS($B$6:B48),"") -> 43 | B48: Mavka Forest Song | C48: Mavka Forest Song | D48: UA, US | E48: 652 | F48: 302 | G48: 4 | H48: 45121 | I48: ACME Film
A49: =IF(B49<>"",ROWS($B$6:B49),"") -> 44 | B49: Vizijos | C49: Visions | D49: FR | E49: 634 | F49: 123 | G49: 1 | H49: 45471 | I49: Best Film
A50: =IF(B50<>"",ROWS($B$6:B50),"") -> 45 | B50: Ema ir juodasis jaguaras | C50: Le Dernier Jaguar | D50: FR, DE, CA | E50: 597 | F50: 245 | G50: 4 | H50: 45331 | I50: ACME Film
A51: =IF(B51<>"",ROWS($B$6:B51),"") -> 46 | B51: Pakalikai 2 | C51: Minions: The Rise of Gru | D51: US | E51: 585.5 | F51: 233 | G51: 4 | H51: 44743 | I51: Dukine Film Distribution / Universal Pictures
A52: =IF(B52<>"",ROWS($B$6:B52),"") -> 47 | B52: Interesų zona | C52: The Zone of Interest | D52: UK, US, PL | E52: 562.2 | F52: 80 | G52: 3 | H52: 45379 | I52: Europos kinas
A53: =IF(B53<>"",ROWS($B$6:B53),"") -> 48 | B53: Kitąmet tuo pačiu laiku | C53: This Time Next Year | D53: UK | E53: 535 | F53: 85 | G53: 2 | H53: 45471 | I53: Garsų pasaulio įrašai
A54: =IF(B54<>"",ROWS($B$6:B54),"") -> 49 | B54: Batuotas katinas Pūkis: paskutinis noras | C54: Puss in Boots: The Last Wish | D54: US, JP | E54: 534.5 | F54: 218 | G54: 4 | H54: 44916 | I54: Dukine Film Distribution / Universal Pictures
A55: =IF(B55<>"",ROWS($B$6:B55),"") -> 50 | B55: Troliai 3 | C55: Trolls Band Together | D55: US | E55: 526 | F55: 213 | G55: 4 | H55: 45212 | I55: Dukine Film Distribution / Universal Pictures
A56: =IF(B56<>"",ROWS($B$6:B56),"") -> 51 | B56: Tu man nieko neprimeni | C56: Tu man nieko neprimeni | D56: LT, ES, SE | E56: 524.8 | F56: 88 | G56: 5 | H56: 45191 | I56: Europos kinas
A57: =IF(B57<>"",ROWS($B$6:B57),"") -> 52 | B57: Prasti reikalai | C57: Poor Things | D57: IE, US, UK | E57: 483.32 | F57: 89 | G57: 2 | H57: 45310 | I57: Theatrical Film Distribution / WDSMPI
... A84: =IF(B84<>"",ROWS($B$6:B84),"") -> 79 | B84: Praeitą vasarą | C84: L’Ete Dernier | D84: FR | E84: 9 | F84: 3 | G84: 1 | H84: 45457 | I84: Estinfilm
E85: =SUBTOTAL(109,Table3_Rugpjūtis[Pajamos]) -> 2032265 | F85: =SUBTOTAL(109,Table3_Rugpjūtis[Žiūrovų skaičius]) -> 312131

Sheet Rugsėjis
A1: ='2024'!A1 -> 2024
A2: ='2024'!A2 -> Lietuvos kino teatruose rodytų filmų TOP
A3: Rugsėjis
A5: Eil. Nr. | B5: Filmo pavadinimas | C5: Filmo pavadinimas originalo kalba | D5: Kilmės šalis | E5: Pajamos | F5: Žiūrovų skaičius | G5: Kopijų skaičius | H5: Premjeros data | I5: Platintojas
A6: =IF(B6<>"",ROWS($B$6:B6),"") -> 1 | B6: Sesės | C6: Sesės | D6: LT | E6: 165920.67 | F6: 23161 | G6: 16 | H6: 45555 | I6: Po mokyklos
A7: =IF(B7<>"",ROWS($B$6:B7),"") -> 2 | B7: Mes dedame tašką | C7: It Ends With Us | D7: US | E7: 164805.26 | F7: 22825 | G7: 18 | H7: 45513 | I7: ACME Film / SONY
A8: =IF(B8<>"",ROWS($B$6:B8),"") -> 3 | B8: Beetlejuice Beetlejuice | C8: Beetlejuice Beetlejuice | D8: US | E8: 163035.63 | F8: 23288 | G8: 20 | H8: 45541 | I8: ACME Film / WB
A9: =IF(B9<>"",ROWS($B$6:B9),"") -> 4 | B9: Madam Clicquot | C9: Widow Clicquot | D9: US | E9: 88308.02 | F9: 12257 | G9: 19 | H9: 45548 | I9: ACME Film
A10: =IF(B10<>"",ROWS($B$6:B10),"") -> 5 | B10: Bjaurusis aš 4 | C10: Despicable Me 4 | D10: US | E10: 83081.51 | F10: 14485 | G10: 18 | H10: 45478 | I10: Dukine Film Distribution / Universal Pictures
A11: =IF(B11<>"",ROWS($B$6:B11),"") -> 6 | B11: 10 katino gyvenimų | C11: 10 Lives | D11: UK | E11: 69263.74 | F11: 12196 | G11: 19 | H11: 45562 | I11: ACME Film
A12: =IF(B12<>"",ROWS($B$6:B12),"") -> 7 | B12: Deadpool ir Ernis | C12: Deadpool & Wolverine | D12: US | E12: 61543.53 | F12: 8966 | G12: 10 | H12: 45499 | I12: Theatrical Film Distribution / WDSMPI
A13: =IF(B13<>"",ROWS($B$6:B13),"") -> 8 | B13: Nekalbėk apie blogį | C13: Speak No Evil | D13: US | E13: 59160.97 | F13: 7899 | G13: 18 | H13: 45548 | I13: Dukine Film Distribution / Universal Pictures
A14: =IF(B14<>"",ROWS($B$6:B14),"") -> 9 | B14: Išvirkščias pasaulis 2 | C14: Inside Out 2 | D14: US, JP | E14: 46119.27 | F14: 8405 | G14: 13 | H14: 45457 | I14: Theatrical Film Distribution / WDSMPI
A15: =IF(B15<>"",ROWS($B$6:B15),"") -> 10 | B15: Ozi. Miško balsas | C15: Ozi: Voice Of The Forest | D15: UK, FR, US, CN | E15: 41592.55 | F15: 8077 | G15: 19 | H15: 45541 | I15: Adastra Cinema
A16: =IF(B16<>"",ROWS($B$6:B16),"") -> 11 | B16: Svetimas: Romulas | C16: Alien: Romulus | D16: US | E16: 33643.63 | F16: 4904 | G16: 11 | H16: 45520 | I16: Theatrical Film Distribution / WDSMPI
A17: =IF(B17<>"",ROWS($B$6:B17),"") -> 12 | B17: Transformeriai. Pradžia | C17: Transformers One | D17: US | E17: 33631.41 | F17: 5899 | G17: 26 | H17: 45555 | I17: Dukine Film Distribution / Paramount Pictures
... A34: =IF(B34<>"",ROWS($B$6:B34),"") -> 29 | B34: Reiganas | C34: Reagan | D34: US | E34: 3406 | F34: 677 | G34: 5 | H34: 45534 | I34: Garsų pasaulio įrašai
A35: =IF(B35<>"",ROWS($B$6:B35),"") -> 30 | B35: Sielų kolekcionierius | C35: Longlegs | D35: US | E35: 3061.77 | F35: 440 | G35: 3 | H35: 2024-07-19 | I35: ACME Film
A36: =IF(B36<>"",ROWS($B$6:B36),"") -> 31 | B36: Malonės rūšys | C36: Kinds of Kindness | D36: US | E36: 2858.76 | F36: 469 | G36: 3 | H36: 45478 | I36: Theatrical Film Distribution / WDSMPI
A37: =IF(B37<>"",ROWS($B$6:B37),"") -> 32 | B37: Narsieji gelbėtojai | C37: Combat Wombat: Back 2 Back | D37: AU | E37: 2577 | F37: 517 | G37: 14 | H37: 45527 | I37: Garsų pasaulio įrašai
A38: =IF(B38<>"",ROWS($B$6:B38),"") -> 33 | B38: Bolero | C38: Bolero | D38: FR | E38: 2027.68 | F38: 390 | G38: 8 | H38: 45548 | I38: Theatrical Film Distribution
A39: =IF(B39<>"",ROWS($B$6:B39),"") -> 34 | B39: Apverstas bokštas | C39: Tagurpidi torn | D39: LV, EE | E39: 923 | F39: 217 | G39: 1 | H39: 44807 | I39: Skalvijos kino centras
A40: =IF(B40<>"",ROWS($B$6:B40),"") -> 35 | B40: Ryuichi Sakamoto | Opusas | C40: Ryuichi Sakamoto | Opus | D40: JP | E40: 900 | F40: 162 | G40: 1 | H40: 45379 | I40: Europos kinas
A41: =IF(B41<>"",ROWS($B$6:B41),"") -> 36 | B41: Ernestas ir Selestina: Kelionė į Šaradiją | C41: Ernest et Célestine: Le voyage en Charabie | D41: FR, LU | E41: 690 | F41: 138 | G41: 1 | H41: 45275 | I41: Broom Films
A42: =IF(B42<>"",ROWS($B$6:B42),"") -> 37 | B42: Jausmas, kad laikas ką nors daryti jau praėjo | C42: The Feeling That the Time for Doing Something Has Passed | D42: US | E42: 612 | F42: 92 | G42: – | H42: 45506 | I42: A-One Films
A43: =IF(B43<>"",ROWS($B$6:B43),"") -> 38 | B43: Haroldas ir magiškoji kreidelė | C43: Harold & The Purple Crayon | D43: US | E43: 542 | F43: 106 | G43: 4 | H43: 45506 | I43: ACME Film / SONY
A44: =IF(B44<>"",ROWS($B$6:B44),"") -> 39 | B44: Interesų zona | C44: The Zone of Interest | D44: UK, US, PL | E44: 439.2 | F44: 61 | G44: 3 | H44: 45379 | I44: Europos kinas
A45: =IF(B45<>"",ROWS($B$6:B45),"") -> 40 | B45: Marija Montesori | C45: La nouvelle femme | D45: FR | E45: 422.2 | F45: 68 | G45: 2 | H45: 45408 | I45: Best Film
A46: =IF(B46<>"",ROWS($B$6:B46),"") -> 41 | B46: Viena vasara | C46: Le temps d'un été | D46: CA | E46: 400.4 | F46: 66 | G46: 2 | H46: 45492 | I46: Estinfilm
A47: =IF(B47<>"",ROWS($B$6:B47),"") -> 42 | B47: Blur: To The End | C47: Blur: To The End | D47: UK | E47: 367.83 | F47: 78 | G47: 9 | H47: 45541 | I47: Theatrical Film Distribution
A48: =IF(B48<>"",ROWS($B$6:B48),"") -> 43 | B48: O, Paryžiau! | C48: Paris Paradis | D48: FR | E48: 342 | F48: 64 | G48: 2 | H48: 45499 | I48: Garsų pasaulio įrašai
A49: =IF(B49<>"",ROWS($B$6:B49),"") -> 44 | B49: Tu man nieko neprimeni | C49: Tu man nieko neprimeni | D49: LT, ES, SE | E49: 265.8 | F49: 39 | G49: 3 | H49: 45191 | I49: Europos kinas
A50: =IF(B50<>"",ROWS($B$6:B50),"") -> 45 | B50: Afrika Pandastika | C50: Panda Bear in Africa | D50: DK, NL, FR, DE, EE, CN | E50: 255 | F50: 59 | G50: 3 | H50: 45499 | I50: Adastra Cinema
A51: =IF(B51<>"",ROWS($B$6:B51),"") -> 46 | B51: Kopa: antra dalis | C51: Dune: Part II | D51: US, CA | E51: 249.75 | F51: 45 | G51: 1 | H51: 45352 | I51: ACME Film / WB
A52: =IF(B52<>"",ROWS($B$6:B52),"") -> 47 | B52: Mėnesinės | C52: Periodical | D52: US | E52: 220 | F52: 44 | G52: 1 | H52: 45429 | I52: Europos kinas
A53: =IF(B53<>"",ROWS($B$6:B53),"") -> 48 | B53: Vizijos | C53: Visions | D53: FR | E53: 217 | F53: 56 | G53: 2 | H53: 45471 | I53: Best Film
A54: =IF(B54<>"",ROWS($B$6:B54),"") -> 49 | B54: Paslapčių traukinys | C54: A Mystery on the Cattle Hill Express | D54: NO | E54: 181 | F54: 36 | G54: 1 | H54: 45492 | I54: Garsų pasaulio įrašai
... A71: =IF(B71<>"",ROWS($B$6:B71),"") -> 66 | B71: Kitąmet tuo pačiu laiku | C71: This Time Next Year | D71: UK | E71: 12 | F71: 2 | G71: 1 | H71: 45471 | I71: Garsų pasaulio įrašai
E72: =SUBTOTAL(109,Table3_Rugsėjis[Pajamos]) -> 1232122.9 | F72: =SUBTOTAL(109,Table3_Rugsėjis[Žiūrovų skaičius]) -> 189087

Sheet Spalis
A1: ='2024'!A1 -> 2024
A2: ='2024'!A2 -> Lietuvos kino teatruose rodytų filmų TOP
A3: Spalis
A5: Eil. Nr. | B5: Filmo pavadinimas | C5: Filmo pavadinimas originalo kalba | D5: Kilmės šalis | E5: Pajamos | F5: Žiūrovų skaičius | G5: Kopijų skaičius | H5: Premjeros data | I5: Platintojas
A6: =IF(B6<>"",ROWS($B$6:B6),"") -> 1 | B6: Džokeris: Folie A Deux | C6: Joker: Folie a Deux | D6: US | E6: 268956.38 | F6: 34630 | G6: 20 | H6: 45569 | I6: ACME Film / WB
A7: =IF(B7<>"",ROWS($B$6:B7),"") -> 2 | B7: Venomas 3 | C7: Venom: The Last Dance | D7: US | E7: 211921.86 | F7: 27435 | G7: 14 | H7: 45590 | I7: ACME Film / SONY
A8: =IF(B8<>"",ROWS($B$6:B8),"") -> 3 | B8: 10 katino gyvenimų | C8: 10 Lives | D8: UK | E8: 163417.72 | F8: 30568 | G8: 19 | H8: 45562 | I8: ACME Film
A9: =IF(B9<>"",ROWS($B$6:B9),"") -> 4 | B9: Šypsena 2 | C9: Smile 2 | D9: US | E9: 133013.65 | F9: 17949 | G9: 16 | H9: 45583 | I9: Dukine Film Distribution / Paramount Pictures
A10: =IF(B10<>"",ROWS($B$6:B10),"") -> 5 | B10: Sesės | C10: Sesės | D10: LT | E10: 121040.62 | F10: 18705 | G10: 16 | H10: 45555 | I10: Po mokyklos
A11: =IF(B11<>"",ROWS($B$6:B11),"") -> 6 | B11: Laukinukė Roz | C11: Wild Robot | D11: US | E11: 99963.81 | F11: 18621 | G11: 26 | H11: 45590 | I11: Dukine Film Distribution / Universal Pictures
A12: =IF(B12<>"",ROWS($B$6:B12),"") -> 7 | B12: Substancija | C12: The Substance | D12: UK | E12: 83848.62 | F12: 12782 | G12: 20 | H12: 45562 | I12: Adastra Cinema
A13: =IF(B13<>"",ROWS($B$6:B13),"") -> 8 | B13: Tikri farai | C13: Tikri farai | D13: LT | E13: 73806.62 | F13: 10705 | G13: 20 | H13: 45576 | I13: All screens
A14: =IF(B14<>"",ROWS($B$6:B14),"") -> 9 | B14: Šuo kuris keliavo traukiniu | C14: Lampo The Travelling Dog | D14: PL | E14: 53064.61 | F14: 10254 | G14: 16 | H14: 45583 | I14: ACME Film
A15: =IF(B15<>"",ROWS($B$6:B15),"") -> 10 | B15: Beetlejuice Beetlejuice | C15: Beetlejuice Beetlejuice | D15: US | E15: 51266.79 | F15: 8072 | G15: 11 | H15: 45541 | I15: ACME Film / WB
A16: =IF(B16<>"",ROWS($B$6:B16),"") -> 11 | B16: Išdykusios letenos. Dingę augintiniai | C16: Grace And Pedro: Pets To The Rescue | D16: US, CA | E16: 51122 | F16: 9923 | G16: 17 | H16: 45576 | I16: Garsų pasaulio įrašai
A17: =IF(B17<>"",ROWS($B$6:B17),"") -> 12 | B17: Laikas gyventi | C17: We Live in Time | D17: FR, UK | E17: 39514.07 | F17: 5748 | G17: 16 | H17: 45590 | I17: Adastra Cinema
... A30: =IF(B30<>"",ROWS($B$6:B30),"") -> 25 | B30: Niekada nepaleisk | C30: Never Let Go | D30: US | E30: 6722.72 | F30: 1165 | G30: 9 | H30: 45555 | I30: ACME Film
A31: =IF(B31<>"",ROWS($B$6:B31),"") -> 26 | B31: Bagman: šeimos prakeiksmas | C31: Bagman | D31: US | E31: 5508.88 | F31: 772 | G31: 9 | H31: Preview | I31: ACME Film
A32: =IF(B32<>"",ROWS($B$6:B32),"") -> 27 | B32: Nekalbėk apie blogį | C32: Speak No Evil | D32: US | E32: 5345.5 | F32: 940 | G32: 6 | H32: 45548 | I32: Dukine Film Distribution / Universal Pictures
A33: =IF(B33<>"",ROWS($B$6:B33),"") -> 28 | B33: Deadpool ir Ernis | C33: Deadpool & Wolverine | D33: US | E33: 5091.79 | F33: 846 | G33: 5 | H33: 45499 | I33: Theatrical Film Distribution / WDSMPI
A34: =IF(B34<>"",ROWS($B$6:B34),"") -> 29 | B34: Tylos valanda | C34: The Silent Hour | D34: US | E34: 4714 | F34: 727 | G34: 9 | H34: 45576 | I34: Travolta
A35: =IF(B35<>"",ROWS($B$6:B35),"") -> 30 | B35: Laisvo elgesio šeimynėlė | C35: The Radleys | D35: UK | E35: 3868 | F35: 572 | G35: 13 | H35: 45590 | I35: Garsų pasaulio įrašai
A36: =IF(B36<>"",ROWS($B$6:B36),"") -> 31 | B36: Juodoji kanarėlė | C36: Canary Black | D36: UK, US, HR | E36: 3476.45 | F36: 553 | G36: 12 | H36: 45576 | I36: Theatrical Film Distribution
A37: =IF(B37<>"",ROWS($B$6:B37),"") -> 32 | B37: Savaitgalis Taipėjuje | C37: Weekend in Taipei | D37: US, FR | E37: 3168 | F37: 431 | G37: 13 | H37: 45562 | I37: Garsų pasaulio įrašai
A38: =IF(B38<>"",ROWS($B$6:B38),"") -> 33 | B38: Keliautojos poreikiai | C38: Yeohaengjaui pilyo | E38: 2948.8 | F38: 511 | G38: 8 | H38: 45590 | I38: A-One Films
A39: =IF(B39<>"",ROWS($B$6:B39),"") -> 34 | B39: Ozi. Miško balsas | C39: Ozi: Voice Of The Forest | D39: UK, FR, JAV, CN | E39: 2473.31 | F39: 622 | G39: 11 | H39: 45541 | I39: Adastra Cinema
A40: =IF(B40<>"",ROWS($B$6:B40),"") -> 35 | B40: Misija Titanas | C40: Slingshot | D40: US, HU, ID | E40: 2237.71 | F40: 500 | G40: 11 | H40: 45562 | I40: ACME Film
A41: =IF(B41<>"",ROWS($B$6:B41),"") -> 36 | B41: Kalėjimo prižiūrėtoja | C41: Vogter | D41: DK | E41: 2029.3 | F41: 361 | G41: 11 | H41: 45583 | I41: Europos kinas
A42: =IF(B42<>"",ROWS($B$6:B42),"") -> 37 | B42: After. Fanams | C42: Beyond After | D42: US | E42: 2017 | F42: 302 | G42: 11 | H42: 45583 | I42: Garsų pasaulio įrašai
A43: =IF(B43<>"",ROWS($B$6:B43),"") -> 38 | B43: Gobšuoliai | C43: Greedy People | D43: US | E43: 1750.49 | F43: 351 | G43: 1 | H43: 45555 | I43: Travolta
A44: =IF(B44<>"",ROWS($B$6:B44),"") -> 39 | B44: Tiesos kadras | C44: Lee | D44: US | E44: 1534.2 | F44: 210 | G44: 5 | H44: Preview | I44: ACME Film
A45: =IF(B45<>"",ROWS($B$6:B45),"") -> 40 | B45: Oho! Žinutė iš kosmoso | C45: Wow! Message from Space | D45: DE | E45: 1273.79 | F45: 237 | G45: 8 | H45: 45569 | I45: Estinfilm
A46: =IF(B46<>"",ROWS($B$6:B46),"") -> 41 | B46: Duobėje | C46: Duobėje | D46: LT | E46: 1238.57 | F46: 177 | G46: 2 | H46: 45541 | I46: Maobori company
A47: =IF(B47<>"",ROWS($B$6:B47),"") -> 42 | B47: Egzorcistas: tikintysis | C47: The Exorcist: Believer | D47: US | E47: 1237.5 | F47: 322 | G47: 3 | H47: 45205 | I47: Dukine Film Distribution / Universal Pictures
A48: =IF(B48<>"",ROWS($B$6:B48),"") -> 43 | B48: Bolero | C48: Bolero | D48: FR | E48: 1143 | F48: 219 | G48: 3 | H48: 45548 | I48: Theatrical Film Distribution
A49: =IF(B49<>"",ROWS($B$6:B49),"") -> 44 | B49: Mano Marčelas | C49: Marcello Mio | D49: FR | E49: 1056.4 | F49: 177 | G49: 5 | H49: 45576 | I49: Best Film
A50: =IF(B50<>"",ROWS($B$6:B50),"") -> 45 | B50: Svetimas: Romulas | C50: Alien: Romulus | D50: US | E50: 1032.91 | F50: 254 | G50: 4 | H50: 45520 | I50: Theatrical Film Distribution / WDSMPI
A51: =IF(B51<>"",ROWS($B$6:B51),"") -> 46 | B51: Gyvūnas | C51: Animal | D51: FR | E51: 965 | F51: 210 | G51: 1 | H51: 45371 | I51: Skalvijos kino centras
A52: =IF(B52<>"",ROWS($B$6:B52),"") -> 47 | B52: Meilė, melas, kraujas | C52: Love Lies Bleeding | D52: UK | E52: 885.2 | F52: 183 | G52: 7 | H52: 45555 | I52: Europos kinas
A53: =IF(B53<>"",ROWS($B$6:B53),"") -> 48 | B53: Larsas yra LOL | C53: Lars er LOL | D53: NO | E53: 863 | F53: 205 | G53: 1 | H53: 45592 | I53: Skalvijos kino centras
A54: =IF(B54<>"",ROWS($B$6:B54),"") -> 49 | B54: Viena gyvybė | C54: One Life | D54: UK | E54: 853.99 | F54: 160 | G54: 3 | H54: 45303 | I54: ACME Film
A55: =IF(B55<>"",ROWS($B$6:B55),"") -> 50 | B55: Net ir pelės keliauja į dangų | C55: I mysi patrí do nebe | D55: CZ, FR, PL, SK | E55: 789 | F55: 227 | G55: 1 | H55: 44716 | I55: Skalvijos kino centras
A56: =IF(B56<>"",ROWS($B$6:B56),"") -> 51 | B56: Ema ir juodasis jaguaras | C56: Le Dernier Jaguar | D56: FR, DE, CA | E56: 761.63 | F56: 207 | G56: 3 | H56: 45331 | I56: ACME Film
... A68: =IF(B68<>"",ROWS($B$6:B68),"") -> 63 | B68: Vesper | C68: Vesper | D68: LT | E68: 345.03 | F68: 123 | G68: 3 | H68: 44834 | I68: Europos kinas
A69: =IF(B69<>"",ROWS($B$6:B69),"") -> 64 | B69: Tornadų medžiotojai | C69: Twisters | D69: US | E69: 324 | F69: 162 | G69: 1 | H69: 2024-07-19 | I69: ACME Film / WB
A70: =IF(B70<>"",ROWS($B$6:B70),"") -> 65 | B70: Po saulės | C70: After sun | D70: US, UK | E70: 292 | F70: 73 | G70: 1 | H70: 45012 | I70: Europos kinas
A71: =IF(B71<>"",ROWS($B$6:B71),"") -> 66 | B71: Jaunasis vadas Vinetu | C71: Der junge Häuptling Winnetou | D71: DE | E71: 256 | F71: 71 | G71: 1 | H71: 44602 | I71: Estinfilm
A72: =IF(B72<>"",ROWS($B$6:B72),"") -> 67 | B72: Garfildas | C72: The Garfield Movie | D72: US | E72: 250 | F72: 50 | G72: 1 | H72: 45436 | I72: ACME Film / SONY
A73: =IF(B73<>"",ROWS($B$6:B73),"") -> 68 | B73: Sielų kolekcionierius | C73: Longlegs | D73: US | E73: 231 | F73: 31 | G73: 1 | H73: 2024-07-19 | I73: ACME Film
A74: =IF(B74<>"",ROWS($B$6:B74),"") -> 69 | B74: 200% Vilkas | C74: 200% Wolf | D74: AU, ES, DE | E74: 205 | F74: 35 | G74: 1 | H74: 45513 | I74: ACME Film
A75: =IF(B75<>"",ROWS($B$6:B75),"") -> 70 | B75: Vizijos | C75: Visions | D75: FR | E75: 200 | F75: 50 | G75: 1 | H75: 45471 | I75: Best Film
A76: =IF(B76<>"",ROWS($B$6:B76),"") -> 71 | B76: Rose Namajunas: Aš esu čempionė | C76: Thug Rose | D76: US | E76: 195 | F76: 55 | G76: 1 | H76: 44967 | I76: Europos kinas
A77: =IF(B77<>"",ROWS($B$6:B77),"") -> 72 | B77: Duok ženklą | C77: Blink Twice | D77: US | E77: 189 | F77: 63 | G77: 1 | H77: 45527 | I77: ACME Film / WB
A78: =IF(B78<>"",ROWS($B$6:B78),"") -> 73 | B78: Marija Montesori | C78: La nouvelle femme | D78: FR | E78: 137 | F78: 25 | G78: 1 | H78: 45408 | I78: Best Film
A79: =IF(B79<>"",ROWS($B$6:B79),"") -> 74 | B79: Svečiuose | C79: Gæsterne | D79: DK, NL | E79: 124.4 | F79: 16 | G79: 1 | H79: 44655 | I79: Europos kinas
A80: =IF(B80<>"",ROWS($B$6:B80),"") -> 75 | B80: Tigro kelionė Himalajuose | C80: Tigers Nest | D80: IT | E80: 123.84 | F80: 36 | G80: 1 | H80: 44855 | I80: ACME Film
A81: =IF(B81<>"",ROWS($B$6:B81),"") -> 76 | B81: Suspirija | C81: Suspiria | D81: IT | E81: 122 | F81: 26 | G81: 1 | H81: 43448 | I81: Adastra Cinema
A82: =IF(B82<>"",ROWS($B$6:B82),"") -> 77 | B82: Sonne und Beton | C82: Sun and Concrete | D82: DE | E82: 118 | F82: 35 | G82: 1 | H82: 45534 | I82: Unlimited Media OÜ
A83: =IF(B83<>"",ROWS($B$6:B83),"") -> 78 | B83: Šokių karalienė | C83: Dancing Queen | D83: NO | E83: 80 | F83: 20 | G83: 1 | H83: 45317 | I83: Estinfilm
A84: =IF(B84<>"",ROWS($B$6:B84),"") -> 79 | B84: Drugelio Širdis | C84: Drugelio Širdis | D84: LT | E84: 76 | F84: 19 | G84: 1 | H84: 44659 | I84: ACME Film
A85: =IF(B85<>"",ROWS($B$6:B85),"") -> 80 | B85: Narsieji gelbėtojai | C85: Combat Wombat: Back 2 Back | D85: AU | E85: 60 | F85: 20 | G85: 1 | H85: 45527 | I85: Garsų pasaulio įrašai
... A88: =IF(B88<>"",ROWS($B$6:B88),"") -> 83 | B88: Kaimiečiai | C88: Chlopi | D88: PL, LT | E88: 13 | F88: 3 | G88: 1 | H88: 45379 | I88: Europos kinas
E89: =SUBTOTAL(109,Table3_Spalis[Pajamos]) -> 1639646.6 | F89: =SUBTOTAL(109,Table3_Spalis[Žiūrovų skaičius]) -> 254563

Sheet Lapkritis
A1: ='2024'!A1 -> 2024
A2: ='2024'!A2 -> Lietuvos kino teatruose rodytų filmų TOP
A3: Lapkritis
A5: Eil. Nr. | B5: Filmo pavadinimas | C5: Filmo pavadinimas originalo kalba | D5: Kilmės šalis | E5: Pajamos | F5: Žiūrovų skaičius | G5: Kopijų skaičius | H5: Premjeros data | I5: Platintojas
A6: =IF(B6<>"",ROWS($B$6:B6),"") -> 1 | B6: Kaimynai | C6: Kaimynai | D6: LT | E6: 504293 | F6: 71041 | G6: – | H6: 45597 | I6: Vabalo filmai
A7: =IF(B7<>"",ROWS($B$6:B7),"") -> 2 | B7: Gladiatorius 2 | C7: Gladiator 2 | D7: US, UK | E7: 486632.01 | F7: 57902 | G7: 22 | H7: 45611 | I7: Dukine Film Distribution / Paramount Pictures
A8: =IF(B8<>"",ROWS($B$6:B8),"") -> 3 | B8: Venomas 3 | C8: Venom: The Last Dance | D8: US | E8: 220196.07 | F8: 27800 | G8: 13 | H8: 45590 | I8: ACME Film / SONY
A9: =IF(B9<>"",ROWS($B$6:B9),"") -> 4 | B9: Laukinukė Roz | C9: Wild Robot | D9: US | E9: 168611.81 | F9: 29809 | G9: 26 | H9: 45590 | I9: Dukine Film Distribution / Universal Pictures
A10: =IF(B10<>"",ROWS($B$6:B10),"") -> 5 | B10: Vajana 2 | C10: Moana 2 | D10: US, CA | E10: 163935.2 | F10: 26415 | G10: 34 | H10: 45625 | I10: Theatrical Film Distribution / WDSMPI
A11: =IF(B11<>"",ROWS($B$6:B11),"") -> 6 | B11: Kodas raudonas | C11: Red One | D11: US | E11: 116441.85 | F11: 17247 | G11: 14 | H11: 45604 | I11: ACME Film / WB
A12: =IF(B12<>"",ROWS($B$6:B12),"") -> 7 | B12: Niko. Už Šiaurės pašvaistės | C12: Niko: Beyond The Northern Lights | D12: FI, DK, DE, IE | E12: 83027 | F12: 15445 | G12: 18 | H12: 45604 | I12: Garsų pasaulio įrašai
A13: =IF(B13<>"",ROWS($B$6:B13),"") -> 8 | B13: Tiesos kadras | C13: Lee | D13: US | E13: 56538.7 | F13: 8393 | G13: 19 | H13: 45597 | I13: ACME Film
A14: =IF(B14<>"",ROWS($B$6:B14),"") -> 9 | B14: 10 katino gyvenimų | C14: 10 Lives | D14: UK | E14: 51358.2 | F14: 9228 | G14: 10 | H14: 45562 | I14: ACME Film
A15: =IF(B15<>"",ROWS($B$6:B15),"") -> 10 | B15: Laikas gyventi | C15: We Live in Time | D15: FR, UK | E15: 51333.65 | F15: 7641 | G15: 13 | H15: 45590 | I15: Adastra Cinema
A16: =IF(B16<>"",ROWS($B$6:B16),"") -> 11 | B16: Eretikas | C16: Heretic | D16: US | E16: 43165.29 | F16: 6073 | G16: 15 | H16: 45618 | I16: Adastra Cinema
A17: =IF(B17<>"",ROWS($B$6:B17),"") -> 12 | B17: Šypsena 2 | C17: Smile 2 | D17: US | E17: 36626.22 | F17: 5220 | G17: 10 | H17: 45583 | I17: Dukine Film Distribution / Paramount Pictures
A18: =IF(B18<>"",ROWS($B$6:B18),"") -> 13 | B18: Gardutė | C18: Gardutė | D18: LT | E18: 22488.5 | F18: 3227 | G18: 21 | H18: 45625 | I18: ACME Film
... A29: =IF(B29<>"",ROWS($B$6:B29),"") -> 24 | B29: Atpildas | C29: Absolution | D29: US | E29: 7961.66 | F29: 1131 | G29: 10 | H29: 45597 | I29: Travolta
A30: =IF(B30<>"",ROWS($B$6:B30),"") -> 25 | B30: Atmintis | C30: Memory | D30: US | E30: 7420.9 | F30: 1195 | G30: – | H30: 45597 | I30: A-One Films
A31: =IF(B31<>"",ROWS($B$6:B31),"") -> 26 | B31: Kai ateina ruduo | C31: When Fall Is Coming | D31: FR | E31: 7057.52 | F31: 1248 | G31: 10 | H31: 45618 | I31: A-One Films
A32: =IF(B32<>"",ROWS($B$6:B32),"") -> 27 | B32: Viltingas rytojus | C32: There’s Still Tomorrow | D32: IT, FR | E32: 5992.81 | F32: 951 | G32: 11 | H32: 45618 | I32: Best Film
A33: =IF(B33<>"",ROWS($B$6:B33),"") -> 28 | B33: Sesės | C33: Sesės | D33: LT | E33: 5462.64 | F33: 815 | G33: 6 | H33: 45555 | I33: Po mokyklos
A34: =IF(B34<>"",ROWS($B$6:B34),"") -> 29 | B34: Madam Clicquot | C34: Widow Clicquot | D34: US | E34: 5398.2 | F34: 813 | G34: 2 | H34: 45548 | I34: ACME Film
A35: =IF(B35<>"",ROWS($B$6:B35),"") -> 30 | B35: Pakilimas | C35: Elevation | D35: US | E35: 4958.47 | F35: 695 | G35: 9 | H35: 45604 | I35: Baltic Content Media
A36: =IF(B36<>"",ROWS($B$6:B36),"") -> 31 | B36: Bjaurusis aš 4 | C36: Despicable Me 4 | D36: US | E36: 4926.98 | F36: 937 | G36: 2 | H36: 45478 | I36: Dukine Film Distribution / Universal Pictures
A37: =IF(B37<>"",ROWS($B$6:B37),"") -> 32 | B37: Chaoso seserys ir pingvinas Polas | C37: Die Chaosschwestern und Pinguin Paul | D37: DE | E37: 4059.89 | F37: 756 | G37: 13 | H37: 45597 | I37: Unlimited Media OÜ
A38: =IF(B38<>"",ROWS($B$6:B38),"") -> 33 | B38: Mokinys | C38: Apprentice | D38: DK, CA, IE, US | E38: 3682.4 | F38: 538 | G38: 7 | H38: 45590 | I38: ACME Film
A39: =IF(B39<>"",ROWS($B$6:B39),"") -> 34 | B39: Dabar ir visada | C39: Here Now | D39: US | E39: 3023 | F39: 466 | G39: 12 | H39: 45618 | I39: Garsų pasaulio įrašai
A40: =IF(B40<>"",ROWS($B$6:B40),"") -> 35 | B40: Larsas yra LOL | C40: Lars er LOL | D40: NO | E40: 2998 | F40: 804 | G40: 1 | H40: 45592 | I40: Skalvijos kino centras
A41: =IF(B41<>"",ROWS($B$6:B41),"") -> 36 | B41: Džokeris: Folie A Deux | C41: Joker: Folie a Deux | D41: US | E41: 2511.23 | F41: 378 | G41: 4 | H41: 45569 | I41: ACME Film / WB
A42: =IF(B42<>"",ROWS($B$6:B42),"") -> 37 | B42: Išdykusios letenos. Dingę augintiniai | C42: Grace And Pedro: Pets To The Rescue | D42: US, CA | E42: 2483 | F42: 492 | G42: 5 | H42: 45576 | I42: Garsų pasaulio įrašai
... A46: =IF(B46<>"",ROWS($B$6:B46),"") -> 41 | B46: Vištienos Lindai! | C46: Linda veut du poulet! | D46: FR, IT | E46: 1654 | F46: 524 | G46: 1 | H46: 45564 | I46: Skalvijos kino centras
A47: =IF(B47<>"",ROWS($B$6:B47),"") -> 42 | B47: Keliautojos poreikiai | C47: Yeohaengjaui pilyo | D47: KR | E47: 1253.2 | F47: 280 | G47: – | H47: 45590 | I47: A-One Films
A48: =IF(B48<>"",ROWS($B$6:B48),"") -> 43 | B48: Beetlejuice Beetlejuice | C48: Beetlejuice Beetlejuice | D48: US | E48: 988.5 | F48: 152 | G48: 1 | H48: 45541 | I48: ACME Film / WB
A49: =IF(B49<>"",ROWS($B$6:B49),"") -> 44 | B49: Roka keičia pasaulį | C49: Rocca verändert die welt | D49: DE | E49: 974.75 | F49: 223 | G49: 1 | H49: 44112 | I49: KC Garsas
A50: =IF(B50<>"",ROWS($B$6:B50),"") -> 45 | B50: Baltoji paukštė | C50: White Bird a Wonder Story | D50: US | E50: 968.14 | F50: 226 | G50: 3 | H50: 45359 | I50: ACME Film
A51: =IF(B51<>"",ROWS($B$6:B51),"") -> 46 | B51: Nesiilsėkite ramybėje | C51: Håndtering av udøde | D51: NO | E51: 883.5 | F51: 141 | G51: 5 | H51: 45618 | I51: Estinfilm
A52: =IF(B52<>"",ROWS($B$6:B52),"") -> 47 | B52: Mano Marčelas | C52: Marcello Mio | D52: FR | E52: 756.75 | F52: 157 | G52: 7 | H52: 45576 | I52: Best Film
A53: =IF(B53<>"",ROWS($B$6:B53),"") -> 48 | B53: Net ir pelės keliauja į dangų | C53: I mysi patrí do nebe | D53: CZ, FR, PL, SK | E53: 713 | F53: 161 | G53: 1 | H53: 44716 | I53: Skalvijos kino centras
A54: =IF(B54<>"",ROWS($B$6:B54),"") -> 49 | B54: Gimtadienis | C54: Birthday Girl | D54: DK | E54: 631.8 | F54: 104 | G54: 6 | H54: 45597 | I54: Estinfilm
A55: =IF(B55<>"",ROWS($B$6:B55),"") -> 50 | B55: Drugelio Širdis | C55: Drugelio Širdis | D55: LT | E55: 627.97 | F55: 158 | G55: 4 | H55: 44659 | I55: ACME Film
A56: =IF(B56<>"",ROWS($B$6:B56),"") -> 51 | B56: Bloga nuo savęs | C56: Syk Pike | D56: NO, SE | E56: 522 | F56: 328 | G56: 1 | H56: 44939 | I56: Estinfilm
A57: =IF(B57<>"",ROWS($B$6:B57),"") -> 52 | B57: Mūsų svajonės | C57: We Have a Dream | D57: FR | E57: 496 | F57: 118 | G57: 2 | H57: 45352 | I57: Estinfilm
A58: =IF(B58<>"",ROWS($B$6:B58),"") -> 53 | B58: Pakalikai | C58: Minions | D58: US | E58: 400 | F58: 80 | G58: 1 | H58: 42188 | I58: Dukine Film Distribution / Universal Pictures
A59: =IF(B59<>"",ROWS($B$6:B59),"") -> 54 | B59: Mūza | C59: Mūza | D59: LT | E59: 372 | F59: 62 | G59: 1 | H59: 45345 | I59: ACME Film
... A71: =IF(B71<>"",ROWS($B$6:B71),"") -> 66 | B71: Ypatingieji | C71: Hors normes | D71: FR | E71: 121 | F71: 21 | G71: 1 | H71: 43868 | I71: Theatrical Film Distribution
A72: =IF(B72<>"",ROWS($B$6:B72),"") -> 67 | B72: Mūsų namai | C72: Where We Belong | D72: CH | E72: 120 | F72: 30 | G72: 1 | H72: 44350 | I72: Skalvijos kino centras
A73: =IF(B73<>"",ROWS($B$6:B73),"") -> 68 | B73: Pažadėtoji žemė | C73: Bastarden | D73: DK | E73: 109 | F73: 19 | G73: 1 | H73: 45296 | I73: Estinfilm
A74: =IF(B74<>"",ROWS($B$6:B74),"") -> 69 | B74: Dar po vieną | C74: Druk | D74: DK, NL | E74: 99 | F74: 18 | G74: 1 | H74: 44331 | I74: Estinfilm
A75: =IF(B75<>"",ROWS($B$6:B75),"") -> 70 | B75: 9-as žingsnis | C75: 9-as žingsnis | D75: LT | E75: 90 | F75: 36 | G75: 1 | H75: 45205 | I75: ACME Film
A76: =IF(B76<>"",ROWS($B$6:B76),"") -> 71 | B76: Sielų kolekcionierius | C76: Longlegs | D76: US | E76: 60 | F76: 15 | G76: 1 | H76: 2024-07-19 | I76: ACME Film
A77: =IF(B77<>"",ROWS($B$6:B77),"") -> 72 | B77: Megalopolis | C77: Megalopolis | D77: US | E77: 35 | F77: 6 | G77: 1 | H77: 45583 | I77: Adastra Cinema
A78: =IF(B78<>"",ROWS($B$6:B78),"") -> 73 | B78: Laisvės garsas | C78: Sound of Freedom | D78: US, MX | E78: 30 | F78: 5 | G78: 1 | H78: 45156 | I78: Theatrical Film Distribution
A79: =IF(B79<>"",ROWS($B$6:B79),"") -> 74 | B79: Laisvo elgesio šeimynėlė | C79: The Radleys | D79: UK | E79: 20 | F79: 4 | G79: 1 | H79: 45590 | I79: Garsų pasaulio įrašai
E80: =SUBTOTAL(109,Table3_Lapkritis[Pajamos]) -> 2241093.3 | F80: =SUBTOTAL(109,Table3_Lapkritis[Žiūrovų skaičius]) -> 325180

Sheet Gruodis
A1: ='2024'!A1 -> 2024
A2: ='2024'!A2 -> Lietuvos kino teatruose rodytų filmų TOP
A3: Gruodis
A5: Eil. Nr. | B5: Filmo pavadinimas | C5: Filmo pavadinimas originalo kalba | D5: Kilmės šalis | E5: Pajamos | F5: Žiūrovų skaičius | G5: Kopijų skaičius | H5: Premjeros data | I5: Platintojas
A6: =IF(B6<>"",ROWS($B$6:B6),"") -> 1 | B6: Vajana 2 | C6: Moana 2 | D6: US, CA | E6: 727857.2 | F6: 117704 | G6: 36 | H6: 45625 | I6: Theatrical Film Distribution / WDSMPI
A7: =IF(B7<>"",ROWS($B$6:B7),"") -> 2 | B7: Reemigrantai 2 | C7: Reemigrantai 2 | D7: LT | E7: 432240 | F7: 54706 | G7: – | H7: 45646 | I7: Vabalo filmai
A8: =IF(B8<>"",ROWS($B$6:B8),"") -> 3 | B8: Ežiukas Sonic 3 | C8: Sonic the Hedgehog 3 | D8: US, JP | E8: 229845.79 | F8: 37945 | G8: 22 | H8: 45653 | I8: Dukine Film Distribution / Paramount Pictures
A9: =IF(B9<>"",ROWS($B$6:B9),"") -> 4 | B9: Gladiatorius 2 | C9: Gladiator 2 | D9: US, UK | E9: 196992.37 | F9: 25192 | G9: 20 | H9: 45611 | I9: Dukine Film Distribution / Paramount Pictures
A10: =IF(B10<>"",ROWS($B$6:B10),"") -> 5 | B10: Mufasa. Liūtas karalius | C10: Mufasa: The Lion King | D10: US | E10: 191709.73 | F10: 30474 | G10: 31 | H10: 2024-12-20 | I10: Theatrical Film Distribution / WDSMPI
A11: =IF(B11<>"",ROWS($B$6:B11),"") -> 6 | B11: Piktoji | C11: Wicked | D11: US | E11: 159871.27 | F11: 24563 | G11: 29 | H11: 45632 | I11: Dukine Film Distribution / Universal Pictures
A12: =IF(B12<>"",ROWS($B$6:B12),"") -> 7 | B12: Gardutė | C12: Gardutė | D12: LT | E12: 57828.68 | F12: 9142 | G12: 22 | H12: 45625 | I12: ACME Film
A13: =IF(B13<>"",ROWS($B$6:B13),"") -> 8 | B13: 4 dienos iki Kalėdų | C13: SuperKlaus | D13: ES, UK, CA | E13: 55890 | F13: 11172 | G13: 17 | H13: 45639 | I13: Garsų pasaulio įrašai
A14: =IF(B14<>"",ROWS($B$6:B14),"") -> 9 | B14: Už gretimų durų | C14: Room Next Door | D14: US | E14: 49436.38 | F14: 7315 | G14: 19 | H14: 45639 | I14: ACME Film / WB
A15: =IF(B15<>"",ROWS($B$6:B15),"") -> 10 | B15: Kodas raudonas | C15: Red One | D15: US | E15: 43223.8 | F15: 7028 | G15: 11 | H15: 45604 | I15: ACME Film / WB
A16: =IF(B16<>"",ROWS($B$6:B16),"") -> 11 | B16: Čia | C16: Here | D16: US | E16: 39976 | F16: 5758 | G16: 18 | H16: 45632 | I16: Garsų pasaulio įrašai
A17: =IF(B17<>"",ROWS($B$6:B17),"") -> 12 | B17: Medžiotojas Kreivenas | C17: Kraven the Hunter | D17: US | E17: 37805.63 | F17: 4965 | G17: 14 | H17: 45639 | I17: ACME Film / SONY
A18: =IF(B18<>"",ROWS($B$6:B18),"") -> 13 | B18: Kaimynai | C18: Kaimynai | D18: LT | E18: 36899 | F18: 5171 | G18: - | H18: 45597 | I18: Vabalo filmai
A19: =IF(B19<>"",ROWS($B$6:B19),"") -> 14 | B19: Eretikas | C19: Heretic | D19: US | E19: 36298.98 | F19: 5182 | G19: 12 | H19: 45618 | I19: Adastra Cinema
A20: =IF(B20<>"",ROWS($B$6:B20),"") -> 15 | B20: Partenopė | C20: Parthenope | D20: IT | E20: 30029 | F20: 4123 | G20: 16 | H20: 45653 | I20: A-One Films
A21: =IF(B21<>"",ROWS($B$6:B21),"") -> 16 | B21: Tylioji brolija | C21: The Order | D21: US | E21: 20211.95 | F21: 2838 | G21: 12 | H21: 2024-12-13 | I21: Travolta
A22: =IF(B22<>"",ROWS($B$6:B22),"") -> 17 | B22: Žiedų valdovas: Rohirimų karas | C22: Lord of the Rings: The War of the Rohirrim | D22: US | E22: 16725.73 | F22: 2504 | G22: 15 | H22: 2024-12-06 | I22: ACME Film / WB
A23: =IF(B23<>"",ROWS($B$6:B23),"") -> 18 | B23: Niko. Už Šiaurės pašvaistės | C23: Niko: Beyond The Northern Lights | D23: FI, DK, DE, IE | E23: 8679 | F23: 1995 | G23: 14 | H23: 45604 | I23: Garsų pasaulio įrašai
A24: =IF(B24<>"",ROWS($B$6:B24),"") -> 19 | B24: Laukinukė Roz | C24: Wild Robot | D24: US | E24: 8309.97 | F24: 1561 | G24: 13 | H24: 45590 | I24: Dukine Film Distribution / Universal Pictures
A25: =IF(B25<>"",ROWS($B$6:B25),"") -> 20 | B25: Kalėdų eglutės gyvenimas ir mirtis | C25: Kalėdų eglutės gyvenimas ir mirtis | D25: LT, DK, GE | E25: 7664 | F25: 1080 | G25: 7 | H25: 45632 | I25: Zero Copy
A26: =IF(B26<>"",ROWS($B$6:B26),"") -> 21 | B26: Mūsų tėtis | C26: Goodrich | D26: US | E26: 6480.56 | F26: 924 | G26: 13 | H26: 45653 | I26: ACME Film
A27: =IF(B27<>"",ROWS($B$6:B27),"") -> 22 | B27: Madam Clicquot | C27: Widow Clicquot | D27: US | E27: 5087 | F27: 737 | G27: 2 | H27: 45548 | I27: ACME Film
A28: =IF(B28<>"",ROWS($B$6:B28),"") -> 23 | B28: Atmintis | C28: Memory | D28: US | E28: 5002 | F28: 789 | G28: – | H28: 45597 | I28: A-One Films
A29: =IF(B29<>"",ROWS($B$6:B29),"") -> 24 | B29: Magiškos gyvūnų Kalėdos | C29: Le Grand Noël des Animaux | D29: FR | E29: 4962.79 | F29: 1199 | G29: 9 | H29: 45625 | I29: Estinfilm
A30: =IF(B30<>"",ROWS($B$6:B30),"") -> 25 | B30: 10 katino gyvenimų | C30: 10 Lives | D30: UK | E30: 4776.55 | F30: 845 | G30: 6 | H30: 45562 | I30: ACME Film
A31: =IF(B31<>"",ROWS($B$6:B31),"") -> 26 | B31: Meilės laivas | C31: La petite vadrouille | D31: FR | E31: 4728 | F31: 886 | G31: 5 | H31: 45646 | I31: Best Film
A32: =IF(B32<>"",ROWS($B$6:B32),"") -> 27 | B32: Paslaptis | C32: Paslaptis | D32: LT | E32: 4697.3 | F32: 3170 | G32: 20 | H32: 45632 | I32: Artbox
A33: =IF(B33<>"",ROWS($B$6:B33),"") -> 28 | B33: Venomas 3 | C33: Venom: The Last Dance | D33: US | E33: 4396.75 | F33: 681 | G33: 5 | H33: 45590 | I33: ACME Film / SONY
A34: =IF(B34<>"",ROWS($B$6:B34),"") -> 29 | B34: Mylimiausias mano pyragas | C34: Keyke mahboobe man | D34: IR, FR, SE, DE | E34: 3940.7 | F34: 611 | G34: 8 | H34: 45639 | I34: Europos kinas
A35: =IF(B35<>"",ROWS($B$6:B35),"") -> 30 | B35: Gera mergaitė | C35: Babygirl | D35: US | E35: 3373 | F35: 262 | G35: 2 | H35: Preview | I35: Europos kinas
A36: =IF(B36<>"",ROWS($B$6:B36),"") -> 31 | B36: Kai ateina ruduo | C36: When Fall Is Coming | D36: FR | E36: 3221.42 | F36: 547 | G36: – | H36: 45618 | I36: A-One Films
A37: =IF(B37<>"",ROWS($B$6:B37),"") -> 32 | B37: Šešėlių pėdsakais | C37: Ghost Trail | D37: FR | E37: 2883.5 | F37: 484 | G37: – | H37: 45632 | I37: A-One Films
A38: =IF(B38<>"",ROWS($B$6:B38),"") -> 33 | B38: Kalėjimo prižiūrėtoja | C38: Vogter | D38: DK | E38: 2770.8 | F38: 453 | G38: 1 | H38: 45583 | I38: Europos kinas
A39: =IF(B39<>"",ROWS($B$6:B39),"") -> 34 | B39: Laikas gyventi | C39: We Live in Time | D39: FR, UK | E39: 2641.68 | F39: 435 | G39: 3 | H39: 45590 | I39: Adastra Cinema
A40: =IF(B40<>"",ROWS($B$6:B40),"") -> 35 | B40: Paskutinė Froido sesija | C40: Freud's Last Session | D40: US | E40: 2526.75 | F40: 349 | G40: 5 | H40: 45611 | I40: Best Film
A41: =IF(B41<>"",ROWS($B$6:B41),"") -> 36 | B41: Stebuklinga šviesa | C41: Tonda, Slávka a kouzelné svetlo | D41: CZ, SK, HU | E41: 2524 | F41: 681 | G41: 1 | H41: 45619 | I41: KC Garsas
A42: =IF(B42<>"",ROWS($B$6:B42),"") -> 37 | B42: Keliautojos poreikiai | C42: Yeohaengjaui pilyo | D42: KR | E42: 2502 | F42: 457 | G42: – | H42: 45590 | I42: A-One Films
A43: =IF(B43<>"",ROWS($B$6:B43),"") -> 38 | B43: Kovotojas | C43: Strijder | D43: NL | E43: 2446.25 | F43: 578 | G43: 1 | H43: 44894 | I43: KC Garsas
A44: =IF(B44<>"",ROWS($B$6:B44),"") -> 39 | B44: Viltingas rytojus | C44: There’s Still Tomorrow | D44: IT, FR | E44: 2200.7 | F44: 367 | G44: 6 | H44: 45618 | I44: Best Film
A45: =IF(B45<>"",ROWS($B$6:B45),"") -> 40 | B45: Smalsusis Tobis | C45: Checker Tobi und die Reise zu den fliegenden Flüssen | D45: DE | E45: 2022 | F45: 594 | G45: 1 | H45: 45588 | I45: KC Garsas
A46: =IF(B46<>"",ROWS($B$6:B46),"") -> 41 | B46: Nepaprasta vasara su Tesa | C46: Mijn bijzonder rare week met Tess | D46: NL, DE | E46: 2000 | F46: 277 | G46: 1 | H46: 43896 | I46: KC Garsas
A47: =IF(B47<>"",ROWS($B$6:B47),"") -> 42 | B47: Tiesos kadras | C47: Lee | D47: US | E47: 1976 | F47: 367 | G47: 5 | H47: 45597 | I47: ACME Film
A48: =IF(B48<>"",ROWS($B$6:B48),"") -> 43 | B48: Larsas yra LOL | C48: Lars er LOL | D48: NO | E48: 1892 | F48: 415 | G48: 1 | H48: 45592 | I48: Skalvijos kino centras
A49: =IF(B49<>"",ROWS($B$6:B49),"") -> 44 | B49: Substancija | C49: The Substance | D49: UK | E49: 1860.75 | F49: 271 | G49: 3 | H49: 45562 | I49: Adastra Cinema
A50: =IF(B50<>"",ROWS($B$6:B50),"") -> 45 | B50: Svajonių atostogos | C50: The Holdovers | D50: US | E50: 1788.48 | F50: 400 | G50: 3 | H50: 45401 | I50: Dukine Film Distribution / Universal Pictures
A51: =IF(B51<>"",ROWS($B$6:B51),"") -> 46 | B51: Interesų zona | C51: The Zone of Interest | D51: UK, US, PL | E51: 1741.96 | F51: 384 | G51: 1 | H51: 45379 | I51: Europos kinas
A52: =IF(B52<>"",ROWS($B$6:B52),"") -> 47 | B52: Grafas Montekristas | C52: The Count of Monte-Cristo | D52: US | E52: 1537.8 | F52: 222 | G52: 2 | H52: 45583 | I52: Theatrical Film Distribution
A53: =IF(B53<>"",ROWS($B$6:B53),"") -> 48 | B53: Rytoj kažkur prie jūros | C53: Morgen irgendwo am meer | D53: DE | E53: 1535 | F53: 468 | G53: 1 | H53: 45434 | I53: KC Garsas
A54: =IF(B54<>"",ROWS($B$6:B54),"") -> 49 | B54: Falkonai | C54: Víti í Vestmannaeyjum | D54: IS | E54: 1519 | F54: 414 | G54: 1 | H54: 43574 | I54: KC Garsas
... A108: =IF(B108<>"",ROWS($B$6:B108),"") -> 103 | B108: Mažosios Klaros Kalėdos | C108: Jul pa kuttopen | D108: NO | E108: 30 | F108: 12 | G108: 1 | H108: 44533 | I108: KC Garsas
E109: =SUBTOTAL(109,Table3_Gruodis[Pajamos]) -> 2503741.6 | F109: =SUBTOTAL(109,Table3_Gruodis[Žiūrovų skaičius]) -> 385657
