Workbook

Sheet Suvestinė
B1: 2024
B2: Rodiklis | C2: Reikšmė
B3: Premjerų skaičius | C3: 258
B4: Lietuviškų filmų premjerų skaičius | C4: 24
B5: Bendras filmų skaičius | C5: 394
B6: Bendros pajamos | C6: 23536721
B7: Bendras žiūrovų skaičius | C7: 3641423
B9: Filmų dalis rinkoje, %
B10: Kategorija | C10: Pajamos | D10: Žiūrovų skaičius | E10: Pajamos % | F10: Žiūrovų skaičius % | G10: Filmų skaičius
B11: Lietuva | C11: 5198196.7 | D11: 748157 | E11: 20.546 | F11: 22.085 | G11: 36
B12: Europa | C12: 2507847.7 | D12: 441314 | E12: 12.119 | F12: 10.655 | G12: 177
B13: JAV | C13: 15226179 | D13: 2348328 | E13: 64.489 | F13: 64.691 | G13: 151
B14: Kita | C14: 604497.92 | D14: 103624 | E14: 2.846 | F14: 2.568 | G14: 30
B15: Total | C15: =SUBTOTAL(109,Table1[Pajamos]) -> 23536721 | D15: =SUBTOTAL(109,Table1[Žiūrovų skaičius]) -> 3641423 | E15: =SUBTOTAL(109,Table1[Pajamos %]) -> 100 | F15: =SUBTOTAL(109,Table1[Žiūrovų skaičius %]) -> 99.999 | G15: =SUBTOTAL(109,Table1[Filmų skaičius]) -> 394
B46: Pasiskirstymas pagal platintojus
A47: Eil. nr | B47: Platintojas | C47: Pajamos | D47: Žiūrovų skaičius | E47: Filmų skaičius | F47: Pajamos % | G47: Žiūrovų skaičius %
A48: =IF(B48<>"",ROWS($B$48:B48),"") -> 1 | B48: Theatrical Film Distribution / WDSMPI | C48: 3940092.7 | D48: 616614 | E48: 14 | F48: 16.74 | G48: 16.933
A49: =IF(B49<>"",ROWS($B$48:B49),"") -> 2 | B49: Dukine Film Distribution / Universal Pictures International | C49: 3228748.5 | D49: 555270 | E49: 23 | F49: 13.718 | G49: 15.249
A50: =IF(B50<>"",ROWS($B$48:B50),"") -> 3 | B50: ACME Film / SONY | C50: 2632035.1 | D50: 392035 | E50: 17 | F50: 11.183 | G50: 10.766
A51: =IF(B51<>"",ROWS($B$48:B51),"") -> 4 | B51: ACME Film / WB | C51: 2531333.4 | D51: 357568 | E51: 17 | F51: 10.755 | G51: 9.819
A52: =IF(B52<>"",ROWS($B$48:B52),"") -> 5 | B52: Vabalo filmai | C52: 2347131 | D52: 325155 | E52: 3 | F52: 9.972 | G52: 8.929
A53: =IF(B53<>"",ROWS($B$48:B53),"") -> 6 | B53: ACME Film | C53: 2257797.8 | D53: 376755 | E53: 53 | F53: 9.593 | G53: 10.346
A54: =IF(B54<>"",ROWS($B$48:B54),"") -> 7 | B54: Dukine Film Distribution / Paramount Pictures | C54: 1474572.4 | D54: 207493 | E54: 11 | F54: 6.265 | G54: 5.698
A55: =IF(B55<>"",ROWS($B$48:B55),"") -> 8 | B55: Valujavičiaus kelionės | C55: 1319613.6 | D55: 195397 | E55: 1 | F55: 5.607 | G55: 5.366
A56: =IF(B56<>"",ROWS($B$48:B56),"") -> 9 | B56: Cinema Ads | C56: 844943.79 | D56: 118879 | E56: 3 | F56: 3.59 | G56: 3.265
A57: =IF(B57<>"",ROWS($B$48:B57),"") -> 10 | B57: Adastra Cinema | C57: 732302.99 | D57: 124249 | E57: 23 | F57: 3.111 | G57: 3.412
A58: =IF(B58<>"",ROWS($B$48:B58),"") -> 11 | B58: Garsų pasaulio įrašai | C58: 481003.4 | D58: 85949 | E58: 25 | F58: 2.044 | G58: 2.36
A59: =IF(B59<>"",ROWS($B$48:B59),"") -> 12 | B59: Europos kinas | C59: 448071.58 | D59: 66228 | E59: 48 | F59: 1.904 | G59: 1.819
... A84: =IF(B84<>"",ROWS($B$48:B84),"") -> 37 | B84: M-Films | C84: 1237 | D84: 232 | E84: 2 | F84: 0.005 | G84: 0.006
A85: Total | C85: =SUBTOTAL(109,Table18[Pajamos]) -> 23536721 | D85: =SUBTOTAL(109,Table18[Žiūrovų skaičius]) -> 3641423 | E85: =SUBTOTAL(109,Table18[Filmų skaičius]) -> 394 | F85: =SUBTOTAL(109,Table18[Pajamos %]) -> 100.001 | G85: =SUBTOTAL(109,Table18[Žiūrovų skaičius %]) -> 99.997
A88: LT TOP
A89: Eil. Nr. | B89: Filmo pavadinimas | C89: Pajamos | D89: Žiūrovų skaičius | E89: Premjeros data | F89: Platintojas
A90: 1 | B90: Milijonieriaus palikimas | C90: 1373699 | D90: 194237 | E90: 45289 | F90: Vabalo filmai
A91: 2 | B91: Irklais per Atlantą | C91: 1319613.6 | D91: 195397 | E91: 45310 | F91: Valujavičiaus kelionės
A92: 3 | B92: Draugų lažybos | C92: 697613.15 | D92: 94900 | E92: 45338 | F92: Cinema Ads
A93: 4 | B93: Kaimynai | C93: 541192 | D93: 76212 | E93: 45597 | F93: Vabalo filmai
A94: 5 | B94: Reemigrantai 2 | C94: 432240 | D94: 54706 | E94: 45646 | F94: Vabalo filmai
A95: 6 | B95: Sesės | C95: 292423.93 | D95: 42681 | E95: 45555 | F95: Po mokyklos
A96: 7 | B96: Tikri farai | C96: 82435.04 | D96: 11920 | E96: 45576 | F96: All screens
A97: 8 | B97: Gardutė | C97: 80317.18 | D97: 12369 | E97: 45625 | F97: ACME Film
...

Sheet Platintojų pasiskirstymas
A1: Platintojas | B1: Filmo pavadinimas | C1: Pajamos | D1: Žiūrovų skaičius | E1: Pajamos % | F1: Žiūrovų skaičius % | G1: Premjeros data
A2: Theatrical Film Distribution / WDSMPI | B2: Išvirkščias pasaulis 2 (Inside Out 2) | C2: 1308627.7 | D2: 226591 | E2: =_xlfn.PERCENTOF(C2,_2024[[#Totals],[Pajamos]]) -> 0.055599404 | F2: =_xlfn.PERCENTOF(D2,_2024[[#Totals],[Žiūrovų skaičius]]) -> 0.062225948 | G2: 45457
B3: Vajana 2 (Moana 2) | C3: 891792.4 | D3: 144119 | E3: =_xlfn.PERCENTOF(C3,_2024[[#Totals],[Pajamos]]) -> 0.037889407 | F3: =_xlfn.PERCENTOF(D3,_2024[[#Totals],[Žiūrovų skaičius]]) -> 0.03957766 | G3: 45625
B4: Deadpool ir Ernis (Deadpool & Wolverine) | C4: 766286.09 | D4: 99701 | E4: =_xlfn.PERCENTOF(C4,_2024[[#Totals],[Pajamos]]) -> 0.032557045 | F4: =_xlfn.PERCENTOF(D4,_2024[[#Totals],[Žiūrovų skaičius]]) -> 0.027379681 | G4: 45499
B5: Prasti reikalai (Poor Things) | C5: 362814.87 | D5: 52027 | E5: =_xlfn.PERCENTOF(C5,_2024[[#Totals],[Pajamos]]) -> 0.015414843 | F5: =_xlfn.PERCENTOF(D5,_2024[[#Totals],[Žiūrovų skaičius]]) -> 0.014287546 | G5: 45310
B6: Mufasa. Liūtas karalius (Mufasa: The Lion King) | C6: 191709.73 | D6: 30474 | E6: =_xlfn.PERCENTOF(C6,_2024[[#Totals],[Pajamos]]) -> 0.0081451332 | F6: =_xlfn.PERCENTOF(D6,_2024[[#Totals],[Žiūrovų skaičius]]) -> 0.0083687064 | G6: 45646
B7: Svetimas: Romulas (Alien: Romulus) | C7: 142024.56 | D7: 20080 | E7: =_xlfn.PERCENTOF(C7,_2024[[#Totals],[Pajamos]]) -> 0.0060341693 | F7: =_xlfn.PERCENTOF(D7,_2024[[#Totals],[Žiūrovų skaičius]]) -> 0.0055143278 | G7: 45520
B8: Beždžionių planetos karalystė (Kingdom of the Planet of the Apes ) | C8: 121991.32 | D8: 17653 | E8: =_xlfn.PERCENTOF(C8,_2024[[#Totals],[Pajamos]]) -> 0.005183021 | F8: =_xlfn.PERCENTOF(D8,_2024[[#Totals],[Žiūrovų skaičius]]) -> 0.0048478301 | G8: 45422
B9: Noras (Wish) | C9: 62395.58 | D9: 11938 | E9: =_xlfn.PERCENTOF(C9,_2024[[#Totals],[Pajamos]]) -> 0.0026509886 | F9: =_xlfn.PERCENTOF(D9,_2024[[#Totals],[Žiūrovų skaičius]]) -> 0.0032783887 | G9: 45254
B10: Malonės rūšys (Kinds of Kindness) | C10: 55185.46 | D10: 8376 | E10: =_xlfn.PERCENTOF(C10,_2024[[#Totals],[Pajamos]]) -> 0.0023446537 | F10: =_xlfn.PERCENTOF(D10,_2024[[#Totals],[Žiūrovų skaičius]]) -> 0.0023001997 | G10: 45478
B11: Pirmasis ženklas (The First Omen) | C11: 29170.77 | D11: 4058 | E11: =_xlfn.PERCENTOF(C11,_2024[[#Totals],[Pajamos]]) -> 0.0012393727 | F11: =_xlfn.PERCENTOF(D11,_2024[[#Totals],[Žiūrovų skaičius]]) -> 0.0011143995 | G11: 45387
B12: Tikslas – įvartis (Next Goal Wins) | C12: 4984.13 | D12: 817 | E12: =_xlfn.PERCENTOF(C12,_2024[[#Totals],[Pajamos]]) -> 0.00021175974 | F12: =_xlfn.PERCENTOF(D12,_2024[[#Totals],[Žiūrovų skaičius]]) -> 0.00022436284 | G12: 45303
B13: Lukas (Luca) | C13: 1389.39 | D13: 423 | E13: =_xlfn.PERCENTOF(C13,_2024[[#Totals],[Pajamos]]) -> 5.9030737e-05 | F13: =_xlfn.PERCENTOF(D13,_2024[[#Totals],[Žiūrovų skaičius]]) -> 0.00011616338 | G13: 44400
B14: Visi mes svetimi (All of Us Strangers) | C14: 1057.64 | D14: 223 | E14: =_xlfn.PERCENTOF(C14,_2024[[#Totals],[Pajamos]]) -> 4.4935741e-05 | F14: =_xlfn.PERCENTOF(D14,_2024[[#Totals],[Žiūrovų skaičius]]) -> 6.1239796e-05 | G14: 45408
B15: Undinėlė (Little Mermaid) | C15: 663.1 | D15: 134 | E15: =_xlfn.PERCENTOF(C15,_2024[[#Totals],[Pajamos]]) -> 2.8172998e-05 | F15: =_xlfn.PERCENTOF(D15,_2024[[#Totals],[Žiūrovų skaičius]]) -> 3.6798801e-05 | G15: 45072
A16: Theatrical Film Distribution / WDSMPI Total | B16: =COUNTA(B2:B15) -> 14 | C16: 3940092.7 | D16: 616614 | E16: =_xlfn.PERCENTOF(C16,_2024[[#Totals],[Pajamos]]) -> 0.16740194 | F16: =_xlfn.PERCENTOF(D16,_2024[[#Totals],[Žiūrovų skaičius]]) -> 0.16933325 | G16: 45646
A17: Dukine Film Distribution / Universal Pictures International | B17: Bjaurusis aš 4 (Despicable Me 4) | C17: 1201417.2 | D17: 208807 | E17: =_xlfn.PERCENTOF(C17,_2024[[#Totals],[Pajamos]]) -> 0.051044373 | F17: =_xlfn.PERCENTOF(D17,_2024[[#Totals],[Žiūrovų skaičius]]) -> 0.057342143 | G17: 45478
B18: Kung Fu Panda 4 (Kung Fu Panda 4) | C18: 872564.59 | D18: 151283 | E18: =_xlfn.PERCENTOF(C18,_2024[[#Totals],[Pajamos]]) -> 0.037072479 | F18: =_xlfn.PERCENTOF(D18,_2024[[#Totals],[Žiūrovų skaičius]]) -> 0.041545022 | G18: 45359
B19: Didžioji ančių kelionė (Migration) | C19: 306117.82 | D19: 58309 | E19: =_xlfn.PERCENTOF(C19,_2024[[#Totals],[Pajamos]]) -> 0.013005967 | F19: =_xlfn.PERCENTOF(D19,_2024[[#Totals],[Žiūrovų skaičius]]) -> 0.016012696 | G19: 45282
B20: Laukinukė Roz (Wild Robot) | C20: 276885.59 | D20: 49991 | E20: =_xlfn.PERCENTOF(C20,_2024[[#Totals],[Pajamos]]) -> 0.011763983 | F20: =_xlfn.PERCENTOF(D20,_2024[[#Totals],[Žiūrovų skaičius]]) -> 0.013728424 | G20: 45590
B21: Piktoji (Wicked) | C21: 159871.27 | D21: 24563 | E21: =_xlfn.PERCENTOF(C21,_2024[[#Totals],[Pajamos]]) -> 0.0067924189 | F21: =_xlfn.PERCENTOF(D21,_2024[[#Totals],[Žiūrovų skaičius]]) -> 0.0067454399 | G21: 45632
B22: Kaskadininkas (The Fall Guy) | C22: 103805.87 | D22: 14906 | E22: =_xlfn.PERCENTOF(C22,_2024[[#Totals],[Pajamos]]) -> 0.0044103794 | F22: =_xlfn.PERCENTOF(D22,_2024[[#Totals],[Žiūrovų skaičius]]) -> 0.0040934547 | G22: 45408
B23: Back To Black (Back To Black) | C23: 78277.69 | D23: 11525 | E23: =_xlfn.PERCENTOF(C23,_2024[[#Totals],[Pajamos]]) -> 0.0033257687 | F23: =_xlfn.PERCENTOF(D23,_2024[[#Totals],[Žiūrovų skaičius]]) -> 0.0031649715 | G23: 45394
B24: Nekalbėk apie blogį (Speak No Evil) | C24: 64506.47 | D24: 8839 | E24: =_xlfn.PERCENTOF(C24,_2024[[#Totals],[Pajamos]]) -> 0.0027406736 | F24: =_xlfn.PERCENTOF(D24,_2024[[#Totals],[Žiūrovų skaičius]]) -> 0.0024273478 | G24: 45548
B25: Argailas (Argylle) | C25: 45354.5 | D25: 6506 | E25: =_xlfn.PERCENTOF(C25,_2024[[#Totals],[Pajamos]]) -> 0.0019269676 | F25: =_xlfn.PERCENTOF(D25,_2024[[#Totals],[Žiūrovų skaičius]]) -> 0.0017866642 | G25: 45324
B26: Abigailė (Abigail) | C26: 33544.29 | D26: 5215 | E26: =_xlfn.PERCENTOF(C26,_2024[[#Totals],[Pajamos]]) -> 0.0014251896 | F26: =_xlfn.PERCENTOF(D26,_2024[[#Totals],[Žiūrovų skaičius]]) -> 0.0014321324 | G26: 45401
B27: Šešėlių vanduo (Night Swim) | C27: 27547.94 | D27: 4063 | E27: =_xlfn.PERCENTOF(C27,_2024[[#Totals],[Pajamos]]) -> 0.0011704239 | F27: =_xlfn.PERCENTOF(D27,_2024[[#Totals],[Žiūrovų skaičius]]) -> 0.0011157726 | G27: 45296
B28: Baikeriai (Bikeriders) | C28: 22270.72 | D28: 3457 | E28: =_xlfn.PERCENTOF(C28,_2024[[#Totals],[Pajamos]]) -> 0.00094621166 | F28: =_xlfn.PERCENTOF(D28,_2024[[#Totals],[Žiūrovų skaičius]]) -> 0.00094935414 | G28: 45485
B29: MaXXXine (MaXXXine) | C29: 9381.16 | D29: 1448 | E29: =_xlfn.PERCENTOF(C29,_2024[[#Totals],[Pajamos]]) -> 0.00039857548 | F29: =_xlfn.PERCENTOF(D29,_2024[[#Totals],[Žiūrovų skaičius]]) -> 0.00039764674 | G29: 45506
... B39: Pakalikai (Minions) | C39: 400 | D39: 80 | E39: =_xlfn.PERCENTOF(C39,_2024[[#Totals],[Pajamos]]) -> 1.6994721e-05 | F39: =_xlfn.PERCENTOF(D39,_2024[[#Totals],[Žiūrovų skaičius]]) -> 2.1969433e-05 | G39: 42188
A40: Dukine Film Distribution / Universal Pictures International Total | B40: =COUNTA(B17:B39) -> 23 | C40: 3228748.5 | D40: 555270 | E40: =_xlfn.PERCENTOF(C40,_2024[[#Totals],[Pajamos]]) -> 0.13717919 | F40: =_xlfn.PERCENTOF(D40,_2024[[#Totals],[Žiūrovų skaičius]]) -> 0.15248709 | G40: 45632
A41: ACME Film / SONY | B41: Mes dedame tašką (It Ends With Us) | C41: 856146.09 | D41: 118875 | E41: =_xlfn.PERCENTOF(C41,_2024[[#Totals],[Pajamos]]) -> 0.036374909 | F41: =_xlfn.PERCENTOF(D41,_2024[[#Totals],[Žiūrovų skaičius]]) -> 0.032645205 | G41: 45513
B42: Garfildas (The Garfield Movie) | C42: 531311.11 | D42: 98478 | E42: =_xlfn.PERCENTOF(C42,_2024[[#Totals],[Pajamos]]) -> 0.02257371 | F42: =_xlfn.PERCENTOF(D42,_2024[[#Totals],[Žiūrovų skaičius]]) -> 0.027043823 | G42: 45436
B43: Venomas 3 (Venom: The Last Dance) | C43: 436514.68 | D43: 55916 | E43: =_xlfn.PERCENTOF(C43,_2024[[#Totals],[Pajamos]]) -> 0.018546113 | F43: =_xlfn.PERCENTOF(D43,_2024[[#Totals],[Žiūrovų skaičius]]) -> 0.015355535 | G43: 45590
B44: Pašėlę vyrukai: viskas arba nieko (Bad Boys: Ride Or Die) | C44: 237660.23 | D44: 32151 | E44: =_xlfn.PERCENTOF(C44,_2024[[#Totals],[Pajamos]]) -> 0.010097423 | F44: =_xlfn.PERCENTOF(D44,_2024[[#Totals],[Žiūrovų skaičius]]) -> 0.0088292407 | G44: 45450
B45: Tik ne tu (Anyone But You) | C45: 140820.03 | D45: 21147 | E45: =_xlfn.PERCENTOF(C45,_2024[[#Totals],[Pajamos]]) -> 0.0059829927 | F45: =_xlfn.PERCENTOF(D45,_2024[[#Totals],[Žiūrovų skaičius]]) -> 0.0058073451 | G45: 45296
B46: Mirties korta (Tarot) | C46: 95429.92 | D46: 13875 | E46: =_xlfn.PERCENTOF(C46,_2024[[#Totals],[Pajamos]]) -> 0.0040545121 | F46: =_xlfn.PERCENTOF(D46,_2024[[#Totals],[Žiūrovų skaičius]]) -> 0.0038103236 | G46: 45422
B47: Vaiduoklių medžiotojai: sustingę iš baimės (Ghostbusters Frozen Empire) | C47: 89050.95 | D47: 14132 | E47: =_xlfn.PERCENTOF(C47,_2024[[#Totals],[Pajamos]]) -> 0.00378349 | F47: =_xlfn.PERCENTOF(D47,_2024[[#Totals],[Žiūrovų skaičius]]) -> 0.0038809004 | G47: 45373
B48: Napoleonas (Napoleon) | C48: 81387.02 | D48: 11491 | E48: =_xlfn.PERCENTOF(C48,_2024[[#Totals],[Pajamos]]) -> 0.0034578742 | F48: =_xlfn.PERCENTOF(D48,_2024[[#Totals],[Žiūrovų skaičius]]) -> 0.0031556345 | G48: 45261
B49: Medžiotojas Kreivenas (Kraven the Hunter) | C49: 37805.63 | D49: 4965 | E49: =_xlfn.PERCENTOF(C49,_2024[[#Totals],[Pajamos]]) -> 0.0016062403 | F49: =_xlfn.PERCENTOF(D49,_2024[[#Totals],[Žiūrovų skaičius]]) -> 0.001363478 | G49: 45639
...

Sheet 2024
A1: 2024
A2: Lietuvos kino teatruose rodytų filmų TOP
A5: Eil. Nr. | B5: Filmo pavadinimas | C5: Filmo pavadinimas originalo kalba | D5: Kilmės šalis | E5: Pajamos | F5: Žiūrovų skaičius | G5: Kopijų skaičius | H5: Premjeros data | I5: Platintojas
A6: =IF(B6<>"",ROWS($B$6:B6),"") -> 1 | B6: Milijonieriaus palikimas | C6: Milijonieriaus palikimas | D6: LT | E6: 1373699 | F6: 194237 | G6: 15 | H6: 45289 | I6: Vabalo filmai
A7: =IF(B7<>"",ROWS($B$6:B7),"") -> 2 | B7: Irklais per Atlantą | C7: Irklais per Atlantą | D7: LT | E7: 1319613.6 | F7: 195397 | G7: 16 | H7: 45310 | I7: Valujavičiaus kelionės
A8: =IF(B8<>"",ROWS($B$6:B8),"") -> 3 | B8: Išvirkščias pasaulis 2 | C8: Inside Out 2 | D8: US, JP | E8: 1308627.7 | F8: 226591 | G8: 31 | H8: 45457 | I8: Theatrical Film Distribution / WDSMPI
A9: =IF(B9<>"",ROWS($B$6:B9),"") -> 4 | B9: Bjaurusis aš 4 | C9: Despicable Me 4 | D9: US | E9: 1201417.2 | F9: 208807 | G9: 31 | H9: 45478 | I9: Dukine Film Distribution / Universal Pictures
A10: =IF(B10<>"",ROWS($B$6:B10),"") -> 5 | B10: Vajana 2 | C10: Moana 2 | D10: US, CA | E10: 891792.4 | F10: 144119 | G10: 36 | H10: 45625 | I10: Theatrical Film Distribution / WDSMPI
A11: =IF(B11<>"",ROWS($B$6:B11),"") -> 6 | B11: Kung Fu Panda 4 | C11: Kung Fu Panda 4 | D11: US | E11: 872564.59 | F11: 151283 | G11: 34 | H11: 45359 | I11: Dukine Film Distribution / Universal Pictures
A12: =IF(B12<>"",ROWS($B$6:B12),"") -> 7 | B12: Mes dedame tašką | C12: It Ends With Us | D12: US | E12: 856146.09 | F12: 118875 | G12: 19 | H12: 45513 | I12: ACME Film / SONY
A13: =IF(B13<>"",ROWS($B$6:B13),"") -> 8 | B13: Kopa: antra dalis | C13: Dune: Part II | D13: US, CA | E13: 815729.43 | F13: 102575 | G13: 21 | H13: 45352 | I13: ACME Film / WB
A14: =IF(B14<>"",ROWS($B$6:B14),"") -> 9 | B14: Deadpool ir Ernis | C14: Deadpool & Wolverine | D14: US | E14: 766286.09 | F14: 99701 | G14: 15 | H14: 45499 | I14: Theatrical Film Distribution / WDSMPI
A15: =IF(B15<>"",ROWS($B$6:B15),"") -> 10 | B15: Draugų lažybos | C15: Draugų lažybos | D15: LT | E15: 697613.15 | F15: 94900 | G15: 12 | H15: 45338 | I15: Cinema Ads
A16: =IF(B16<>"",ROWS($B$6:B16),"") -> 11 | B16: Gladiatorius 2 | C16: Gladiator 2 | D16: US, UK | E16: 683624.38 | F16: 83094 | G16: 22 | H16: 45611 | I16: Dukine Film Distribution / Paramount Pictures
A17: =IF(B17<>"",ROWS($B$6:B17),"") -> 12 | B17: Kaimynai | C17: Kaimynai | D17: LT | E17: 541192 | F17: 76212 | G17: – | H17: 45597 | I17: Vabalo filmai
A18: =IF(B18<>"",ROWS($B$6:B18),"") -> 13 | B18: Garfildas | C18: The Garfield Movie | D18: US | E18: 531311.11 | F18: 98478 | G18: 20 | H18: 45436 | I18: ACME Film / SONY
A19: =IF(B19<>"",ROWS($B$6:B19),"") -> 14 | B19: Venomas 3 | C19: Venom: The Last Dance | D19: US | E19: 436514.68 | F19: 55916 | G19: 14 | H19: 45590 | I19: ACME Film / SONY
A20: =IF(B20<>"",ROWS($B$6:B20),"") -> 15 | B20: Reemigrantai 2 | C20: Reemigrantai 2 | D20: LT | E20: 432240 | F20: 54706 | G20: – | H20: 45646 | I20: Vabalo filmai
A21: =IF(B21<>"",ROWS($B$6:B21),"") -> 16 | B21: Prasti reikalai | C21: Poor Things | D21: IE, US, UK | E21: 362814.87 | F21: 52027 | G21: 20 | H21: 45310 | I21: Theatrical Film Distribution / WDSMPI
A22: =IF(B22<>"",ROWS($B$6:B22),"") -> 17 | B22: Didžioji ančių kelionė | C22: Migration | D22: US, FR | E22: 306117.82 | F22: 58309 | G22: 29 | H22: 45282 | I22: Dukine Film Distribution / Universal Pictures
A23: =IF(B23<>"",ROWS($B$6:B23),"") -> 18 | B23: Sesės | C23: Sesės | D23: LT | E23: 292423.93 | F23: 42681 | G23: 16 | H23: 45555 | I23: Po mokyklos
A24: =IF(B24<>"",ROWS($B$6:B24),"") -> 19 | B24: 10 katino gyvenimų | C24: 10 Lives | D24: UK | E24: 288816.21 | F24: 52837 | G24: 19 | H24: 45562 | I24: ACME Film
A25: =IF(B25<>"",ROWS($B$6:B25),"") -> 20 | B25: Vonka | C25: Wonka | D25: US, UK | E25: 279504.17 | F25: 48592 | G25: 15 | H25: 45275 | I25: ACME Film / WB
A26: =IF(B26<>"",ROWS($B$6:B26),"") -> 21 | B26: Laukinukė Roz | C26: Wild Robot | D26: US | E26: 276885.59 | F26: 49991 | G26: 26 | H26: 45590 | I26: Dukine Film Distribution / Universal Pictures
A27: =IF(B27<>"",ROWS($B$6:B27),"") -> 22 | B27: Džokeris: Folie A Deux | C27: Joker: Folie a Deux | D27: US | E27: 271467.61 | F27: 35008 | G27: 20 | H27: 45569 | I27: ACME Film / WB
A28: =IF(B28<>"",ROWS($B$6:B28),"") -> 23 | B28: Pašėlę vyrukai: viskas arba nieko | C28: Bad Boys: Ride Or Die | D28: US | E28: 237660.23 | F28: 32151 | G28: 16 | H28: 45450 | I28: ACME Film / SONY
A29: =IF(B29<>"",ROWS($B$6:B29),"") -> 24 | B29: Ežiukas Sonic 3 | C29: Sonic the Hedgehog 3 | D29: US, JP | E29: 229845.79 | F29: 37945 | G29: 22 | H29: 45653 | I29: Dukine Film Distribution / Paramount Pictures
A30: =IF(B30<>"",ROWS($B$6:B30),"") -> 25 | B30: Beetlejuice Beetlejuice | C30: Beetlejuice Beetlejuice | D30: US | E30: 215290.92 | F30: 31512 | G30: 20 | H30: 45541 | I30: ACME Film / WB
A31: =IF(B31<>"",ROWS($B$6:B31),"") -> 26 | B31: Mufasa. Liūtas karalius | C31: Mufasa: The Lion King | D31: US | E31: 191709.73 | F31: 30474 | G31: 31 | H31: 45646 | I31: Theatrical Film Distribution / WDSMPI
A32: =IF(B32<>"",ROWS($B$6:B32),"") -> 27 | B32: Godzila ir kongas: Nauja imperija | C32: Godzilla x Kong: The New Empire | D32: US | E32: 189998.16 | F32: 27089 | G32: 16 | H32: 45380 | I32: ACME Film / WB
... A194: =IF(B194<>"",ROWS($B$6:B194),"") -> 189 | B194: Mažylis Nikolia pasakoja apie laimę | C194: Petit Nicolas: Qu'est-Ce Qu'on Attend Pour Être Heureux? | D194: FR, LU, CA | E194: 6881.41 | F194: 1583 | G194: 11 | H194: 45380 | I194: Adastra Cinema
A195: =IF(B195<>"",ROWS($B$6:B195),"") -> 190 | B195: 69 išpažintis | C195: 69 išpažintis | D195: LT | E195: 6873.25 | F195: 1765 | G195: – | H195: 45527 | I195: Mental machinery
A196: =IF(B196<>"",ROWS($B$6:B196),"") -> 191 | B196: Dogmenas | C196: DogMan | D196: US, FR | E196: 6872.33 | F196: 1109 | G196: 16 | H196: 45296 | I196: Theatrical Film Distribution
A197: =IF(B197<>"",ROWS($B$6:B197),"") -> 192 | B197: Misija Titanas | C197: Slingshot | D197: US, HU, ID | E197: 6858.28 | F197: 1135 | G197: 11 | H197: 45562 | I197: ACME Film
A198: =IF(B198<>"",ROWS($B$6:B198),"") -> 193 | B198: Metai buvo sunkūs | C198: Une année difficile | D198: FR | E198: 6823.75 | F198: 1235 | G198: 16 | H198: 45379 | I198: Europos kinas
A199: =IF(B199<>"",ROWS($B$6:B199),"") -> 194 | B199: Islandija: paklydę dykumoje | C199: Islandija: paklydę dykumoje | D199: LT | E199: 6731.94 | F199: 984 | G199: 1 | H199: 45322 | I199: Špikis
A200: =IF(B200<>"",ROWS($B$6:B200),"") -> 195 | B200: Keliautojos poreikiai | C200: Yeohaengjaui pilyo | D200: KR | E200: 6704 | F200: 1248 | G200: 8 | H200: 45590 | I200: A-One Films
A201: =IF(B201<>"",ROWS($B$6:B201),"") -> 196 | B201: Mūsų tėtis | C201: Goodrich | D201: US | E201: 6480.56 | F201: 924 | G201: 13 | H201: 45653 | I201: ACME Film
A202: =IF(B202<>"",ROWS($B$6:B202),"") -> 197 | B202: Reiganas | C202: Reagan | D202: US | E202: 6468 | F202: 1064 | G202: 15 | H202: 45534 | I202: Garsų pasaulio įrašai
A203: =IF(B203<>"",ROWS($B$6:B203),"") -> 198 | B203: Stebuklų knyga | C203: La chambre des merveilles | D203: FR | E203: 6353.59 | F203: 1102 | G203: 9 | H203: 45450 | I203: Best Film
...

Sheet Sausis
A1: ='2024'!A1 -> 2024
A2: ='2024'!A2 -> Lietuvos kino teatruose rodytų filmų TOP
A3: Sausis
A5: Eil. Nr. | B5: Filmo pavadinimas | C5: Filmo pavadinimas originalo kalba | D5: Kilmės šalis | E5: Pajamos | F5: Žiūrovų skaičius | G5: Kopijų skaičius | H5: Premjeros data | I5: Platintojas
A6: =IF(B6<>"",ROWS($B$6:B6),"") -> 1 | B6: Milijonieriaus palikimas | C6: Milijonieriaus palikimas | D6: LT | E6: 1147609 | F6: 161502 | G6: 15 | H6: 45289 | I6: Vabalo filmai
A7: =IF(B7<>"",ROWS($B$6:B7),"") -> 2 | B7: Irklais per Atlantą | C7: Irklais per Atlantą | D7: LT | E7: 750313.43 | F7: 106544 | G7: 16 | H7: 45310 | I7: Valujavičiaus kelionės
A8: =IF(B8<>"",ROWS($B$6:B8),"") -> 3 | B8: Vonka | C8: Wonka | D8: US, UK | E8: 217787.55 | F8: 37457 | G8: 15 | H8: 45275 | I8: ACME Film / WB
A9: =IF(B9<>"",ROWS($B$6:B9),"") -> 4 | B9: Didžioji ančių kelionė | C9: Migration | D9: US, FR | E9: 190531.52 | F9: 36173 | G9: 29 | H9: 45282 | I9: Dukine Film Distribution / Universal Pictures
A10: =IF(B10<>"",ROWS($B$6:B10),"") -> 5 | B10: Tik ne tu | C10: Anyone But You | D10: US | E10: 130091.12 | F10: 19501 | G10: 15 | H10: 45296 | I10: ACME Film / SONY
A11: =IF(B11<>"",ROWS($B$6:B11),"") -> 6 | B11: Bitininkas | C11: Beekeeper | D11: US | E11: 128319.12 | F11: 18385 | G11: 16 | H11: 45303 | I11: ACME Film
A12: =IF(B12<>"",ROWS($B$6:B12),"") -> 7 | B12: Prasti reikalai | C12: Poor Things | D12: IE,US,UK | E12: 117153.27 | F12: 17231 | G12: 20 | H12: 45310 | I12: Theatrical Film Distribution / WDSMPI
A13: =IF(B13<>"",ROWS($B$6:B13),"") -> 8 | B13: Akvamenas 2: Prarasta karalystė | C13: Aquaman and The Lost Kingdom | D13: US | E13: 82744.59 | F13: 12393 | G13: 13 | H13: 45282 | I13: ACME Film / WB
A14: =IF(B14<>"",ROWS($B$6:B14),"") -> 9 | B14: Napoleonas | C14: Napoleon | D14: US, UK | E14: 77218.58 | F14: 10910 | G14: 14 | H14: 45261 | I14: ACME Film / SONY
A15: =IF(B15<>"",ROWS($B$6:B15),"") -> 10 | B15: Priscilla | C15: Priscilla | D15: US, IT | E15: 64114.21 | F15: 9965 | G15: 24 | H15: 45303 | I15: Europos kinas
A16: =IF(B16<>"",ROWS($B$6:B16),"") -> 11 | B16: Ferrari | C16: Ferrari | D16: IT, US, UK, CN | E16: 59446.8 | F16: 8505 | G16: 21 | H16: 45317 | I16: ACME Film
A17: =IF(B17<>"",ROWS($B$6:B17),"") -> 12 | B17: Lapių kelionė ledynuose | C17: Kina and Yuk | D17: IT, CA, FR | E17: 37543.92 | F17: 7202 | G17: 21 | H17: 45296 | I17: ACME Film
... A60: =IF(B60<>"",ROWS($B$6:B60),"") -> 55 | B60: Samsara | C60: Samsara | D60: ES | E60: 226 | F60: 42 | G60: 1 | H60: 45205 | I60: Taip toliau
A61: =IF(B61<>"",ROWS($B$6:B61),"") -> 56 | B61: Šunyčiai patruliai 2. Galingas filmas | C61: PAW Patrol: The Mighty Movie | D61: US, CA | E61: 201 | F61: 47 | G61: 1 | H61: 2023-10-27 | I61: Dukine Film Distribution / Paramount Pictures
A62: =IF(B62<>"",ROWS($B$6:B62),"") -> 57 | B62: Mavka Forest Song | C62: Mavka Forest Song | D62: UA, US | E62: 168 | F62: 56 | G62: 1 | H62: 45121 | I62: ACME Film
A63: =IF(B63<>"",ROWS($B$6:B63),"") -> 58 | B63: Drugelio Širdis | C63: Drugelio Širdis | D63: LT | E63: 144 | F63: 48 | G63: 1 | H63: 44659 | I63: ACME Film
A64: =IF(B64<>"",ROWS($B$6:B64),"") -> 59 | B64: 9-as žingsnis | C64: 9-as žingsnis | D64: LT | E64: 90 | F64: 20 | G64: 1 | H64: 45205 | I64: ACME Film
A65: =IF(B65<>"",ROWS($B$6:B65),"") -> 60 | B65: Katakas. Kelionė į ledynų kraštą | C65: Katak: The Brave Beluga | D65: CA | E65: 60.5 | F65: 12 | G65: 1 | H65: 45191 | I65: Estinfilm
A66: =IF(B66<>"",ROWS($B$6:B66),"") -> 61 | B66: Openheimeris | C66: Oppenheimer | D66: US, UK | E66: 50.5 | F66: 9 | G66: 1 | H66: 45128 | I66: Dukine Film Distribution / Universal Pictures
A67: =IF(B67<>"",ROWS($B$6:B67),"") -> 62 | B67: Ties virimo riba | C67: Boiling Point | D67: UK | E67: 40 | F67: 8 | G67: 1 | H67: 44655 | I67: Europos kinas
A68: =IF(B68<>"",ROWS($B$6:B68),"") -> 63 | B68: Šokių karalienė | C68: Dancing Queen | D68: NO | E68: 20.5 | F68: 4 | G68: 2 | H68: 45317 | I68: Estinfilm
E69: =SUBTOTAL(109,Sausis[Pajamos]) -> 3310779.7 | F69: =SUBTOTAL(109,Sausis[Žiūrovų skaičius]) -> 498514

Sheet Vasaris
A1: ='2024'!A1 -> 2024
A2: ='2024'!A2 -> Lietuvos kino teatruose rodytų filmų TOP
A3: Vasaris
A5: Eil. Nr. | B5: Filmo pavadinimas | C5: Filmo pavadinimas originalo kalba | D5: Kilmės šalis | E5: Pajamos | F5: Žiūrovų skaičius | G5: Kopijų skaičius | H5: Premjeros data | I5: Platintojas
A6: =IF(B6<>"",ROWS($B$6:B6),"") -> 1 | B6: Draugų lažybos | C6: Draugų lažybos | D6: LT | E6: 575513.42 | F6: 79074 | G6: 12 | H6: 45338 | I6: Cinema Ads
A7: =IF(B7<>"",ROWS($B$6:B7),"") -> 2 | B7: Irklais per Atlantą | C7: Irklais per Atlantą | D7: LT | E7: 480392.54 | F7: 73229 | G7: 17 | H7: 45310 | I7: Valujavičiaus kelionės
A8: =IF(B8<>"",ROWS($B$6:B8),"") -> 3 | B8: Prasti reikalai | C8: Poor Things | D8: IE, US, UK | E8: 203385.96 | F8: 28842 | G8: 14 | H8: 45310 | I8: Theatrical Film Distribution / WDSMPI
A9: =IF(B9<>"",ROWS($B$6:B9),"") -> 4 | B9: Milijonieriaus palikimas | C9: Milijonieriaus palikimas | D9: LT | E9: 201719 | F9: 29507 | G9: 10 | H9: 45289 | I9: Vabalo filmai
A10: =IF(B10<>"",ROWS($B$6:B10),"") -> 5 | B10: Ema ir juodasis jaguaras | C10: Le Dernier Jaguar | D10: FR, DE, CA | E10: 120394.57 | F10: 22985 | G10: 20 | H10: 45331 | I10: ACME Film
A11: =IF(B11<>"",ROWS($B$6:B11),"") -> 6 | B11: Didžioji ančių kelionė | C11: Migration | D11: US, FR | E11: 100521.51 | F11: 19171 | G11: 14 | H11: 45282 | I11: Dukine Film Distribution / Universal Pictures
A12: =IF(B12<>"",ROWS($B$6:B12),"") -> 7 | B12: Ferrari | C12: Ferrari | D12: IT, US, UK, CN | E12: 77717.24 | F12: 11427 | G12: 19 | H12: 45317 | I12: ACME Film
A13: =IF(B13<>"",ROWS($B$6:B13),"") -> 8 | B13: Bob Marley: One Love | C13: Bob Marley: One Love | D13: US | E13: 62385.86 | F13: 9230 | G13: 18 | H13: 45338 | I13: Dukine Film Distribution / Paramount Pictures
A14: =IF(B14<>"",ROWS($B$6:B14),"") -> 9 | B14: Sparnuoti herojai | C14: Super Wings the Movie: Maximum Speed | D14: KR | E14: 58884.26 | F14: 11634 | G14: 19 | H14: 45338 | I14: Adastra Cinema
A15: =IF(B15<>"",ROWS($B$6:B15),"") -> 10 | B15: Vonka | C15: Wonka | D15: US, UK | E15: 55216.07 | F15: 9962 | G15: 12 | H15: 45275 | I15: ACME Film / WB
A16: =IF(B16<>"",ROWS($B$6:B16),"") -> 11 | B16: Argailas | C16: Argylle | D16: US | E16: 45354.5 | F16: 6506 | G16: 16 | H16: 45324 | I16: Dukine Film Distribution / Universal Pictures
A17: =IF(B17<>"",ROWS($B$6:B17),"") -> 12 | B17: Šuo ir katė. Pabėgimas | C17: Chien et Chat | D17: FR | E17: 36090.85 | F17: 7004 | G17: 18 | H17: 45345 | I17: ACME Film
... A45: =IF(B45<>"",ROWS($B$6:B45),"") -> 40 | B45: Nežinomais takais | C45: Sur les chemins noirs | D45: FR | E45: 3008.6 | F45: 557 | G45: 5 | H45: 45345 | I45: Greta Garbo Films
A46: =IF(B46<>"",ROWS($B$6:B46),"") -> 41 | B46: Labirintai | C46: Pasagges | D46: FR, DE | E46: 2943 | F46: 402 | G46: 2 | H46: Preview | I46: Europos kinas
A47: =IF(B47<>"",ROWS($B$6:B47),"") -> 42 | B47: Praėję gyvenimai | C47: Past lives | D47: US, KR | E47: 2935.4 | F47: 432 | G47: 4 | H47: 45254 | I47: Europos kinas
A48: =IF(B48<>"",ROWS($B$6:B48),"") -> 43 | B48: Ponas Bleikas jūsų paslaugoms | C48: Complètement cramé | D48: FR | E48: 2456 | F48: 380 | G48: 6 | H48: 44966 | I48: Best Film
A49: =IF(B49<>"",ROWS($B$6:B49),"") -> 44 | B49: Akvamenas 2: Prarasta karalystė | C49: Aquaman and The Lost Kingdom | D49: US | E49: 2257.81 | F49: 312 | G49: 3 | H49: 45282 | I49: ACME Film / WB
A50: =IF(B50<>"",ROWS($B$6:B50),"") -> 45 | B50: Šiaurietiški patogumai | C50: Northern Comfort | D50: IS, UK, DE | E50: 2124.9 | F50: 311 | G50: 2 | H50: 45303 | I50: Adastra Cinema
A51: =IF(B51<>"",ROWS($B$6:B51),"") -> 46 | B51: Oho! | C51: Wahou! | D51: FR | E51: 2111.84 | F51: 398 | G51: 4 | H51: 45338 | I51: Best Film
A52: =IF(B52<>"",ROWS($B$6:B52),"") -> 47 | B52: Čiurlionis AI | C52: Čiurlionis AI | D52: LT | E52: 2000.5 | F52: 304 | G52: 3 | H52: 45338 | I52: Broom Films
A53: =IF(B53<>"",ROWS($B$6:B53),"") -> 48 | B53: Apie sausą žolę | C53: Kuru Otlar Üstüne | D53: TR | E53: 1916.88 | F53: 339 | G53: 6 | H53: 45345 | I53: A-One Films
A54: =IF(B54<>"",ROWS($B$6:B54),"") -> 49 | B54: Vienuolis ir ginklas | C54: The Monk and the Gun | D54: BT, FR, US, TW | E54: 1580.9 | F54: 255 | G54: 7 | H54: 45345 | I54: Taip toliau
A55: =IF(B55<>"",ROWS($B$6:B55),"") -> 50 | B55: Šokių karalienė | C55: Dancing Queen | D55: NO | E55: 1519 | F55: 400 | G55: 2 | H55: 45317 | I55: Estinfilm
A56: =IF(B56<>"",ROWS($B$6:B56),"") -> 51 | B56: How to Have Sex | C56: How to Have Sex | D56: UK, GR | E56: 1442.9 | F56: 274 | G56: 3 | H56: Preview | I56: Europos kinas
A57: =IF(B57<>"",ROWS($B$6:B57),"") -> 52 | B57: Gurmaniška aistra | C57: Pot au Feu de Dodin Bouffant | D57: FR | E57: 1392.6 | F57: 228 | G57: 3 | H57: 45254 | I57: ACME Film
A58: =IF(B58<>"",ROWS($B$6:B58),"") -> 53 | B58: Sapnų scenarijus | C58: Dream Scenario | D58: US | E58: 1349.2 | F58: 185 | G58: 2 | H58: 45275 | I58: Europos kinas
A59: =IF(B59<>"",ROWS($B$6:B59),"") -> 54 | B59: Parko stebuklai | C59: The Inseparables | D59: ES, FR, BE | E59: 1243 | F59: 270 | G59: 2 | H59: 45289 | I59: Adastra Cinema
A60: =IF(B60<>"",ROWS($B$6:B60),"") -> 55 | B60: Tu man nieko neprimeni | C60: Tu man nieko neprimeni | D60: LT, ES, SE | E60: 1016.7 | F60: 182 | G60: 2 | H60: 45191 | I60: Europos kinas
A61: =IF(B61<>"",ROWS($B$6:B61),"") -> 56 | B61: Pažadėtoji žemė | C61: Bastarden | D61: DK | E61: 969.8 | F61: 206 | G61: 3 | H61: 45296 | I61: Estinfilm
A62: =IF(B62<>"",ROWS($B$6:B62),"") -> 57 | B62: Viena gyvybė | C62: One Life | D62: UK | E62: 955.44 | F62: 198 | G62: 6 | H62: 45303 | I62: ACME Film
A63: =IF(B63<>"",ROWS($B$6:B63),"") -> 58 | B63: Didieji planetos sergėtojai | C63: Les gardiennes de la planete | D63: FR | E63: 946 | F63: 212 | G63: 2 | H63: 45233 | I63: Estinfilm
A64: =IF(B64<>"",ROWS($B$6:B64),"") -> 59 | B64: Čiulbanti siela | C64: Čiulbanti siela | D64: LT | E64: 906.07 | F64: 116 | G64: 1 | H64: 45261 | I64: Taip toliau
A65: =IF(B65<>"",ROWS($B$6:B65),"") -> 60 | B65: Tigro kelionė Himalajuose | C65: Tigers Nest | D65: IT | E65: 852.54 | F65: 258 | G65: 3 | H65: 44855 | I65: ACME Film
A66: =IF(B66<>"",ROWS($B$6:B66),"") -> 61 | B66: Ingeborga Bachmann. Kelionė į dykumą | C66: Ingeborg Bachmann – Reise In Die Wüste | D66: CH, DE | E66: 802 | F66: 186 | G66: 1 | H66: 45268 | I66: A-One Films
A67: =IF(B67<>"",ROWS($B$6:B67),"") -> 62 | B67: Paryžietė | C67: Rue des dames | D67: DE | E67: 563.16 | F67: 103 | G67: 4 | H67: 45324 | I67: Unlimited Media OÜ
A68: =IF(B68<>"",ROWS($B$6:B68),"") -> 63 | B68: Ernestas ir Selestina: Kelionė į Šaradiją | C68: Ernest et Célestine: Le voyage en Charabie | D68: FR, LU | E68: 547 | F68: 123 | G68: 2 | H68: 45275 | I68: Broom Films
...

Sheet Kovas
A1: ='2024'!A1 -> 2024
A2: ='2024'!A2 -> Lietuvos kino teatruose rodytų filmų TOP
A3: Kovas
A5: Eil. Nr. | B5: Filmo pavadinimas | C5: Filmo pavadinimas originalo kalba | D5: Kilmės šalis | E5: Pajamos | F5: Žiūrovų skaičius | G5: Kopijų skaičius | H5: Premjeros data | I5: Platintojas
A6: =IF(B6<>"",ROWS($B$6:B6),"") -> 1 | B6: Kopa: antra dalis | C6: Dune: Part II | D6: US, CA | E6: 677900.93 | F6: 84204 | G6: 21 | H6: 45352 | I6: ACME Film / WB
A7: =IF(B7<>"",ROWS($B$6:B7),"") -> 2 | B7: Kung Fu Panda 4 | C7: Kung Fu Panda 4 | D7: US | E7: 512707.22 | F7: 87593 | G7: 34 | H7: 45359 | I7: Dukine Film Distribution / Universal Pictures
A8: =IF(B8<>"",ROWS($B$6:B8),"") -> 3 | B8: Draugų lažybos | C8: Draugų lažybos | D8: LT | E8: 114106.2 | F8: 14310 | G8: 12 | H8: 45338 | I8: Cinema Ads
A9: =IF(B9<>"",ROWS($B$6:B9),"") -> 4 | B9: Irklais per Atlantą | C9: Irklais per Atlantą | D9: LT | E9: 74395.53 | F9: 12221 | G9: 10 | H9: 45310 | I9: Valujavičiaus kelionės
A10: =IF(B10<>"",ROWS($B$6:B10),"") -> 5 | B10: Mano šuo Artūras | C10: Arthur the King | D10: US | E10: 45782.7 | F10: 7139 | G10: 16 | H10: 45366 | I10: ACME Film
A11: =IF(B11<>"",ROWS($B$6:B11),"") -> 6 | B11: Vaiduoklių medžiotojai: sustingę iš baimės | C11: Ghostbusters Frozen Empire | D11: US | E11: 42000.95 | F11: 6366 | G11: 16 | H11: 45373 | I11: ACME Film / SONY
A12: =IF(B12<>"",ROWS($B$6:B12),"") -> 7 | B12: Nematomas draugas | C12: Imaginary | D12: US | E12: 40582.75 | F12: 5852 | G12: 14 | H12: 45359 | I12: ACME Film
A13: =IF(B13<>"",ROWS($B$6:B13),"") -> 8 | B13: Šuo ir katė. Pabėgimas | C13: Chien et Chat | D13: FR | E13: 38548.64 | F13: 7547 | G13: 17 | H13: 45345 | I13: ACME Film
A14: =IF(B14<>"",ROWS($B$6:B14),"") -> 9 | B14: Prasti reikalai | C14: Poor Things | D14: IE, US, UK | E14: 37756.15 | F14: 5251 | G14: 15 | H14: 45310 | I14: Theatrical Film Distribution / WDSMPI
A15: =IF(B15<>"",ROWS($B$6:B15),"") -> 10 | B15: Nekaltoji | C15: Immaculate | D15: US | E15: 35702.72 | F15: 5206 | G15: 13 | H15: 45373 | I15: ACME Film
A16: =IF(B16<>"",ROWS($B$6:B16),"") -> 11 | B16: Godzila ir kongas: Nauja imperija | C16: Godzilla x Kong: The New Empire | D16: US | E16: 33304.32 | F16: 4287 | G16: 15 | H16: 45380 | I16: ACME Film / WB
A17: =IF(B17<>"",ROWS($B$6:B17),"") -> 12 | B17: Milijonieriaus palikimas | C17: Milijonieriaus palikimas | D17: LT | E17: 24371 | F17: 3228 | G17: – | H17: 45289 | I17: Vabalo filmai
A18: =IF(B18<>"",ROWS($B$6:B18),"") -> 13 | B18: Kryčio anatomija | C18: Anatomy of a Fall | D18: FR | E18: 23424.31 | F18: 1759 | G18: 21 | H18: 45379 | I18: Europos kinas
A19: =IF(B19<>"",ROWS($B$6:B19),"") -> 14 | B19: Ryuichi Sakamoto | Opusas | C19: Ryuichi Sakamoto | Opus | D19: JP | E19: 22817.7 | F19: 1169 | G19: 10 | H19: 45379 | I19: Europos kinas
A20: =IF(B20<>"",ROWS($B$6:B20),"") -> 15 | B20: Mamutų medžioklė | C20: Mamutų medžioklė | D20: LT | E20: 22771.83 | F20: 3874 | G20: 13 | H20: 45352 | I20: Kino pasaka
A21: =IF(B21<>"",ROWS($B$6:B21),"") -> 16 | B21: Baltoji paukštė | C21: White Bird a Wonder Story | D21: US | E21: 21906.17 | F21: 3375 | G21: 16 | H21: 45359 | I21: ACME Film
A22: =IF(B22<>"",ROWS($B$6:B22),"") -> 17 | B22: Interesų zona | C22: The Zone of Interest | D22: UK, US, PL | E22: 19922.92 | F22: 2935 | G22: 22 | H22: 45379 | I22: Europos kinas
A23: =IF(B23<>"",ROWS($B$6:B23),"") -> 18 | B23: Nutrūktgalviai: Don Kichoto pėdsakais | C23: Giants of La Mancha | D23: AR, BE, DE | E23: 19593.28 | F23: 3926 | G23: 16 | H23: 45373 | I23: ACME Film
A24: =IF(B24<>"",ROWS($B$6:B24),"") -> 19 | B24: Ema ir juodasis jaguaras | C24: Le Dernier Jaguar | D24: FR, DE, CA | E24: 15994.54 | F24: 3017 | G24: 12 | H24: 45331 | I24: ACME Film
A25: =IF(B25<>"",ROWS($B$6:B25),"") -> 20 | B25: Monstras | C25: Monster | D25: JP | E25: 14916.39 | F25: 1103 | G25: 14 | H25: 45379 | I25: Europos kinas
A26: =IF(B26<>"",ROWS($B$6:B26),"") -> 21 | B26: Motinos instinktas | C26: Mothers‘ instinct | D26: US | E26: 12569.21 | F26: 1975 | G26: 15 | H26: 45359 | I26: Adastra Cinema
A27: =IF(B27<>"",ROWS($B$6:B27),"") -> 22 | B27: Didžioji ančių kelionė | C27: Migration | D27: US, FR | E27: 12015.1 | F27: 2299 | G27: 10 | H27: 45282 | I27: Dukine Film Distribution / Universal Pictures
A28: =IF(B28<>"",ROWS($B$6:B28),"") -> 23 | B28: Didžiosios lenktynės. Audi vs. Lancia | C28: Race for Glory | D28: IT, UK, IE | E28: 11686 | F28: 1954 | G28: 11 | H28: 45345 | I28: Garsų pasaulio įrašai
A29: =IF(B29<>"",ROWS($B$6:B29),"") -> 24 | B29: Blogio šalis | C29: Land of Bad | D29: US | E29: 11371.9 | F29: 1635 | G29: 9 | H29: 45366 | I29: Travolta
... A80: =IF(B80<>"",ROWS($B$6:B80),"") -> 75 | B80: Tegul prasideda šokiai | C80: Empieza el baile | D80: AR | E80: 274 | F80: 50 | G80: 2 | H80: 45331 | I80: Estinfilm
A81: =IF(B81<>"",ROWS($B$6:B81),"") -> 76 | B81: Šunyčiai patruliai 2. Galingas filmas | C81: PAW Patrol: The Mighty Movie | D81: US, CA | E81: 255.69 | F81: 50 | G81: 4 | H81: 2023-10-27 | I81: Dukine Film Distribution / Paramount Pictures
A82: =IF(B82<>"",ROWS($B$6:B82),"") -> 77 | B82: Tigro kelionė Himalajuose | C82: Tigers Nest | D82: IT | E82: 240.38 | F82: 70 | G82: 2 | H82: 44855 | I82: ACME Film
A83: =IF(B83<>"",ROWS($B$6:B83),"") -> 78 | B83: Priscilla | C83: Priscilla | D83: US, IT | E83: 222 | F83: 37 | G83: 1 | H83: 45303 | I83: Europos kinas
A84: =IF(B84<>"",ROWS($B$6:B84),"") -> 79 | B84: Tiesiog super! | C84: Helt super | D84: NO | E84: 220 | F84: 44 | G84: 1 | H84: 45289 | I84: Estinfilm
A85: =IF(B85<>"",ROWS($B$6:B85),"") -> 80 | B85: Batuotas katinas Pūkis: paskutinis noras | C85: Puss in Boots: The Last Wish | D85: US, JP | E85: 206.98 | F85: 56 | G85: 2 | H85: 44916 | I85: Dukine Film Distribution / Universal Pictures
A86: =IF(B86<>"",ROWS($B$6:B86),"") -> 81 | B86: Šiaurietiški patogumai | C86: Northern Comfort | D86: IS, UK, DE | E86: 200 | F86: 93 | G86: 1 | H86: 45303 | I86: Adastra Cinema
A87: =IF(B87<>"",ROWS($B$6:B87),"") -> 82 | B87: Tu man nieko neprimeni | C87: Tu man nieko neprimeni | D87: LT, ES, SE | E87: 166 | F87: 33 | G87: 1 | H87: 45191 | I87: Europos kinas
A88: =IF(B88<>"",ROWS($B$6:B88),"") -> 83 | B88: Po saulės | C88: After sun | D88: US, UK | E88: 128 | F88: 32 | G88: 1 | H88: 45012 | I88: Europos kinas
A89: =IF(B89<>"",ROWS($B$6:B89),"") -> 84 | B89: Katakas. Kelionė į ledynų kraštą | C89: Katak: The Brave Beluga | D89: CA | E89: 110 | F89: 22 | G89: 1 | H89: 45191 | I89: Estinfilm
A90: =IF(B90<>"",ROWS($B$6:B90),"") -> 85 | B90: Delinkventai | C90: Los delincuentes | D90: AR | E90: 106.4 | F90: 24 | G90: 4 | H90: 45379 | I90: Europos kinas
A91: =IF(B91<>"",ROWS($B$6:B91),"") -> 86 | B91: Praėję gyvenimai | C91: Past lives | D91: US, KR | E91: 102 | F91: 21 | G91: 1 | H91: 45254 | I91: Europos kinas
...

Sheet Balandis
A1: ='2024'!A1 -> 2024
A2: ='2024'!A2 -> Lietuvos kino teatruose rodytų filmų TOP
A3: Balandis
A5: Eil. Nr. | B5: Filmo pavadinimas | C5: Filmo pavadinimas originalo kalba | D5: Kilmės šalis | E5: Pajamos | F5: Žiūrovų skaičius | G5: Kopijų skaičius | H5: Premjeros data | I5: Platintojas
A6: =IF(B6<>"",ROWS($B$6:B6),"") -> 1 | B6: Kung Fu Panda 4 | C6: Kung Fu Panda 4 | D6: US | E6: 298665.44 | F6: 52748 | G6: 29 | H6: 45359 | I6: Dukine Film Distribution / Universal Pictures
A7: =IF(B7<>"",ROWS($B$6:B7),"") -> 2 | B7: Godzila ir kongas: Nauja imperija | C7: Godzilla x Kong: The New Empire | D7: US | E7: 149230.5 | F7: 21650 | G7: 16 | H7: 45380 | I7: ACME Film / WB
A8: =IF(B8<>"",ROWS($B$6:B8),"") -> 3 | B8: Kopa: antra dalis | C8: Dune: Part II | D8: US, CA | E8: 108664.94 | F8: 14422 | G8: 12 | H8: 45352 | I8: ACME Film / WB
A9: =IF(B9<>"",ROWS($B$6:B9),"") -> 4 | B9: Nedžentelmeniško karo ministerija | C9: The Ministry of Ungentlemanly Warfare | D9: US, UK, TR | E9: 77739.07 | F9: 10564 | G9: 16 | H9: 45401 | I9: ACME Film
A10: =IF(B10<>"",ROWS($B$6:B10),"") -> 5 | B10: Back To Black | C10: Back To Black | D10: US, FR, UK | E10: 70370.14 | F10: 10316 | G10: 20 | H10: 45394 | I10: Dukine Film Distribution / Universal Pictures
A11: =IF(B11<>"",ROWS($B$6:B11),"") -> 6 | B11: Prezidentas | C11: Prezidentas | D11: LT | E11: 63900.14 | F11: 10816 | G11: 15 | H11: 45394 | I11: Cinema Ads
A12: =IF(B12<>"",ROWS($B$6:B12),"") -> 7 | B12: Drakonų sergėtoja | C12: Dragonkeeper | D12: ES, CN | E12: 55083.2 | F12: 10421 | G12: 19 | H12: 45401 | I12: Adastra Cinema
A13: =IF(B13<>"",ROWS($B$6:B13),"") -> 8 | B13: Pilietinis karas | C13: Civil War | D13: US, UK | E13: 52510.53 | F13: 7443 | G13: 19 | H13: 45394 | I13: Theatrical Film Distribution
A14: =IF(B14<>"",ROWS($B$6:B14),"") -> 9 | B14: Kaimiečiai | C14: Chlopi | D14: PL, LT | E14: 46007.55 | F14: 7252 | G14: 24 | H14: 45379 | I14: Europos kinas
A15: =IF(B15<>"",ROWS($B$6:B15),"") -> 10 | B15: Vaiduoklių medžiotojai: sustingę iš baimės | C15: Ghostbusters Frozen Empire | D15: US | E15: 45964.11 | F15: 7579 | G15: 13 | H15: 45373 | I15: ACME Film / SONY
A16: =IF(B16<>"",ROWS($B$6:B16),"") -> 11 | B16: Nutrūktgalviai: Don Kichoto pėdsakais | C16: Giants of La Mancha | D16: AR, BE, DE | E16: 45779.89 | F16: 8933 | G16: 19 | H16: 45373 | I16: ACME Film
A17: =IF(B17<>"",ROWS($B$6:B17),"") -> 12 | B17: Interesų zona | C17: The Zone of Interest | D17: UK, US, PL | E17: 42132.32 | F17: 6522 | G17: 24 | H17: 45379 | I17: Europos kinas
... A51: =IF(B51<>"",ROWS($B$6:B51),"") -> 46 | B51: Mamutų medžioklė | C51: Mamutų medžioklė | D51: LT | E51: 1191.9 | F51: 250 | G51: 2 | H51: 45352 | I51: Kino pasaka
A52: =IF(B52<>"",ROWS($B$6:B52),"") -> 47 | B52: Šunyčiai patruliai 2. Galingas filmas | C52: PAW Patrol: The Mighty Movie | D52: US, CA | E52: 1188.7 | F52: 242 | G52: 4 | H52: 2023-10-27 | I52: Dukine Film Distribution / Paramount Pictures
A53: =IF(B53<>"",ROWS($B$6:B53),"") -> 48 | B53: Šuo ir katė. Pabėgimas | C53: Chien et Chat | D53: FR | E53: 1161.25 | F53: 242 | G53: 5 | H53: 45345 | I53: ACME Film
A54: =IF(B54<>"",ROWS($B$6:B54),"") -> 49 | B54: Puikios dienos | C54: Perfect days | D54: JP, DE | E54: 1022.2 | F54: 100 | G54: 1 | H54: 45282 | I54: A-One Films
A55: =IF(B55<>"",ROWS($B$6:B55),"") -> 50 | B55: How to Have Sex | C55: How to Have Sex | D55: UK, GR | E55: 877.3 | F55: 153 | G55: 8 | H55: 45379 | I55: Europos kinas
A56: =IF(B56<>"",ROWS($B$6:B56),"") -> 51 | B56: Čiulbanti siela | C56: Čiulbanti siela | D56: LT | E56: 758.2 | F56: 91 | G56: 1 | H56: 45261 | I56: Taip toliau
A57: =IF(B57<>"",ROWS($B$6:B57),"") -> 52 | B57: Baltoji paukštė | C57: White Bird a Wonder Story | D57: US | E57: 708.88 | F57: 204 | G57: 4 | H57: 45359 | I57: ACME Film
A58: =IF(B58<>"",ROWS($B$6:B58),"") -> 53 | B58: Mano laisvė | C58: Mana Brīvība | D58: LV, LT | E58: 637.4 | F58: 116 | G58: 7 | H58: 45387 | I58: M-Films
A59: =IF(B59<>"",ROWS($B$6:B59),"") -> 54 | B59: Undinėlė | C59: Little Mermaid | D59: US | E59: 606.3 | F59: 123 | G59: 4 | H59: 45072 | I59: Theatrical Film Distribution / WDSMPI
A60: =IF(B60<>"",ROWS($B$6:B60),"") -> 55 | B60: Labirintai | C60: Passages | D60: FR, DE | E60: 595.7 | F60: 106 | G60: 9 | H60: 45379 | I60: Europos kinas
A61: =IF(B61<>"",ROWS($B$6:B61),"") -> 56 | B61: Motinos instinktas | C61: Mothers‘ instinct | D61: US | E61: 505.9 | F61: 117 | G61: 2 | H61: 45359 | I61: Adastra Cinema
A62: =IF(B62<>"",ROWS($B$6:B62),"") -> 57 | B62: Marijos tyla | C62: Marijas Klusums | D62: LT, LV | E62: 489.78 | F62: 105 | G62: 5 | H62: 45401 | I62: Broom Films
A63: =IF(B63<>"",ROWS($B$6:B63),"") -> 58 | B63: 5½ meilės istorijos viename Vilniaus bute | C63: Five and a Half Love Stories in an Apartment in Vilnius, Lithuania | D63: LT, IE, LV | E63: 441.3 | F63: 65 | G63: 2 | H63: 45331 | I63: Europos kinas
A64: =IF(B64<>"",ROWS($B$6:B64),"") -> 59 | B64: Delinkventai | C64: Los delincuentes | D64: AR | E64: 429.9 | F64: 75 | G64: 5 | H64: 45379 | I64: Europos kinas
... A89: =IF(B89<>"",ROWS($B$6:B89),"") -> 84 | B89: Geležiniai gniaužtai | C89: The Iron Claw | D89: US, UK | E89: 40 | F89: 20 | G89: 1 | H89: 45345 | I89: Europos kinas
E90: =SUBTOTAL(109,Table3_Balandis[Pajamos]) -> 1370567.8 | F90: =SUBTOTAL(109,Table3_Balandis[Žiūrovų skaičius]) -> 220325

Sheet Gegužė
A1: ='2024'!A1 -> 2024
A2: ='2024'!A2 -> Lietuvos kino teatruose rodytų filmų TOP
A3: Gegužė
A5: Eil. Nr. | B5: Filmo pavadinimas | C5: Filmo pavadinimas originalo kalba | D5: Kilmės šalis | E5: Pajamos | F5: Žiūrovų skaičius | G5: Kopijų skaičius | H5: Premjeros data | I5: Platintojas
A6: =IF(B6<>"",ROWS($B$6:B6),"") -> 1 | B6: Garfildas | C6: The Garfield Movie | D6: US | E6: 142769.29 | F6: 25572 | G6: 20 | H6: 45436 | I6: ACME Film / SONY
A7: =IF(B7<>"",ROWS($B$6:B7),"") -> 2 | B7: Beždžionių planetos karalystė | C7: Kingdom of the Planet of the Apes | D7: US | E7: 89682.22 | F7: 12615 | G7: 16 | H7: 45422 | I7: Theatrical Film Distribution / WDSMPI
A8: =IF(B8<>"",ROWS($B$6:B8),"") -> 3 | B8: Varžovai | C8: Challengers | D8: US | E8: 82510.87 | F8: 12124 | G8: 20 | H8: 45415 | I8: ACME Film / WB
A9: =IF(B9<>"",ROWS($B$6:B9),"") -> 4 | B9: Mirties korta | C9: Tarot | D9: US | E9: 68812.8 | F9: 10135 | G9: 15 | H9: 45422 | I9: ACME Film / SONY
A10: =IF(B10<>"",ROWS($B$6:B10),"") -> 5 | B10: Kaskadininkas | C10: The Fall Guy | D10: US | E10: 61655.16 | F10: 9398 | G10: 19 | H10: 45408 | I10: Dukine Film Distribution / Universal Pictures
A11: =IF(B11<>"",ROWS($B$6:B11),"") -> 6 | B11: Nematomi draugai | C11: IF: Imaginary Friends | D11: US | E11: 58273.2 | F11: 11142 | G11: 25 | H11: 45429 | I11: Dukine Film Distribution / Paramount Pictures
A12: =IF(B12<>"",ROWS($B$6:B12),"") -> 7 | B12: Furioza: Pašėlusio Makso saga | C12: Furiosa: A Mad Max Saga | D12: AU, US | E12: 49990.99 | F12: 6600 | G12: 20 | H12: 45436 | I12: ACME Film / WB
A13: =IF(B13<>"",ROWS($B$6:B13),"") -> 8 | B13: Kung Fu Panda 4 | C13: Kung Fu Panda 4 | D13: US | E13: 49343.75 | F13: 8699 | G13: 16 | H13: 45359 | I13: Dukine Film Distribution / Universal Pictures
A14: =IF(B14<>"",ROWS($B$6:B14),"") -> 9 | B14: Drakonų sergėtoja | C14: Dragonkeeper | D14: ES, CN | E14: 41200.77 | F14: 7886 | G14: 16 | H14: 45401 | I14: Adastra Cinema
A15: =IF(B15<>"",ROWS($B$6:B15),"") -> 10 | B15: Nedžentelmeniško karo ministerija | C15: The Ministry of Ungentlemanly Warfare | D15: US, UK, TR | E15: 17274.09 | F15: 2481 | G15: 14 | H15: 45401 | I15: ACME Film
A16: =IF(B16<>"",ROWS($B$6:B16),"") -> 11 | B16: Keistuolė Betė | C16: My Freaky Family | D16: DE, IE, AU | E16: 17058.92 | F16: 3390 | G16: 19 | H16: 45408 | I16: ACME Film
A17: =IF(B17<>"",ROWS($B$6:B17),"") -> 12 | B17: Prezidentas | C17: Prezidentas | D17: LT | E17: 14900.83 | F17: 2429 | G17: 15 | H17: 45394 | I17: Cinema Ads
... A28: =IF(B28<>"",ROWS($B$6:B28),"") -> 23 | B28: Pilietinis karas | C28: Civil War | D28: US, UK | E28: 4122.49 | F28: 641 | G28: 8 | H28: 45394 | I28: Theatrical Film Distribution
A29: =IF(B29<>"",ROWS($B$6:B29),"") -> 24 | B29: Kauliuko metimas | C29: Breaking point | D29: FR, BE | E29: 3972 | F29: 479 | G29: 1 | H29: Preview | I29: Adastra Cinema
A30: =IF(B30<>"",ROWS($B$6:B30),"") -> 25 | B30: Mikė Pūkuotukas: Kraujas ir medus 2 | C30: Winnie the Pooh: Blood and Honey 2 | D30: UK | E30: 3662.47 | F30: 540 | G30: 10 | H30: 45415 | I30: Unlimited Media OÜ
A31: =IF(B31<>"",ROWS($B$6:B31),"") -> 26 | B31: Kaimiečiai | C31: Chlopi | D31: PL, LT | E31: 3288.3 | F31: 563 | G31: 9 | H31: 45379 | I31: Europos kinas
A32: =IF(B32<>"",ROWS($B$6:B32),"") -> 27 | B32: Irklais per Atlantą | C32: Irklais per Atlantą | D32: LT | E32: 3224.21 | F32: 707 | G32: 3 | H32: 45310 | I32: Valujavičiaus kelionės
A33: =IF(B33<>"",ROWS($B$6:B33),"") -> 28 | B33: Mano nusikaltimas | C33: Mon crime | D33: FR | E33: 3144 | F33: 641 | G33: 2 | H33: 45176 | I33: A-One Films
A34: =IF(B34<>"",ROWS($B$6:B34),"") -> 29 | B34: Interesų zona | C34: The Zone of Interest | D34: UK, US, PL | E34: 2911.6 | F34: 480 | G34: 7 | H34: 45379 | I34: Europos kinas
A35: =IF(B35<>"",ROWS($B$6:B35),"") -> 30 | B35: Apsinuoginusi mūza | C35: Bonnard: Pierre & Marthe | D35: FR, BE | E35: 2772.2 | F35: 523 | G35: 6 | H35: 45415 | I35: Best Film
A36: =IF(B36<>"",ROWS($B$6:B36),"") -> 31 | B36: Kritinė zona | C36: Mantagheye bohrani | D36: IR | E36: 2730.7 | F36: 610 | G36: 6 | H36: 45429 | I36: A-One Films
A37: =IF(B37<>"",ROWS($B$6:B37),"") -> 32 | B37: Chimera | C37: La Chimera | D37: IT | E37: 2384.8 | F37: 391 | G37: 4 | H37: 45401 | I37: A-One Films
A38: =IF(B38<>"",ROWS($B$6:B38),"") -> 33 | B38: Legua | C38: Légua | D38: PT | E38: 1853 | F38: 375 | G38: 1 | H38: 45415 | I38: A-One Films
A39: =IF(B39<>"",ROWS($B$6:B39),"") -> 34 | B39: Abigailė | C39: Abigail | D39: US, IE | E39: 1804.49 | F39: 258 | G39: 11 | H39: 45401 | I39: Dukine Film Distribution / Universal Pictures
A40: =IF(B40<>"",ROWS($B$6:B40),"") -> 35 | B40: Mažylis Nikolia pasakoja apie laimę | C40: Petit Nicolas: Qu'est-Ce Qu'on Attend Pour Être Heureux? | D40: FR, LU, CA | E40: 1782 | F40: 426 | G40: 3 | H40: 45380 | I40: Adastra Cinema
A41: =IF(B41<>"",ROWS($B$6:B41),"") -> 36 | B41: Vaikis žudo pasaulį | C41: Boy Kills World | D41: US | E41: 1744 | F41: 331 | G41: 12 | H41: 45422 | I41: Baltic Content Media
... A48: =IF(B48<>"",ROWS($B$6:B48),"") -> 43 | B48: Vaiduoklių medžiotojai: sustingę iš baimės | C48: Ghostbusters Frozen Empire | D48: US | E48: 1085.89 | F48: 187 | G48: 5 | H48: 45373 | I48: ACME Film / SONY
A49: =IF(B49<>"",ROWS($B$6:B49),"") -> 44 | B49: Rašytojas | C49: The Writer | D49: LT, DE, US | E49: 1057.67 | F49: 159 | G49: 3 | H49: Preview | I49: Naratyvas
A50: =IF(B50<>"",ROWS($B$6:B50),"") -> 45 | B50: Visi mes svetimi | C50: All of Us Strangers | D50: UK, US | E50: 954.64 | F50: 203 | G50: 3 | H50: 45408 | I50: Theatrical Film Distribution / WDSMPI
A51: =IF(B51<>"",ROWS($B$6:B51),"") -> 46 | B51: Nakties skerdikas | C51: Wake Up | D51: FR | E51: 872 | F51: 132 | G51: 13 | H51: 45443 | I51: Garsų pasaulio įrašai
A52: =IF(B52<>"",ROWS($B$6:B52),"") -> 47 | B52: Mūza | C52: Mūza | D52: LT | E52: 799 | F52: 162 | G52: 3 | H52: 45345 | I52: ACME Film
A53: =IF(B53<>"",ROWS($B$6:B53),"") -> 48 | B53: Femme | C53: Femme | D53: UK | E53: 764.4 | F53: 118 | G53: 2 | H53: 45387 | I53: Garsų pasaulio įrašai
A54: =IF(B54<>"",ROWS($B$6:B54),"") -> 49 | B54: Hit Man | C54: Hit Man | D54: US | E54: 742.32 | F54: 102 | G54: 4 | H54: Preview | I54: Travolta
A55: =IF(B55<>"",ROWS($B$6:B55),"") -> 50 | B55: Nekaltoji | C55: Immaculate | D55: US | E55: 738.32 | F55: 101 | G55: 2 | H55: 45373 | I55: ACME Film
A56: =IF(B56<>"",ROWS($B$6:B56),"") -> 51 | B56: Viena gyvybė | C56: One Life | D56: UK | E56: 664 | F56: 130 | G56: 1 | H56: 45303 | I56: ACME Film
A57: =IF(B57<>"",ROWS($B$6:B57),"") -> 52 | B57: Drugelio Širdis | C57: Drugelio Širdis | D57: LT | E57: 641.54 | F57: 204 | G57: 8 | H57: 44659 | I57: ACME Film
...

Sheet Birželis
A1: ='2024'!A1 -> 2024
A2: ='2024'!A2 -> Lietuvos kino teatruose rodytų filmų TOP
A3: Birželis
A5: Eil. Nr. | B5: Filmo pavadinimas | C5: Filmo pavadinimas originalo kalba | D5: Kilmės šalis | E5: Pajamos | F5: Žiūrovų skaičius | G5: Kopijų skaičius | H5: Premjeros data | I5: Platintojas
A6: =IF(B6<>"",ROWS($B$6:B6),"") -> 1 | B6: Išvirkščias pasaulis 2 | C6: Inside Out 2 | D6: US, JP | E6: 752296.14 | F6: 125768 | G6: 31 | H6: 45457 | I6: Theatrical Film Distribution / WDSMPI
A7: =IF(B7<>"",ROWS($B$6:B7),"") -> 2 | B7: Garfildas | C7: The Garfield Movie | D7: US | E7: 353460.76 | F7: 66177 | G7: 19 | H7: 45436 | I7: ACME Film / SONY
A8: =IF(B8<>"",ROWS($B$6:B8),"") -> 3 | B8: Pašėlę vyrukai: viskas arba nieko | C8: Bad Boys: Ride Or Die | D8: US | E8: 198721.99 | F8: 26330 | G8: 16 | H8: 45450 | I8: ACME Film / SONY
A9: =IF(B9<>"",ROWS($B$6:B9),"") -> 4 | B9: Furioza: Pašėlusio Makso saga | C9: Furiosa: A Mad Max Saga | D9: AU, US | E9: 63710.86 | F9: 9007 | G9: 19 | H9: 45436 | I9: ACME Film / WB
A10: =IF(B10<>"",ROWS($B$6:B10),"") -> 5 | B10: Stebėtojai | C10: The Watchers | D10: US | E10: 60592.62 | F10: 9426 | G10: 14 | H10: 45450 | I10: ACME Film / WB
A11: =IF(B11<>"",ROWS($B$6:B11),"") -> 6 | B11: Nematomi draugai | C11: IF: Imaginary Friends | D11: US | E11: 42780.97 | F11: 8641 | G11: 18 | H11: 45429 | I11: Dukine Film Distribution / Paramount Pictures
A12: =IF(B12<>"",ROWS($B$6:B12),"") -> 7 | B12: Tylos zona. Pirmoji diena | C12: A Quiet Place: Day One | D12: US | E12: 38330.08 | F12: 4899 | G12: 17 | H12: 45471 | I12: Dukine Film Distribution / Paramount Pictures
A13: =IF(B13<>"",ROWS($B$6:B13),"") -> 8 | B13: Beždžionių planetos karalystė | C13: Kingdom of the Planet of the Apes | D13: US | E13: 32002.1 | F13: 4990 | G13: 11 | H13: 45422 | I13: Theatrical Film Distribution / WDSMPI
A14: =IF(B14<>"",ROWS($B$6:B14),"") -> 9 | B14: Mirties korta | C14: Tarot | D14: US | E14: 26617.12 | F14: 3740 | G14: 8 | H14: 45422 | I14: ACME Film / SONY
A15: =IF(B15<>"",ROWS($B$6:B15),"") -> 10 | B15: Hit Man | C15: Hit Man | D15: US | E15: 22093.63 | F15: 3373 | G15: 12 | H15: 45443 | I15: Travolta
A16: =IF(B16<>"",ROWS($B$6:B16),"") -> 11 | B16: Karalienės žaidimas | C16: Firebrand | D16: US | E16: 17900.75 | F16: 2841 | G16: 19 | H16: 45464 | I16: Adastra Cinema
A17: =IF(B17<>"",ROWS($B$6:B17),"") -> 12 | B17: Nepažįstamieji: pirma dalis | C17: Strangers: Chapter One | D17: US, ES | E17: 15673.2 | F17: 2389 | G17: 12 | H17: 45436 | I17: ACME Film
... A49: =IF(B49<>"",ROWS($B$6:B49),"") -> 44 | B49: Apsinuoginusi mūza | C49: Bonnard: Pierre & Marthe | D49: FR, BE | E49: 1320.9 | F49: 1349 | G49: 1 | H49: 45415 | I49: Best Film
A50: =IF(B50<>"",ROWS($B$6:B50),"") -> 45 | B50: Muzika | C50: Music | D50: DE | E50: 1300 | F50: 266 | G50: – | H50: 45422 | I50: A-One Films
A51: =IF(B51<>"",ROWS($B$6:B51),"") -> 46 | B51: Gauja | C51: Smecka | D51: CZ, SK, LV | E51: 1259 | F51: 516 | G51: 1 | H51: 44302 | I51: Skalvijos kino centras
A52: =IF(B52<>"",ROWS($B$6:B52),"") -> 47 | B52: Ramenai | C52: Ramen Teh | D52: SG, JP, FR | E52: 1171.5 | F52: 174 | G52: 1 | H52: 43609 | I52: Greta Garbo Films
A53: =IF(B53<>"",ROWS($B$6:B53),"") -> 48 | B53: Petsi Iš Argo | C53: Argonuts | D53: FR | E53: 1012 | F53: 478 | G53: 4 | H53: 45045 | I53: Adastra Cinema
A54: =IF(B54<>"",ROWS($B$6:B54),"") -> 49 | B54: Mūsų namai | C54: Where We Belong | D54: CH | E54: 900 | F54: 102 | G54: 1 | H54: 44350 | I54: Skalvijos kino centras
A55: =IF(B55<>"",ROWS($B$6:B55),"") -> 50 | B55: Svajonių atostogos | C55: The Holdovers | D55: US | E55: 850 | F55: 170 | G55: 1 | H55: 45401 | I55: Dukine Film Distribution / Universal Pictures
A56: =IF(B56<>"",ROWS($B$6:B56),"") -> 51 | B56: Parko stebuklai | C56: The Inseparables | D56: ES, FR, BE | E56: 847 | F56: 426 | G56: 4 | H56: 45289 | I56: Adastra Cinema
A57: =IF(B57<>"",ROWS($B$6:B57),"") -> 52 | B57: Sapnų scenarijus | C57: Dream Scenario | D57: US | E57: 835 | F57: 123 | G57: 1 | H57: 45275 | I57: Europos kinas
A58: =IF(B58<>"",ROWS($B$6:B58),"") -> 53 | B58: Drugelio Širdis | C58: Drugelio Širdis | D58: LT | E58: 819.1 | F58: 212 | G58: 3 | H58: 44659 | I58: ACME Film
A59: =IF(B59<>"",ROWS($B$6:B59),"") -> 54 | B59: Kaimiečiai | C59: Chlopi | D59: PL, LT | E59: 799 | F59: 146 | G59: 4 | H59: 45379 | I59: Europos kinas
A60: =IF(B60<>"",ROWS($B$6:B60),"") -> 55 | B60: Bintė | C60: Binti | D60: BE | E60: 791 | F60: 215 | G60: 1 | H60: 44080 | I60: Skalvijos kino centras
A61: =IF(B61<>"",ROWS($B$6:B61),"") -> 56 | B61: Greiti ir pūkuoti | C61: Rally Road Racers | D61: UK | E61: 698.5 | F61: 301 | G61: 4 | H61: 45163 | I61: Adastra Cinema
A62: =IF(B62<>"",ROWS($B$6:B62),"") -> 57 | B62: What the Finn – Summer of Surprises (Kannawoniwasein!) | C62: What the Finn – Summer of Surprises (Kannawoniwasein!) | D62: DE | E62: 697.4 | F62: 221 | G62: 3 | H62: 45422 | I62: Unlimited Media OÜ
A63: =IF(B63<>"",ROWS($B$6:B63),"") -> 58 | B63: Viena gyvybė | C63: One Life | D63: UK | E63: 686.68 | F63: 148 | G63: 3 | H63: 45303 | I63: ACME Film
A64: =IF(B64<>"",ROWS($B$6:B64),"") -> 59 | B64: Jokūbas, Mimi ir kalbantys šunys | C64: Jekabs, Mimmi un runajosie suni | D64: LV, PL | E64: 668 | F64: 182 | G64: 1 | H64: 44114 | I64: Skalvijos kino centras
A65: =IF(B65<>"",ROWS($B$6:B65),"") -> 60 | B65: Ema ir juodasis jaguaras | C65: Le Dernier Jaguar | D65: FR, DE, CA | E65: 641.26 | F65: 258 | G65: 6 | H65: 45331 | I65: ACME Film
A66: =IF(B66<>"",ROWS($B$6:B66),"") -> 61 | B66: Lukas | C66: Luca | D66: US | E66: 632.14 | F66: 200 | G66: 2 | H66: 44400 | I66: Theatrical Film Distribution / WDSMPI
... A106: =IF(B106<>"",ROWS($B$6:B106),"") -> 101 | B106: Rūkymas sukelia kosulį | C106: Smoking Causes Coughing | D106: FR | E106: 68 | F106: 14 | G106: 1 | H106: 45012 | I106: Europos kinas
A107: =IF(B107<>"",ROWS($B$6:B107),"") -> 102 | B107: Toro | C107: Mandibules | D107: FR, BE | E107: 64 | F107: 13 | G107: 1 | H107: – | I107: Europos kinas
A108: =IF(B108<>"",ROWS($B$6:B108),"") -> 103 | B108: Motinos instinktas | C108: Mothers‘ instinct | D108: US | E108: 42 | F108: 12 | G108: 1 | H108: 45359 | I108: Adastra Cinema
A109: =IF(B109<>"",ROWS($B$6:B109),"") -> 104 | B109: Lapių kelionė ledynuose | C109: Kina and Yuk | D109: IT, CA, FR | E109: 40 | F109: 8 | G109: 1 | H109: 45296 | I109: ACME Film
A110: =IF(B110<>"",ROWS($B$6:B110),"") -> 105 | B110: Kažkas ten yra | C110: Something in the Water | D110: US, FR, UK | E110: 33 | F110: 7 | G110: 1 | H110: 45429 | I110: Garsų pasaulio įrašai
A111: =IF(B111<>"",ROWS($B$6:B111),"") -> 106 | B111: Raganosis Rino | C111: Thabo and the Rhino Case | D111: DE | E111: 10 | F111: 2 | G111: 1 | H111: 45394 | I111: Garsų pasaulio įrašai
...

Sheet Liepa
A1: ='2024'!A1 -> 2024
A2: ='2024'!A2 -> Lietuvos kino teatruose rodytų filmų TOP
A3: Liepa
A5: Eil. Nr. | B5: Filmo pavadinimas | C5: Filmo pavadinimas originalo kalba | D5: Kilmės šalis | E5: Pajamos | F5: Žiūrovų skaičius | G5: Kopijų skaičius | H5: Premjeros data | I5: Platintojas
A6: =IF(B6<>"",ROWS($B$6:B6),"") -> 1 | B6: Bjaurusis aš 4 | C6: Despicable Me 4 | D6: US | E6: 835767.94 | F6: 142945 | G6: 31 | H6: 45478 | I6: Dukine Film Distribution / Universal Pictures
A7: =IF(B7<>"",ROWS($B$6:B7),"") -> 2 | B7: Išvirkščias pasaulis 2 | C7: Inside Out 2 | D7: US, JP | E7: 372314.49 | F7: 66559 | G7: 32 | H7: 45457 | I7: Theatrical Film Distribution / WDSMPI
A8: =IF(B8<>"",ROWS($B$6:B8),"") -> 3 | B8: Deadpool ir Ernis | C8: Deadpool & Wolverine | D8: US | E8: 303717.11 | F8: 37565 | G8: 15 | H8: 45499 | I8: Theatrical Film Distribution / WDSMPI
A9: =IF(B9<>"",ROWS($B$6:B9),"") -> 4 | B9: Tylos zona. Pirmoji diena | C9: A Quiet Place: Day One | D9: US | E9: 128968.86 | F9: 18702 | G9: 17 | H9: 45471 | I9: Dukine Film Distribution / Paramount Pictures
A10: =IF(B10<>"",ROWS($B$6:B10),"") -> 5 | B10: Sielų kolekcionierius | C10: Longlegs | D10: US | E10: 97845.76 | F10: 14005 | G10: 16 | H10: 2024-07-19 | I10: ACME Film
A11: =IF(B11<>"",ROWS($B$6:B11),"") -> 6 | B11: Tornadų medžiotojai | C11: Twisters | D11: US | E11: 66988.14 | F11: 9391 | G11: 14 | H11: 2024-07-19 | I11: ACME Film / WB
A12: =IF(B12<>"",ROWS($B$6:B12),"") -> 7 | B12: Malonės rūšys | C12: Kinds of Kindness | D12: US | E12: 45188.79 | F12: 6728 | G12: 17 | H12: 45478 | I12: Theatrical Film Distribution / WDSMPI
A13: =IF(B13<>"",ROWS($B$6:B13),"") -> 8 | B13: Pašėlę vyrukai: viskas arba nieko | C13: Bad Boys: Ride Or Die | D13: US | E13: 38751.74 | F13: 5797 | G13: 11 | H13: 45450 | I13: ACME Film / SONY
A14: =IF(B14<>"",ROWS($B$6:B14),"") -> 9 | B14: Nuskraidink mane į mėnulį | C14: Fly Me to the Moon | D14: US | E14: 36575.81 | F14: 5988 | G14: 20 | H14: 45485 | I14: ACME Film / SONY
A15: =IF(B15<>"",ROWS($B$6:B15),"") -> 10 | B15: Garfildas | C15: The Garfield Movie | D15: US | E15: 34369.31 | F15: 6586 | G15: 14 | H15: 45436 | I15: ACME Film / SONY
A16: =IF(B16<>"",ROWS($B$6:B16),"") -> 11 | B16: Egzorcizmas | C16: The Exorcism | D16: US | E16: 32217 | F16: 4715 | G16: 13 | H16: 45478 | I16: Garsų pasaulio įrašai
A17: =IF(B17<>"",ROWS($B$6:B17),"") -> 12 | B17: Baikeriai | C17: Bikeriders | D17: US | E17: 21772.82 | F17: 3364 | G17: 17 | H17: 45485 | I17: Dukine Film Distribution / Universal Pictures
A18: =IF(B18<>"",ROWS($B$6:B18),"") -> 13 | B18: Afrika Pandastika | C18: Panda Bear in Africa | D18: DK, NL, FR, DE, EE, CN | E18: 20855.62 | F18: 4024 | G18: 16 | H18: 45499 | I18: Adastra Cinema
A19: =IF(B19<>"",ROWS($B$6:B19),"") -> 14 | B19: Paslapčių traukinys | C19: A Mystery on the Cattle Hill Express | D19: NO | E19: 10554 | F19: 2267 | G19: 14 | H19: 45492 | I19: Garsų pasaulio įrašai
A20: =IF(B20<>"",ROWS($B$6:B20),"") -> 15 | B20: Kitąmet tuo pačiu laiku | C20: This Time Next Year | D20: UK | E20: 8560 | F20: 1426 | G20: 14 | H20: 45471 | I20: Garsų pasaulio įrašai
